BEGIN:VCALENDAR
VERSION:2.0
PRODID:-//Hanwell Park Academy - ECPv6.15.20//NONSGML v1.0//EN
CALSCALE:GREGORIAN
METHOD:PUBLISH
X-WR-CALNAME:Hanwell Park Academy
X-ORIGINAL-URL:https://hanwell.nbed.ca
X-WR-CALDESC:Events for Hanwell Park Academy
REFRESH-INTERVAL;VALUE=DURATION:PT1H
X-Robots-Tag:noindex
X-PUBLISHED-TTL:PT1H
BEGIN:VTIMEZONE
TZID:America/Halifax
BEGIN:DAYLIGHT
TZOFFSETFROM:-0400
TZOFFSETTO:-0300
TZNAME:ADT
DTSTART:20240310T060000
END:DAYLIGHT
BEGIN:STANDARD
TZOFFSETFROM:-0300
TZOFFSETTO:-0400
TZNAME:AST
DTSTART:20241103T050000
END:STANDARD
BEGIN:DAYLIGHT
TZOFFSETFROM:-0400
TZOFFSETTO:-0300
TZNAME:ADT
DTSTART:20250309T060000
END:DAYLIGHT
BEGIN:STANDARD
TZOFFSETFROM:-0300
TZOFFSETTO:-0400
TZNAME:AST
DTSTART:20251102T050000
END:STANDARD
BEGIN:DAYLIGHT
TZOFFSETFROM:-0400
TZOFFSETTO:-0300
TZNAME:ADT
DTSTART:20260308T060000
END:DAYLIGHT
BEGIN:STANDARD
TZOFFSETFROM:-0300
TZOFFSETTO:-0400
TZNAME:AST
DTSTART:20261101T050000
END:STANDARD
END:VTIMEZONE
BEGIN:VEVENT
DTSTART;TZID=America/Halifax:20250331T143000
DTEND;TZID=America/Halifax:20250331T160000
DTSTAMP:20260420T073633
CREATED:20250326T162829Z
LAST-MODIFIED:20250326T162831Z
UID:10000732-1743431400-1743436800@hanwell.nbed.ca
SUMMARY:Boys Volleyball Practice
DESCRIPTION:
URL:https://hanwell.nbed.ca/calendar/boys-volleyball-practice-22/2025-03-31/
CATEGORIES:Athletics
END:VEVENT
BEGIN:VEVENT
DTSTART;TZID=America/Halifax:20250329T100000
DTEND;TZID=America/Halifax:20250330T170000
DTSTAMP:20260420T073633
CREATED:20250324T110859Z
LAST-MODIFIED:20250324T110900Z
UID:10000726-1743242400-1743354000@hanwell.nbed.ca
SUMMARY:Girls Volleyball (Black) Tournament at Nasis
DESCRIPTION:Schedule to be determined
URL:https://hanwell.nbed.ca/calendar/girls-volleyball-black-tournament-at-nasis/
CATEGORIES:Athletics
END:VEVENT
BEGIN:VEVENT
DTSTART;TZID=America/Halifax:20250327T180000
DTEND;TZID=America/Halifax:20250327T193000
DTSTAMP:20260420T073633
CREATED:20250323T175537Z
LAST-MODIFIED:20250327T175133Z
UID:10000708-1743098400-1743103800@hanwell.nbed.ca
SUMMARY:Postponed Girls Volleyball (Green) Match at ELE
DESCRIPTION:
URL:https://hanwell.nbed.ca/calendar/girls-volleyball-green-match-at-ele/
CATEGORIES:Athletics
END:VEVENT
BEGIN:VEVENT
DTSTART;TZID=America/Halifax:20250327T170000
DTEND;TZID=America/Halifax:20250327T183000
DTSTAMP:20260420T073633
CREATED:20250323T181000Z
LAST-MODIFIED:20250327T175200Z
UID:10000720-1743094800-1743100200@hanwell.nbed.ca
SUMMARY:Postponed Boys Volleyball Match vs George St. at HPA
DESCRIPTION:
URL:https://hanwell.nbed.ca/calendar/boys-volleyball-match-vs-george-st-at-hpa/
CATEGORIES:Athletics
END:VEVENT
BEGIN:VEVENT
DTSTART;TZID=America/Halifax:20250327T141500
DTEND;TZID=America/Halifax:20250327T160000
DTSTAMP:20260420T073633
CREATED:20250326T222148Z
LAST-MODIFIED:20250326T222150Z
UID:10000735-1743084900-1743091200@hanwell.nbed.ca
SUMMARY:Girls Volleyball (Black) Practice
DESCRIPTION:
URL:https://hanwell.nbed.ca/calendar/girls-volleyball-black-practice-2/
END:VEVENT
BEGIN:VEVENT
DTSTART;TZID=America/Halifax:20250326T170000
DTEND;TZID=America/Halifax:20250326T183000
DTSTAMP:20260420T073633
CREATED:20250323T180341Z
LAST-MODIFIED:20250323T180342Z
UID:10000714-1743008400-1743013800@hanwell.nbed.ca
SUMMARY:Girls Volleyball (Black) Match vs GSMS at HPA
DESCRIPTION:
URL:https://hanwell.nbed.ca/calendar/girls-volleyball-black-match-vs-gsms-at-hpa/
CATEGORIES:Athletics
END:VEVENT
BEGIN:VEVENT
DTSTART;TZID=America/Halifax:20250326T161500
DTEND;TZID=America/Halifax:20250326T174500
DTSTAMP:20260420T073633
CREATED:20250320T111236Z
LAST-MODIFIED:20250320T111237Z
UID:10000704-1743005700-1743011100@hanwell.nbed.ca
SUMMARY:Girls Volleyball Practice (Green)
DESCRIPTION:
URL:https://hanwell.nbed.ca/calendar/girls-volleyball-practice-green-5/
CATEGORIES:Athletics
END:VEVENT
BEGIN:VEVENT
DTSTART;TZID=America/Halifax:20250325T160000
DTEND;TZID=America/Halifax:20250325T174500
DTSTAMP:20260420T073633
CREATED:20250320T111444Z
LAST-MODIFIED:20250320T111446Z
UID:10000705-1742918400-1742924700@hanwell.nbed.ca
SUMMARY:Girls Volleyball Practice (Black)
DESCRIPTION:
URL:https://hanwell.nbed.ca/calendar/girls-volleyball-practice-black-3/
CATEGORIES:Athletics
END:VEVENT
BEGIN:VEVENT
DTSTART;TZID=America/Halifax:20250325T143000
DTEND;TZID=America/Halifax:20250325T160000
DTSTAMP:20260420T073633
CREATED:20250320T111148Z
LAST-MODIFIED:20250320T111149Z
UID:10000703-1742913000-1742918400@hanwell.nbed.ca
SUMMARY:Girls Volleyball Practice (Green)
DESCRIPTION:
URL:https://hanwell.nbed.ca/calendar/girls-volleyball-practice-green-4/
CATEGORIES:Athletics
END:VEVENT
BEGIN:VEVENT
DTSTART;TZID=America/Halifax:20250324T143000
DTEND;TZID=America/Halifax:20250324T160000
DTSTAMP:20260420T073633
CREATED:20250320T103925Z
LAST-MODIFIED:20250320T103927Z
UID:10000702-1742826600-1742832000@hanwell.nbed.ca
SUMMARY:Boys Volleyball Practice
DESCRIPTION:
URL:https://hanwell.nbed.ca/calendar/boys-volleyball-practice-20/
CATEGORIES:Athletics
END:VEVENT
BEGIN:VEVENT
DTSTART;TZID=America/Halifax:20250321T070000
DTEND;TZID=America/Halifax:20250321T080000
DTSTAMP:20260420T073633
CREATED:20250320T154727Z
LAST-MODIFIED:20250320T154729Z
UID:10000707-1742540400-1742544000@hanwell.nbed.ca
SUMMARY:Girls Volleyball (Black) Optional Practice
DESCRIPTION:
URL:https://hanwell.nbed.ca/calendar/girls-volleyball-black-optional-practice/
CATEGORIES:Athletics
END:VEVENT
BEGIN:VEVENT
DTSTART;TZID=America/Halifax:20250320T170000
DTEND;TZID=America/Halifax:20250320T183000
DTSTAMP:20260420T073633
CREATED:20250318T104741Z
LAST-MODIFIED:20250318T104743Z
UID:10000699-1742490000-1742495400@hanwell.nbed.ca
SUMMARY:Basketball Skills and Drills
DESCRIPTION:
URL:https://hanwell.nbed.ca/calendar/basketball-skills-and-drills-2/
CATEGORIES:Athletics
END:VEVENT
BEGIN:VEVENT
DTSTART;TZID=America/Halifax:20250320T160000
DTEND;TZID=America/Halifax:20250320T173000
DTSTAMP:20260420T073633
CREATED:20250318T104515Z
LAST-MODIFIED:20250318T104517Z
UID:10000698-1742486400-1742491800@hanwell.nbed.ca
SUMMARY:Boys Volleyball Practice
DESCRIPTION:
URL:https://hanwell.nbed.ca/calendar/boys-volleyball-practice-19/
CATEGORIES:Athletics
END:VEVENT
BEGIN:VEVENT
DTSTART;TZID=America/Halifax:20250319T161500
DTEND;TZID=America/Halifax:20250319T174500
DTSTAMP:20260420T073633
CREATED:20250318T145200Z
LAST-MODIFIED:20250318T145202Z
UID:10000700-1742400900-1742406300@hanwell.nbed.ca
SUMMARY:Girls Volleyball Practice (Green Team)
DESCRIPTION:
URL:https://hanwell.nbed.ca/calendar/girls-volleyball-practice-green-team/
CATEGORIES:Athletics
END:VEVENT
BEGIN:VEVENT
DTSTART;TZID=America/Halifax:20250319T160000
DTEND;TZID=America/Halifax:20250319T174500
DTSTAMP:20260420T073633
CREATED:20250318T145922Z
LAST-MODIFIED:20250318T145924Z
UID:10000701-1742400000-1742406300@hanwell.nbed.ca
SUMMARY:Girls Volleyball Practice (Black)
DESCRIPTION:
URL:https://hanwell.nbed.ca/calendar/girls-volleyball-practice-black-2/
CATEGORIES:Athletics
END:VEVENT
BEGIN:VEVENT
DTSTART;TZID=America/Halifax:20250318T161500
DTEND;TZID=America/Halifax:20250318T180000
DTSTAMP:20260420T073633
CREATED:20250307T181627Z
LAST-MODIFIED:20250314T152229Z
UID:10000697-1742314500-1742320800@hanwell.nbed.ca
SUMMARY:Girls Volleyball Practice (Black & Green Teams)
DESCRIPTION:Team lists will be posted on Monday March 17 outside Gym 2. All players on those lists should report to practice on Tuesday.
URL:https://hanwell.nbed.ca/calendar/girls-volleyball-tryout-if-necessary/
CATEGORIES:Athletics
END:VEVENT
BEGIN:VEVENT
DTSTART;TZID=America/Halifax:20250317T143000
DTEND;TZID=America/Halifax:20250317T160000
DTSTAMP:20260420T073633
CREATED:20250307T181535Z
LAST-MODIFIED:20250312T173016Z
UID:10000696-1742221800-1742227200@hanwell.nbed.ca
SUMMARY:Boys Volleyball Tryout 3
DESCRIPTION:
URL:https://hanwell.nbed.ca/calendar/boys-volleyball-tryouts-if-necessary/
CATEGORIES:Athletics
END:VEVENT
BEGIN:VEVENT
DTSTART;TZID=America/Halifax:20250312T161500
DTEND;TZID=America/Halifax:20250312T180000
DTSTAMP:20260420T073633
CREATED:20250227T113211Z
LAST-MODIFIED:20250227T113213Z
UID:10000690-1741796100-1741802400@hanwell.nbed.ca
SUMMARY:Girls Volleyball Tryout
DESCRIPTION:
URL:https://hanwell.nbed.ca/calendar/girls-volleyball-tryout/2025-03-12/
CATEGORIES:Athletics
END:VEVENT
BEGIN:VEVENT
DTSTART;TZID=America/Halifax:20250312T143000
DTEND;TZID=America/Halifax:20250312T160000
DTSTAMP:20260420T073633
CREATED:20250227T113031Z
LAST-MODIFIED:20250227T113033Z
UID:10000688-1741789800-1741795200@hanwell.nbed.ca
SUMMARY:Boys Volleyball Tryouts
DESCRIPTION:
URL:https://hanwell.nbed.ca/calendar/boys-volleyball-tryouts-2/2025-03-12/
CATEGORIES:Athletics
END:VEVENT
BEGIN:VEVENT
DTSTART;TZID=America/Halifax:20250311T161500
DTEND;TZID=America/Halifax:20250311T180000
DTSTAMP:20260420T073633
CREATED:20250227T113211Z
LAST-MODIFIED:20250227T113213Z
UID:10000689-1741709700-1741716000@hanwell.nbed.ca
SUMMARY:Girls Volleyball Tryout
DESCRIPTION:
URL:https://hanwell.nbed.ca/calendar/girls-volleyball-tryout/2025-03-11/
CATEGORIES:Athletics
END:VEVENT
BEGIN:VEVENT
DTSTART;TZID=America/Halifax:20250311T143000
DTEND;TZID=America/Halifax:20250311T160000
DTSTAMP:20260420T073633
CREATED:20250227T113031Z
LAST-MODIFIED:20250227T113033Z
UID:10000687-1741703400-1741708800@hanwell.nbed.ca
SUMMARY:Boys Volleyball Tryouts
DESCRIPTION:
URL:https://hanwell.nbed.ca/calendar/boys-volleyball-tryouts-2/2025-03-11/
CATEGORIES:Athletics
END:VEVENT
BEGIN:VEVENT
DTSTART;TZID=America/Halifax:20250303T080000
DTEND;TZID=America/Halifax:20250307T170000
DTSTAMP:20260420T073633
CREATED:20250225T205727Z
LAST-MODIFIED:20250225T205730Z
UID:10000685-1740988800-1741366800@hanwell.nbed.ca
SUMMARY:March Break
DESCRIPTION:
URL:https://hanwell.nbed.ca/calendar/march-break-4/
END:VEVENT
BEGIN:VEVENT
DTSTART;TZID=America/Halifax:20250227T170000
DTEND;TZID=America/Halifax:20250227T183000
DTSTAMP:20260420T073633
CREATED:20250224T165014Z
LAST-MODIFIED:20250224T165016Z
UID:10000684-1740675600-1740681000@hanwell.nbed.ca
SUMMARY:Basketball Skills and Drills
DESCRIPTION:
URL:https://hanwell.nbed.ca/calendar/basketball-skills-and-drills/
CATEGORIES:Athletics
END:VEVENT
BEGIN:VEVENT
DTSTART;TZID=America/Halifax:20250226T180000
DTEND;TZID=America/Halifax:20250226T193000
DTSTAMP:20260420T073633
CREATED:20250130T213417Z
LAST-MODIFIED:20250130T213419Z
UID:10000656-1740592800-1740598200@hanwell.nbed.ca
SUMMARY:PSSC Meeting
DESCRIPTION:The HPA PSSC meetings are open meetings.  Parents are welcome to stop in to observe the meeting.
URL:https://hanwell.nbed.ca/calendar/pssc-meeting/
END:VEVENT
BEGIN:VEVENT
DTSTART;TZID=America/Halifax:20250226T163000
DTEND;TZID=America/Halifax:20250226T183000
DTSTAMP:20260420T073633
CREATED:20250206T113145Z
LAST-MODIFIED:20250206T113147Z
UID:10000676-1740587400-1740594600@hanwell.nbed.ca
SUMMARY:Girls Badminton Districts at HPA
DESCRIPTION:
URL:https://hanwell.nbed.ca/calendar/girls-badminton-districts-at-hpa-2/
CATEGORIES:Athletics
END:VEVENT
BEGIN:VEVENT
DTSTART;TZID=America/Halifax:20250226T080000
DTEND;TZID=America/Halifax:20250226T140000
DTSTAMP:20260420T073633
CREATED:20250130T213858Z
LAST-MODIFIED:20250130T213900Z
UID:10000658-1740556800-1740578400@hanwell.nbed.ca
SUMMARY:Pink Shirt Day at HPA
DESCRIPTION:Students are encouraged to wear pink today to show the importance of kindness and compassion for others.
URL:https://hanwell.nbed.ca/calendar/pink-shirt-day-at-hpa/
END:VEVENT
BEGIN:VEVENT
DTSTART;TZID=America/Halifax:20250224T161500
DTEND;TZID=America/Halifax:20250224T183000
DTSTAMP:20260420T073633
CREATED:20250211T113303Z
LAST-MODIFIED:20250211T113304Z
UID:10000681-1740413700-1740421800@hanwell.nbed.ca
SUMMARY:Boys Badminton Districts At Central New Brunswick Academy
DESCRIPTION:
URL:https://hanwell.nbed.ca/calendar/boys-badminton-districts-at-central-new-brunswick-academy/
CATEGORIES:Athletics
END:VEVENT
BEGIN:VEVENT
DTSTART;TZID=America/Halifax:20250224T080000
DTEND;TZID=America/Halifax:20250228T143000
DTSTAMP:20260420T073633
CREATED:20250130T214057Z
LAST-MODIFIED:20250130T214059Z
UID:10000660-1740384000-1740753000@hanwell.nbed.ca
SUMMARY:Winter Carnival at HPA
DESCRIPTION:
URL:https://hanwell.nbed.ca/calendar/winter-carnival-at-hpa/
END:VEVENT
BEGIN:VEVENT
DTSTART;TZID=America/Halifax:20250220T170000
DTEND;TZID=America/Halifax:20250220T183000
DTSTAMP:20260420T073633
CREATED:20250218T134235Z
LAST-MODIFIED:20250218T134236Z
UID:10000683-1740070800-1740076200@hanwell.nbed.ca
SUMMARY:Basketball Skills and Drills (Middle Level)
DESCRIPTION:
URL:https://hanwell.nbed.ca/calendar/basketball-skills-and-drills-middle-level-4/
CATEGORIES:Athletics
END:VEVENT
BEGIN:VEVENT
DTSTART;TZID=America/Halifax:20250219T160000
DTEND;TZID=America/Halifax:20250219T173000
DTSTAMP:20260420T073633
CREATED:20250205T113135Z
LAST-MODIFIED:20250205T113208Z
UID:10000664-1739980800-1739986200@hanwell.nbed.ca
SUMMARY:Boys Match Vs Harvey at HPA
DESCRIPTION:
URL:https://hanwell.nbed.ca/calendar/boys-badminton-practice-16/
CATEGORIES:Athletics
END:VEVENT
END:VCALENDAR