BEGIN:VCALENDAR
VERSION:2.0
PRODID:-//Hanwell Park Academy - ECPv6.15.20//NONSGML v1.0//EN
CALSCALE:GREGORIAN
METHOD:PUBLISH
X-WR-CALNAME:Hanwell Park Academy
X-ORIGINAL-URL:https://hanwell.nbed.ca
X-WR-CALDESC:Events for Hanwell Park Academy
REFRESH-INTERVAL;VALUE=DURATION:PT1H
X-Robots-Tag:noindex
X-PUBLISHED-TTL:PT1H
BEGIN:VTIMEZONE
TZID:America/Halifax
BEGIN:DAYLIGHT
TZOFFSETFROM:-0400
TZOFFSETTO:-0300
TZNAME:ADT
DTSTART:20240310T060000
END:DAYLIGHT
BEGIN:STANDARD
TZOFFSETFROM:-0300
TZOFFSETTO:-0400
TZNAME:AST
DTSTART:20241103T050000
END:STANDARD
BEGIN:DAYLIGHT
TZOFFSETFROM:-0400
TZOFFSETTO:-0300
TZNAME:ADT
DTSTART:20250309T060000
END:DAYLIGHT
BEGIN:STANDARD
TZOFFSETFROM:-0300
TZOFFSETTO:-0400
TZNAME:AST
DTSTART:20251102T050000
END:STANDARD
BEGIN:DAYLIGHT
TZOFFSETFROM:-0400
TZOFFSETTO:-0300
TZNAME:ADT
DTSTART:20260308T060000
END:DAYLIGHT
BEGIN:STANDARD
TZOFFSETFROM:-0300
TZOFFSETTO:-0400
TZNAME:AST
DTSTART:20261101T050000
END:STANDARD
END:VTIMEZONE
BEGIN:VEVENT
DTSTART;TZID=America/Halifax:20250620T080000
DTEND;TZID=America/Halifax:20250620T141500
DTSTAMP:20260419T235546
CREATED:20250502T192753Z
LAST-MODIFIED:20250502T192754Z
UID:10000786-1750406400-1750428900@hanwell.nbed.ca
SUMMARY:Last Day of School
DESCRIPTION:
URL:https://hanwell.nbed.ca/calendar/last-day-of-school-2/
END:VEVENT
BEGIN:VEVENT
DTSTART;TZID=America/Halifax:20250616T170000
DTEND;TZID=America/Halifax:20250616T183000
DTSTAMP:20260419T235546
CREATED:20250616T095404Z
LAST-MODIFIED:20250616T095406Z
UID:10000807-1750093200-1750098600@hanwell.nbed.ca
SUMMARY:Basketball Skills & Drills - Final Session
DESCRIPTION:
URL:https://hanwell.nbed.ca/calendar/basketball-skills-drills-final-session/
END:VEVENT
BEGIN:VEVENT
DTSTART;TZID=America/Halifax:20250613T120000
DTEND;TZID=America/Halifax:20250613T130000
DTSTAMP:20260419T235546
CREATED:20250502T192938Z
LAST-MODIFIED:20250609T170032Z
UID:10000787-1749816000-1749819600@hanwell.nbed.ca
SUMMARY:Cancelled - Family Picnic (Rain or Shine)
DESCRIPTION:Families are welcome to come to the school to have lunch with their children.
URL:https://hanwell.nbed.ca/calendar/family-picnic-rain-or-shine/
END:VEVENT
BEGIN:VEVENT
DTSTART;TZID=America/Halifax:20250609T170000
DTEND;TZID=America/Halifax:20250609T183000
DTSTAMP:20260419T235546
CREATED:20250609T101944Z
LAST-MODIFIED:20250609T101946Z
UID:10000806-1749488400-1749493800@hanwell.nbed.ca
SUMMARY:Basketball Skills and Drills
DESCRIPTION:
URL:https://hanwell.nbed.ca/calendar/basketball-skills-and-drills-11/
CATEGORIES:Athletics
END:VEVENT
BEGIN:VEVENT
DTSTART;TZID=America/Halifax:20250605T170000
DTEND;TZID=America/Halifax:20250605T203000
DTSTAMP:20260419T235546
CREATED:20250502T193131Z
LAST-MODIFIED:20250515T235036Z
UID:10000788-1749142800-1749155400@hanwell.nbed.ca
SUMMARY:School Dance
DESCRIPTION:Students in Graded 3-5 have their dance from 5:00 PM – 6:30 PM and students in Grades 6-8 have their dance from 7:00 PM-8:30 PM
URL:https://hanwell.nbed.ca/calendar/school-dance-2/
END:VEVENT
BEGIN:VEVENT
DTSTART;TZID=America/Halifax:20250604T093000
DTEND;TZID=America/Halifax:20250604T173000
DTSTAMP:20260419T235546
CREATED:20250507T165047Z
LAST-MODIFIED:20250507T165048Z
UID:10000794-1749029400-1749058200@hanwell.nbed.ca
SUMMARY:Track & Field Districts (Middle Level) at Nasis Middle School
DESCRIPTION:
URL:https://hanwell.nbed.ca/calendar/track-field-districts-middle-level-at-nasis-middle-school/
CATEGORIES:Athletics
END:VEVENT
BEGIN:VEVENT
DTSTART;TZID=America/Halifax:20250604T090000
DTEND;TZID=America/Halifax:20250604T170000
DTSTAMP:20260419T235546
CREATED:20250416T150451Z
LAST-MODIFIED:20250416T150453Z
UID:10000775-1749027600-1749056400@hanwell.nbed.ca
SUMMARY:Track and Field Districts (Middle Level) at Nasis Middle School
DESCRIPTION:
URL:https://hanwell.nbed.ca/calendar/track-and-field-districts-middle-level-at-nasis-middle-school/
END:VEVENT
BEGIN:VEVENT
DTSTART;TZID=America/Halifax:20250602T170000
DTEND;TZID=America/Halifax:20250602T183000
DTSTAMP:20260419T235546
CREATED:20250529T111831Z
LAST-MODIFIED:20250529T111833Z
UID:10000805-1748883600-1748889000@hanwell.nbed.ca
SUMMARY:Basketball Skills and Drills
DESCRIPTION:
URL:https://hanwell.nbed.ca/calendar/basketball-skills-and-drills-10/
CATEGORIES:Athletics
END:VEVENT
BEGIN:VEVENT
DTSTART;TZID=America/Halifax:20250531T100000
DTEND;TZID=America/Halifax:20250531T100000
DTSTAMP:20260419T235546
CREATED:20250502T192634Z
LAST-MODIFIED:20250502T192635Z
UID:10000785-1748685600-1748685600@hanwell.nbed.ca
SUMMARY:Friends of Hanwell Spring Fling
DESCRIPTION:Join us for a fun-filled day at the school.  All funds raised will go directly back to the school.
URL:https://hanwell.nbed.ca/calendar/friends-of-hanwell-spring-fling/
END:VEVENT
BEGIN:VEVENT
DTSTART;TZID=America/Halifax:20250529T123000
DTEND;TZID=America/Halifax:20250529T133000
DTSTAMP:20260419T235546
CREATED:20250509T225441Z
LAST-MODIFIED:20250509T225442Z
UID:10000799-1748521800-1748525400@hanwell.nbed.ca
SUMMARY:Kindergarten Orientation 2025-2026
DESCRIPTION:
URL:https://hanwell.nbed.ca/calendar/kindergarten-orientation-2025-2026/
END:VEVENT
BEGIN:VEVENT
DTSTART;TZID=America/Halifax:20250528T143000
DTEND;TZID=America/Halifax:20250528T154500
DTSTAMP:20260419T235546
CREATED:20250522T103715Z
LAST-MODIFIED:20250522T103717Z
UID:10000803-1748442600-1748447100@hanwell.nbed.ca
SUMMARY:Track and Field (Middle Level)
DESCRIPTION:
URL:https://hanwell.nbed.ca/calendar/track-and-field-middle-level/
CATEGORIES:Athletics
END:VEVENT
BEGIN:VEVENT
DTSTART;TZID=America/Halifax:20250527T080000
DTEND;TZID=America/Halifax:20250527T110000
DTSTAMP:20260419T235546
CREATED:20250409T011106Z
LAST-MODIFIED:20250409T011108Z
UID:10000764-1748332800-1748343600@hanwell.nbed.ca
SUMMARY:Grade 7 Provincial Mathematics Assessments
DESCRIPTION:
URL:https://hanwell.nbed.ca/calendar/grade-7-provincial-mathematics-assessments/
END:VEVENT
BEGIN:VEVENT
DTSTART;TZID=America/Halifax:20250526T170000
DTEND;TZID=America/Halifax:20250526T183000
DTSTAMP:20260419T235546
CREATED:20250523T111013Z
LAST-MODIFIED:20250523T111015Z
UID:10000804-1748278800-1748284200@hanwell.nbed.ca
SUMMARY:Basketball Skills and Drills (Grades 5-8)
DESCRIPTION:
URL:https://hanwell.nbed.ca/calendar/basketball-skills-and-drills-grades-5-8-2/
CATEGORIES:Athletics
END:VEVENT
BEGIN:VEVENT
DTSTART;TZID=America/Halifax:20250522T170000
DTEND;TZID=America/Halifax:20250522T183000
DTSTAMP:20260419T235546
CREATED:20250521T102235Z
LAST-MODIFIED:20250521T102237Z
UID:10000802-1747933200-1747938600@hanwell.nbed.ca
SUMMARY:Basketball Skills and Drills
DESCRIPTION:
URL:https://hanwell.nbed.ca/calendar/basketball-skills-and-drills-9/
CATEGORIES:Athletics
END:VEVENT
BEGIN:VEVENT
DTSTART;TZID=America/Halifax:20250521T143000
DTEND;TZID=America/Halifax:20250521T154500
DTSTAMP:20260419T235546
CREATED:20250514T131700Z
LAST-MODIFIED:20250514T131702Z
UID:10000801-1747837800-1747842300@hanwell.nbed.ca
SUMMARY:Track & Field Practice (Middle Level)
DESCRIPTION:
URL:https://hanwell.nbed.ca/calendar/track-field-practice-middle-level/
CATEGORIES:Athletics
END:VEVENT
BEGIN:VEVENT
DTSTART;TZID=America/Halifax:20250520T080000
DTEND;TZID=America/Halifax:20250520T110000
DTSTAMP:20260419T235546
CREATED:20250409T011015Z
LAST-MODIFIED:20250409T011016Z
UID:10000763-1747728000-1747738800@hanwell.nbed.ca
SUMMARY:Grade 5 Mathematics and Grade 6 Provincial Scientific Literacy Assessments
DESCRIPTION:
URL:https://hanwell.nbed.ca/calendar/grade-5-mathematics-and-grade-6-provincial-scientific-literacy-assessments/
END:VEVENT
BEGIN:VEVENT
DTSTART;TZID=America/Halifax:20250519T080000
DTEND;TZID=America/Halifax:20250519T141500
DTSTAMP:20260419T235546
CREATED:20250409T010936Z
LAST-MODIFIED:20250409T010937Z
UID:10000762-1747641600-1747664100@hanwell.nbed.ca
SUMMARY:Victoria Day - No School for Staff/Students
DESCRIPTION:
URL:https://hanwell.nbed.ca/calendar/victoria-day-no-school-for-staff-students/
END:VEVENT
BEGIN:VEVENT
DTSTART;TZID=America/Halifax:20250515T170000
DTEND;TZID=America/Halifax:20250515T183000
DTSTAMP:20260419T235546
CREATED:20250513T105902Z
LAST-MODIFIED:20250513T105903Z
UID:10000800-1747328400-1747333800@hanwell.nbed.ca
SUMMARY:Basketball Skills and Drills
DESCRIPTION:
URL:https://hanwell.nbed.ca/calendar/basketball-skills-and-drills-8/
CATEGORIES:Athletics
END:VEVENT
BEGIN:VEVENT
DTSTART;TZID=America/Halifax:20250514T183000
DTEND;TZID=America/Halifax:20250514T203000
DTSTAMP:20260419T235546
CREATED:20250506T111539Z
LAST-MODIFIED:20250512T174759Z
UID:10000790-1747247400-1747254600@hanwell.nbed.ca
SUMMARY:Boys Volleyball Districts at Stanley School
DESCRIPTION:Boys play in the semifinal at 6:30 and then in the final at 7:30 if they win their first match.
URL:https://hanwell.nbed.ca/calendar/boys-volleyball-districts-at-stanley-school/
END:VEVENT
BEGIN:VEVENT
DTSTART;TZID=America/Halifax:20250514T173000
DTEND;TZID=America/Halifax:20250514T193000
DTSTAMP:20260419T235546
CREATED:20250506T111725Z
LAST-MODIFIED:20250508T170256Z
UID:10000791-1747243800-1747251000@hanwell.nbed.ca
SUMMARY:Girls Volleyball (Green) Districts at CNBA
DESCRIPTION:HPA plays in semifinal 1 at 5:30. If they win\, they play in the final at 6:30.
URL:https://hanwell.nbed.ca/calendar/girls-volleyball-green-districts-at-mcadam-and-keswick-valley/
CATEGORIES:Athletics
END:VEVENT
BEGIN:VEVENT
DTSTART;TZID=America/Halifax:20250514T163000
DTEND;TZID=America/Halifax:20250514T180000
DTSTAMP:20260419T235546
CREATED:20250509T131140Z
LAST-MODIFIED:20250509T131141Z
UID:10000798-1747240200-1747245600@hanwell.nbed.ca
SUMMARY:Girls Volleyball (Black) Practice
DESCRIPTION:
URL:https://hanwell.nbed.ca/calendar/girls-volleyball-black-practice-12/
CATEGORIES:Athletics
END:VEVENT
BEGIN:VEVENT
DTSTART;TZID=America/Halifax:20250513T163000
DTEND;TZID=America/Halifax:20250513T180000
DTSTAMP:20260419T235546
CREATED:20250509T103519Z
LAST-MODIFIED:20250509T111129Z
UID:10000797-1747153800-1747159200@hanwell.nbed.ca
SUMMARY:Girls Volleyball (Green) Practice
DESCRIPTION:
URL:https://hanwell.nbed.ca/calendar/girls-green-volleyball-practice/
CATEGORIES:Athletics
END:VEVENT
BEGIN:VEVENT
DTSTART;TZID=America/Halifax:20250513T160000
DTEND;TZID=America/Halifax:20250513T173000
DTSTAMP:20260419T235546
CREATED:20250508T155147Z
LAST-MODIFIED:20250508T155149Z
UID:10000796-1747152000-1747157400@hanwell.nbed.ca
SUMMARY:Boys Volleyball Practice
DESCRIPTION:
URL:https://hanwell.nbed.ca/calendar/boys-volleyball-practice-25/
CATEGORIES:Athletics
END:VEVENT
BEGIN:VEVENT
DTSTART;TZID=America/Halifax:20250513T143000
DTEND;TZID=America/Halifax:20250513T154500
DTSTAMP:20260419T235546
CREATED:20250507T121502Z
LAST-MODIFIED:20250513T102045Z
UID:10000793-1747146600-1747151100@hanwell.nbed.ca
SUMMARY:Track & Field (Middle Level) Practice
DESCRIPTION:
URL:https://hanwell.nbed.ca/calendar/track-field-middle-level-practice/
CATEGORIES:Athletics
END:VEVENT
BEGIN:VEVENT
DTSTART;TZID=America/Halifax:20250513T080000
DTEND;TZID=America/Halifax:20250513T110000
DTSTAMP:20260419T235546
CREATED:20250409T010852Z
LAST-MODIFIED:20250409T010853Z
UID:10000761-1747123200-1747134000@hanwell.nbed.ca
SUMMARY:Grade 4 and Grade 8 Provincial Scientific Literacy Assessments
DESCRIPTION:
URL:https://hanwell.nbed.ca/calendar/grade-4-and-grade-8-provincial-scientific-literacy-assessments/
END:VEVENT
BEGIN:VEVENT
DTSTART;TZID=America/Halifax:20250512T080000
DTEND;TZID=America/Halifax:20250512T150000
DTSTAMP:20260419T235546
CREATED:20250409T010750Z
LAST-MODIFIED:20250409T010752Z
UID:10000760-1747036800-1747062000@hanwell.nbed.ca
SUMMARY:NBTA Branch Day/ No School for Students
DESCRIPTION:
URL:https://hanwell.nbed.ca/calendar/nbta-branch-day-no-school-for-students/
END:VEVENT
BEGIN:VEVENT
DTSTART;TZID=America/Halifax:20250508T173000
DTEND;TZID=America/Halifax:20250508T200000
DTSTAMP:20260419T235546
CREATED:20250505T105918Z
LAST-MODIFIED:20250507T150456Z
UID:10000789-1746725400-1746734400@hanwell.nbed.ca
SUMMARY:Girls Volleyball (Black) Districts at ELE
DESCRIPTION:Our team plays in a semifinal at 5:30pm in gym 2. If they win\, they will play the final at 6:30pm in gym 2.
URL:https://hanwell.nbed.ca/calendar/girls-volleyball-black-districts-at-ele/
CATEGORIES:Athletics
END:VEVENT
BEGIN:VEVENT
DTSTART;TZID=America/Halifax:20250507T183000
DTEND;TZID=America/Halifax:20250507T200000
DTSTAMP:20260419T235546
CREATED:20250404T112834Z
LAST-MODIFIED:20250404T112836Z
UID:10000745-1746642600-1746648000@hanwell.nbed.ca
SUMMARY:Girls Volleyball (Green) Match at CNBA
DESCRIPTION:
URL:https://hanwell.nbed.ca/calendar/girls-volleyball-green-match-at-cnba-2/
CATEGORIES:Athletics
END:VEVENT
BEGIN:VEVENT
DTSTART;TZID=America/Halifax:20250507T170000
DTEND;TZID=America/Halifax:20250507T183000
DTSTAMP:20260419T235546
CREATED:20250404T112658Z
LAST-MODIFIED:20250404T112659Z
UID:10000744-1746637200-1746642600@hanwell.nbed.ca
SUMMARY:Boys Volleyball Match at FCA (Unity Centre)
DESCRIPTION:
URL:https://hanwell.nbed.ca/calendar/boys-volleyball-match-at-fca-unity-centre-2/
CATEGORIES:Athletics
END:VEVENT
BEGIN:VEVENT
DTSTART;TZID=America/Halifax:20250507T163000
DTEND;TZID=America/Halifax:20250507T180000
DTSTAMP:20260419T235546
CREATED:20250506T131355Z
LAST-MODIFIED:20250506T131356Z
UID:10000792-1746635400-1746640800@hanwell.nbed.ca
SUMMARY:Girls Volleyball (Black) Practice
DESCRIPTION:
URL:https://hanwell.nbed.ca/calendar/girls-volleyball-black-practice-11/
CATEGORIES:Athletics
END:VEVENT
END:VCALENDAR