BEGIN:VCALENDAR
VERSION:2.0
PRODID:-//Hanwell Park Academy - ECPv6.15.20//NONSGML v1.0//EN
CALSCALE:GREGORIAN
METHOD:PUBLISH
X-ORIGINAL-URL:https://hanwell.nbed.ca
X-WR-CALDESC:Events for Hanwell Park Academy
REFRESH-INTERVAL;VALUE=DURATION:PT1H
X-Robots-Tag:noindex
X-PUBLISHED-TTL:PT1H
BEGIN:VTIMEZONE
TZID:America/Halifax
BEGIN:DAYLIGHT
TZOFFSETFROM:-0400
TZOFFSETTO:-0300
TZNAME:ADT
DTSTART:20220313T060000
END:DAYLIGHT
BEGIN:STANDARD
TZOFFSETFROM:-0300
TZOFFSETTO:-0400
TZNAME:AST
DTSTART:20221106T050000
END:STANDARD
BEGIN:DAYLIGHT
TZOFFSETFROM:-0400
TZOFFSETTO:-0300
TZNAME:ADT
DTSTART:20230312T060000
END:DAYLIGHT
BEGIN:STANDARD
TZOFFSETFROM:-0300
TZOFFSETTO:-0400
TZNAME:AST
DTSTART:20231105T050000
END:STANDARD
BEGIN:DAYLIGHT
TZOFFSETFROM:-0400
TZOFFSETTO:-0300
TZNAME:ADT
DTSTART:20240310T060000
END:DAYLIGHT
BEGIN:STANDARD
TZOFFSETFROM:-0300
TZOFFSETTO:-0400
TZNAME:AST
DTSTART:20241103T050000
END:STANDARD
BEGIN:DAYLIGHT
TZOFFSETFROM:-0400
TZOFFSETTO:-0300
TZNAME:ADT
DTSTART:20250309T060000
END:DAYLIGHT
BEGIN:STANDARD
TZOFFSETFROM:-0300
TZOFFSETTO:-0400
TZNAME:AST
DTSTART:20251102T050000
END:STANDARD
END:VTIMEZONE
BEGIN:VTIMEZONE
TZID:America/Moncton
BEGIN:DAYLIGHT
TZOFFSETFROM:-0400
TZOFFSETTO:-0300
TZNAME:ADT
DTSTART:20220313T060000
END:DAYLIGHT
BEGIN:STANDARD
TZOFFSETFROM:-0300
TZOFFSETTO:-0400
TZNAME:AST
DTSTART:20221106T050000
END:STANDARD
BEGIN:DAYLIGHT
TZOFFSETFROM:-0400
TZOFFSETTO:-0300
TZNAME:ADT
DTSTART:20230312T060000
END:DAYLIGHT
BEGIN:STANDARD
TZOFFSETFROM:-0300
TZOFFSETTO:-0400
TZNAME:AST
DTSTART:20231105T050000
END:STANDARD
BEGIN:DAYLIGHT
TZOFFSETFROM:-0400
TZOFFSETTO:-0300
TZNAME:ADT
DTSTART:20240310T060000
END:DAYLIGHT
BEGIN:STANDARD
TZOFFSETFROM:-0300
TZOFFSETTO:-0400
TZNAME:AST
DTSTART:20241103T050000
END:STANDARD
BEGIN:DAYLIGHT
TZOFFSETFROM:-0400
TZOFFSETTO:-0300
TZNAME:ADT
DTSTART:20250309T060000
END:DAYLIGHT
BEGIN:STANDARD
TZOFFSETFROM:-0300
TZOFFSETTO:-0400
TZNAME:AST
DTSTART:20251102T050000
END:STANDARD
END:VTIMEZONE
BEGIN:VEVENT
DTSTART;TZID=America/Halifax:20231204T144500
DTEND;TZID=America/Halifax:20231204T161500
DTSTAMP:20260421T111901
CREATED:20231119T191312Z
LAST-MODIFIED:20231119T191313Z
UID:10000347-1701701100-1701706500@hanwell.nbed.ca
SUMMARY:Boys Basketball Practice
DESCRIPTION:
URL:https://hanwell.nbed.ca/calendar/boys-basketball-practice-20/
CATEGORIES:Athletics
END:VEVENT
BEGIN:VEVENT
DTSTART;TZID=America/Halifax:20231205T070000
DTEND;TZID=America/Halifax:20231205T080000
DTSTAMP:20260421T111901
CREATED:20231106T142059Z
LAST-MODIFIED:20231106T142100Z
UID:10000323-1701759600-1701763200@hanwell.nbed.ca
SUMMARY:Middle School Girls Volleyball Skills and Drills
DESCRIPTION:
URL:https://hanwell.nbed.ca/calendar/middle-school-girls-volleyball-skills-and-drills-11/
CATEGORIES:Athletics
END:VEVENT
BEGIN:VEVENT
DTSTART;TZID=America/Halifax:20231205T144500
DTEND;TZID=America/Halifax:20231205T161500
DTSTAMP:20260421T111901
CREATED:20231201T121058Z
LAST-MODIFIED:20231201T121058Z
UID:10000354-1701787500-1701792900@hanwell.nbed.ca
SUMMARY:Girls Basketball Practice
DESCRIPTION:
URL:https://hanwell.nbed.ca/calendar/girls-basketball-practice-23/
CATEGORIES:Athletics
END:VEVENT
BEGIN:VEVENT
DTSTART;TZID=America/Halifax:20231206T144500
DTEND;TZID=America/Halifax:20231206T161500
DTSTAMP:20260421T111901
CREATED:20231119T191402Z
LAST-MODIFIED:20231119T191403Z
UID:10000348-1701873900-1701879300@hanwell.nbed.ca
SUMMARY:Boys Basketball Practice
DESCRIPTION:
URL:https://hanwell.nbed.ca/calendar/boys-basketball-practice-21/
CATEGORIES:Athletics
END:VEVENT
BEGIN:VEVENT
DTSTART;TZID=America/Halifax:20231207T163000
DTEND;TZID=America/Halifax:20231207T180000
DTSTAMP:20260421T111901
CREATED:20231110T154055Z
LAST-MODIFIED:20231110T154056Z
UID:10000331-1701966600-1701972000@hanwell.nbed.ca
SUMMARY:Boys Basketball Game versus ELE at HPA
DESCRIPTION:
URL:https://hanwell.nbed.ca/calendar/boys-basketball-game-versus-ele-at-hpa/
CATEGORIES:Athletics
END:VEVENT
BEGIN:VEVENT
DTSTART;TZID=America/Halifax:20231207T180000
DTEND;TZID=America/Halifax:20231207T193000
DTSTAMP:20260421T111901
CREATED:20231110T154413Z
LAST-MODIFIED:20231110T154414Z
UID:10000335-1701972000-1701977400@hanwell.nbed.ca
SUMMARY:Girls Basketball Game versus McAdam at HPA
DESCRIPTION:
URL:https://hanwell.nbed.ca/calendar/girls-basketball-game-versus-mcadam-at-hpa/
CATEGORIES:Athletics
END:VEVENT
BEGIN:VEVENT
DTSTART;TZID=America/Halifax:20231211T144500
DTEND;TZID=America/Halifax:20231211T161500
DTSTAMP:20260421T111901
CREATED:20231119T191522Z
LAST-MODIFIED:20231119T191524Z
UID:10000349-1702305900-1702311300@hanwell.nbed.ca
SUMMARY:Boys Basketball Practice
DESCRIPTION:
URL:https://hanwell.nbed.ca/calendar/boys-basketball-practice-22/
CATEGORIES:Athletics
END:VEVENT
BEGIN:VEVENT
DTSTART;TZID=America/Halifax:20231212T070000
DTEND;TZID=America/Halifax:20231212T080000
DTSTAMP:20260421T111901
CREATED:20231106T142122Z
LAST-MODIFIED:20231106T142122Z
UID:10000324-1702364400-1702368000@hanwell.nbed.ca
SUMMARY:Middle School Girls Volleyball Skills and Drills
DESCRIPTION:
URL:https://hanwell.nbed.ca/calendar/middle-school-girls-volleyball-skills-and-drills-12/
CATEGORIES:Athletics
END:VEVENT
BEGIN:VEVENT
DTSTART;TZID=America/Halifax:20231212T144500
DTEND;TZID=America/Halifax:20231212T161500
DTSTAMP:20260421T111901
CREATED:20231201T121147Z
LAST-MODIFIED:20231201T121148Z
UID:10000355-1702392300-1702397700@hanwell.nbed.ca
SUMMARY:Girls Basketball Practice
DESCRIPTION:
URL:https://hanwell.nbed.ca/calendar/girls-basketball-practice-24/
CATEGORIES:Athletics
END:VEVENT
BEGIN:VEVENT
DTSTART;TZID=America/Halifax:20231213T144500
DTEND;TZID=America/Halifax:20231213T161500
DTSTAMP:20260421T111901
CREATED:20231119T191559Z
LAST-MODIFIED:20231119T191600Z
UID:10000350-1702478700-1702484100@hanwell.nbed.ca
SUMMARY:Boys Basketball Practice
DESCRIPTION:
URL:https://hanwell.nbed.ca/calendar/boys-basketball-practice-23/
CATEGORIES:Athletics
END:VEVENT
BEGIN:VEVENT
DTSTART;TZID=America/Halifax:20231214T163000
DTEND;TZID=America/Halifax:20231214T180000
DTSTAMP:20260421T111901
CREATED:20231110T154615Z
LAST-MODIFIED:20231110T154616Z
UID:10000336-1702571400-1702576800@hanwell.nbed.ca
SUMMARY:Girls Basketball Game versus Nackawic at HPA
DESCRIPTION:
URL:https://hanwell.nbed.ca/calendar/girls-basketball-game-versus-nackawic-at-hpa/
CATEGORIES:Athletics
END:VEVENT
BEGIN:VEVENT
DTSTART;TZID=America/Halifax:20231218T144500
DTEND;TZID=America/Halifax:20231218T161500
DTSTAMP:20260421T111901
CREATED:20231119T191642Z
LAST-MODIFIED:20231119T191643Z
UID:10000351-1702910700-1702916100@hanwell.nbed.ca
SUMMARY:Boys Basketball Practice
DESCRIPTION:
URL:https://hanwell.nbed.ca/calendar/boys-basketball-practice-24/
CATEGORIES:Athletics
END:VEVENT
BEGIN:VEVENT
DTSTART;TZID=America/Halifax:20231219T070000
DTEND;TZID=America/Halifax:20231219T080000
DTSTAMP:20260421T111901
CREATED:20231106T142152Z
LAST-MODIFIED:20231219T124612Z
UID:10000325-1702969200-1702972800@hanwell.nbed.ca
SUMMARY:Cancelled - Middle School Girls Volleyball Skills and Drills
DESCRIPTION:
URL:https://hanwell.nbed.ca/calendar/middle-school-girls-volleyball-skills-and-drills-13/
CATEGORIES:Athletics
END:VEVENT
BEGIN:VEVENT
DTSTART;TZID=America/Halifax:20231219T144500
DTEND;TZID=America/Halifax:20231219T161500
DTSTAMP:20260421T111901
CREATED:20231201T121218Z
LAST-MODIFIED:20231201T121219Z
UID:10000356-1702997100-1703002500@hanwell.nbed.ca
SUMMARY:Girls Basketball Practice
DESCRIPTION:
URL:https://hanwell.nbed.ca/calendar/girls-basketball-practice-25/
CATEGORIES:Athletics
END:VEVENT
BEGIN:VEVENT
DTSTART;TZID=America/Halifax:20231219T163000
DTEND;TZID=America/Halifax:20231219T180000
DTSTAMP:20260421T111901
CREATED:20231205T143432Z
LAST-MODIFIED:20231219T124541Z
UID:10000361-1703003400-1703008800@hanwell.nbed.ca
SUMMARY:Cancelled - Boys Basketball Game versus Stanley at HPA
DESCRIPTION:Make-up game for the missed game on November 23rd\,
URL:https://hanwell.nbed.ca/calendar/boys-basketball-game-versus-stanley-at-hpa-2/
CATEGORIES:Athletics
END:VEVENT
BEGIN:VEVENT
DTSTART;TZID=America/Halifax:20231220T144500
DTEND;TZID=America/Halifax:20231220T161400
DTSTAMP:20260421T111901
CREATED:20231119T191717Z
LAST-MODIFIED:20231119T191718Z
UID:10000352-1703083500-1703088840@hanwell.nbed.ca
SUMMARY:Boys Basketball Practice
DESCRIPTION:
URL:https://hanwell.nbed.ca/calendar/boys-basketball-practice-25/
CATEGORIES:Athletics
END:VEVENT
BEGIN:VEVENT
DTSTART;TZID=America/Halifax:20231221T170000
DTEND;TZID=America/Halifax:20231221T180000
DTSTAMP:20260421T111901
CREATED:20231110T154715Z
LAST-MODIFIED:20231110T154716Z
UID:10000337-1703178000-1703181600@hanwell.nbed.ca
SUMMARY:Girls Basketball Game at CNBA
DESCRIPTION:CNBA is Central New Brunswick Academy
URL:https://hanwell.nbed.ca/calendar/girls-basketball-game-at-cnba/
CATEGORIES:Athletics
END:VEVENT
BEGIN:VEVENT
DTSTART;TZID=America/Moncton:20231222T081500
DTEND;TZID=America/Moncton:20231222T120000
DTSTAMP:20260421T111901
CREATED:20230616T122006Z
LAST-MODIFIED:20230620T120117Z
UID:10000147-1703232900-1703246400@hanwell.nbed.ca
SUMMARY:Last Day of Classes (Half Day)
DESCRIPTION:
URL:https://hanwell.nbed.ca/calendar/last-day-of-classes-half-day-2/
CATEGORIES:Current Students
END:VEVENT
BEGIN:VEVENT
DTSTART;TZID=America/Moncton:20240108T081500
DTEND;TZID=America/Moncton:20240108T163000
DTSTAMP:20260421T111901
CREATED:20230616T122053Z
LAST-MODIFIED:20230620T120125Z
UID:10000148-1704701700-1704731400@hanwell.nbed.ca
SUMMARY:First Day of Classes
DESCRIPTION:
URL:https://hanwell.nbed.ca/calendar/first-day-of-classes-3/
CATEGORIES:Current Students
END:VEVENT
BEGIN:VEVENT
DTSTART;TZID=America/Halifax:20240109T070000
DTEND;TZID=America/Halifax:20240109T080000
DTSTAMP:20260421T111901
CREATED:20240108T171911Z
LAST-MODIFIED:20240108T171912Z
UID:10000365-1704783600-1704787200@hanwell.nbed.ca
SUMMARY:Middle School Girls Volleyball Skills and Drills
DESCRIPTION:
URL:https://hanwell.nbed.ca/calendar/middle-school-girls-volleyball-skills-and-drills-14/
CATEGORIES:Athletics
END:VEVENT
BEGIN:VEVENT
DTSTART;TZID=America/Halifax:20240109T144500
DTEND;TZID=America/Halifax:20240109T161500
DTSTAMP:20260421T111901
CREATED:20231201T121249Z
LAST-MODIFIED:20231201T121250Z
UID:10000357-1704811500-1704816900@hanwell.nbed.ca
SUMMARY:Girls Basketball Practice
DESCRIPTION:
URL:https://hanwell.nbed.ca/calendar/girls-basketball-practice-26/
CATEGORIES:Athletics
END:VEVENT
BEGIN:VEVENT
DTSTART;TZID=America/Halifax:20240109T160000
DTEND;TZID=America/Halifax:20240109T161500
DTSTAMP:20260421T111902
CREATED:20240106T141503Z
LAST-MODIFIED:20240106T141504Z
UID:10000362-1704816000-1704816900@hanwell.nbed.ca
SUMMARY:Girls Basketball Practice
DESCRIPTION:
URL:https://hanwell.nbed.ca/calendar/girls-basketball-practice-30/
END:VEVENT
BEGIN:VEVENT
DTSTART;TZID=America/Halifax:20240110T140000
DTEND;TZID=America/Halifax:20240110T160000
DTSTAMP:20260421T111902
CREATED:20240108T120159Z
LAST-MODIFIED:20240108T120200Z
UID:10000363-1704895200-1704902400@hanwell.nbed.ca
SUMMARY:Boys Basketball Practice
DESCRIPTION:
URL:https://hanwell.nbed.ca/calendar/boys-basketball-practice-26/
END:VEVENT
BEGIN:VEVENT
DTSTART;TZID=America/Halifax:20240111T163000
DTEND;TZID=America/Halifax:20240111T180000
DTSTAMP:20260421T111902
CREATED:20231110T154802Z
LAST-MODIFIED:20231110T154803Z
UID:10000338-1704990600-1704996000@hanwell.nbed.ca
SUMMARY:Girls Basketball Game versus Harvey at HPA
DESCRIPTION:
URL:https://hanwell.nbed.ca/calendar/girls-basketball-game-versus-harvey-at-hpa/
CATEGORIES:Athletics
END:VEVENT
BEGIN:VEVENT
DTSTART;TZID=America/Halifax:20240111T180000
DTEND;TZID=America/Halifax:20240111T193000
DTSTAMP:20260421T111902
CREATED:20231110T154149Z
LAST-MODIFIED:20231110T154150Z
UID:10000332-1704996000-1705001400@hanwell.nbed.ca
SUMMARY:Boys Basketball Game versus Nackawic at HPA
DESCRIPTION:
URL:https://hanwell.nbed.ca/calendar/boys-basketball-game-versus-nackawic-at-hpa/
CATEGORIES:Athletics
END:VEVENT
BEGIN:VEVENT
DTSTART;TZID=America/Halifax:20240112T140000
DTEND;TZID=America/Halifax:20240112T160000
DTSTAMP:20260421T111902
CREATED:20240108T120249Z
LAST-MODIFIED:20240108T120250Z
UID:10000364-1705068000-1705075200@hanwell.nbed.ca
SUMMARY:Boys Basketball Practice
DESCRIPTION:
URL:https://hanwell.nbed.ca/calendar/boys-basketball-practice-27/
CATEGORIES:Athletics
END:VEVENT
BEGIN:VEVENT
DTSTART;TZID=America/Halifax:20240115T144500
DTEND;TZID=America/Halifax:20240115T161500
DTSTAMP:20260421T111902
CREATED:20240112T151228Z
LAST-MODIFIED:20240112T151229Z
UID:10000375-1705329900-1705335300@hanwell.nbed.ca
SUMMARY:Boys Basketball Practice
DESCRIPTION:
URL:https://hanwell.nbed.ca/calendar/boys-basketball-practice-28/2024-01-15/
CATEGORIES:Athletics
END:VEVENT
BEGIN:VEVENT
DTSTART;TZID=America/Halifax:20240116T144500
DTEND;TZID=America/Halifax:20240116T161500
DTSTAMP:20260421T111902
CREATED:20231201T121321Z
LAST-MODIFIED:20240116T154810Z
UID:10000358-1705416300-1705421700@hanwell.nbed.ca
SUMMARY:Cancelled - Girls Basketball Practice
DESCRIPTION:
URL:https://hanwell.nbed.ca/calendar/girls-basketball-practice-27/
CATEGORIES:Athletics
END:VEVENT
BEGIN:VEVENT
DTSTART;TZID=America/Halifax:20240116T170000
DTEND;TZID=America/Halifax:20240116T183000
DTSTAMP:20260421T111902
CREATED:20240112T145710Z
LAST-MODIFIED:20240116T121452Z
UID:10000374-1705424400-1705429800@hanwell.nbed.ca
SUMMARY:Cancelled - Boys Basketball Game against Stanley at HPA
DESCRIPTION:
URL:https://hanwell.nbed.ca/calendar/boys-basketball-game-against-stanley-at-hpa/
CATEGORIES:Athletics
END:VEVENT
BEGIN:VEVENT
DTSTART;TZID=America/Halifax:20240117T144500
DTEND;TZID=America/Halifax:20240117T161500
DTSTAMP:20260421T111902
CREATED:20240112T151228Z
LAST-MODIFIED:20240112T151229Z
UID:10000376-1705502700-1705508100@hanwell.nbed.ca
SUMMARY:Boys Basketball Practice
DESCRIPTION:
URL:https://hanwell.nbed.ca/calendar/boys-basketball-practice-28/2024-01-17/
CATEGORIES:Athletics
END:VEVENT
END:VCALENDAR