BEGIN:VCALENDAR
VERSION:2.0
PRODID:-//Hanwell Park Academy - ECPv6.15.20//NONSGML v1.0//EN
CALSCALE:GREGORIAN
METHOD:PUBLISH
X-ORIGINAL-URL:https://hanwell.nbed.ca
X-WR-CALDESC:Events for Hanwell Park Academy
REFRESH-INTERVAL;VALUE=DURATION:PT1H
X-Robots-Tag:noindex
X-PUBLISHED-TTL:PT1H
BEGIN:VTIMEZONE
TZID:America/Halifax
BEGIN:DAYLIGHT
TZOFFSETFROM:-0400
TZOFFSETTO:-0300
TZNAME:ADT
DTSTART:20230312T060000
END:DAYLIGHT
BEGIN:STANDARD
TZOFFSETFROM:-0300
TZOFFSETTO:-0400
TZNAME:AST
DTSTART:20231105T050000
END:STANDARD
BEGIN:DAYLIGHT
TZOFFSETFROM:-0400
TZOFFSETTO:-0300
TZNAME:ADT
DTSTART:20240310T060000
END:DAYLIGHT
BEGIN:STANDARD
TZOFFSETFROM:-0300
TZOFFSETTO:-0400
TZNAME:AST
DTSTART:20241103T050000
END:STANDARD
BEGIN:DAYLIGHT
TZOFFSETFROM:-0400
TZOFFSETTO:-0300
TZNAME:ADT
DTSTART:20250309T060000
END:DAYLIGHT
BEGIN:STANDARD
TZOFFSETFROM:-0300
TZOFFSETTO:-0400
TZNAME:AST
DTSTART:20251102T050000
END:STANDARD
END:VTIMEZONE
BEGIN:VEVENT
DTSTART;TZID=America/Halifax:20240904T143000
DTEND;TZID=America/Halifax:20240904T154500
DTSTAMP:20260420T213110
CREATED:20240826T145948Z
LAST-MODIFIED:20240903T213408Z
UID:10000496-1725460200-1725464700@hanwell.nbed.ca
SUMMARY:Middle School Cross Country Practice
DESCRIPTION:
URL:https://hanwell.nbed.ca/calendar/middle-school-cross-country-practice-6/
CATEGORIES:Athletics
END:VEVENT
BEGIN:VEVENT
DTSTART;TZID=America/Halifax:20240906T173000
DTEND;TZID=America/Halifax:20240906T183000
DTSTAMP:20260420T213110
CREATED:20240827T154302Z
LAST-MODIFIED:20240827T154304Z
UID:10000499-1725643800-1725647400@hanwell.nbed.ca
SUMMARY:Girls Soccer Tryout
DESCRIPTION:
URL:https://hanwell.nbed.ca/calendar/girls-soccer-tryout/2024-09-06/
CATEGORIES:Athletics
END:VEVENT
BEGIN:VEVENT
DTSTART;TZID=America/Halifax:20240907T130000
DTEND;TZID=America/Halifax:20240907T160000
DTSTAMP:20260420T213110
CREATED:20240826T114116Z
LAST-MODIFIED:20240826T114117Z
UID:10000495-1725714000-1725724800@hanwell.nbed.ca
SUMMARY:M Gardiner - Gym 2
DESCRIPTION:
URL:https://hanwell.nbed.ca/calendar/m-gardiner-gym-2/
END:VEVENT
BEGIN:VEVENT
DTSTART;TZID=America/Halifax:20240909T143000
DTEND;TZID=America/Halifax:20240909T154500
DTSTAMP:20260420T213110
CREATED:20240909T103249Z
LAST-MODIFIED:20240909T103250Z
UID:10000508-1725892200-1725896700@hanwell.nbed.ca
SUMMARY:Middle School Cross Country Practice
DESCRIPTION:
URL:https://hanwell.nbed.ca/calendar/middle-school-cross-country-practice-7/2024-09-09/
CATEGORIES:Athletics
END:VEVENT
BEGIN:VEVENT
DTSTART;TZID=America/Halifax:20240909T173000
DTEND;TZID=America/Halifax:20240909T183000
DTSTAMP:20260420T213110
CREATED:20240827T154302Z
LAST-MODIFIED:20240827T154304Z
UID:10000500-1725903000-1725906600@hanwell.nbed.ca
SUMMARY:Girls Soccer Tryout
DESCRIPTION:
URL:https://hanwell.nbed.ca/calendar/girls-soccer-tryout/2024-09-09/
CATEGORIES:Athletics
END:VEVENT
BEGIN:VEVENT
DTSTART;TZID=America/Halifax:20240910T170000
DTEND;TZID=America/Halifax:20240910T183000
DTSTAMP:20260420T213110
CREATED:20240827T122513Z
LAST-MODIFIED:20240827T122515Z
UID:10000497-1725987600-1725993000@hanwell.nbed.ca
SUMMARY:Boys Soccer Tryouts
DESCRIPTION:
URL:https://hanwell.nbed.ca/calendar/boys-soccer-tryouts/2024-09-10/
CATEGORIES:Athletics
END:VEVENT
BEGIN:VEVENT
DTSTART;TZID=America/Halifax:20240911T143000
DTEND;TZID=America/Halifax:20240911T154500
DTSTAMP:20260420T213110
CREATED:20240909T103249Z
LAST-MODIFIED:20240909T103250Z
UID:10000509-1726065000-1726069500@hanwell.nbed.ca
SUMMARY:Middle School Cross Country Practice
DESCRIPTION:
URL:https://hanwell.nbed.ca/calendar/middle-school-cross-country-practice-7/2024-09-11/
CATEGORIES:Athletics
END:VEVENT
BEGIN:VEVENT
DTSTART;TZID=America/Halifax:20240911T173000
DTEND;TZID=America/Halifax:20240911T183000
DTSTAMP:20260420T213110
CREATED:20240910T105255Z
LAST-MODIFIED:20240910T105257Z
UID:10000510-1726075800-1726079400@hanwell.nbed.ca
SUMMARY:Girls Soccer Practice
DESCRIPTION:
URL:https://hanwell.nbed.ca/calendar/girls-soccer-practice-15/
CATEGORIES:Athletics
END:VEVENT
BEGIN:VEVENT
DTSTART;TZID=America/Halifax:20240912T170000
DTEND;TZID=America/Halifax:20240912T183000
DTSTAMP:20260420T213110
CREATED:20240827T122513Z
LAST-MODIFIED:20240827T122515Z
UID:10000498-1726160400-1726165800@hanwell.nbed.ca
SUMMARY:Boys Soccer Tryouts
DESCRIPTION:
URL:https://hanwell.nbed.ca/calendar/boys-soccer-tryouts/2024-09-12/
CATEGORIES:Athletics
END:VEVENT
BEGIN:VEVENT
DTSTART;TZID=America/Halifax:20240914T133000
DTEND;TZID=America/Halifax:20240914T143000
DTSTAMP:20260420T213110
CREATED:20240913T102815Z
LAST-MODIFIED:20240913T102817Z
UID:10000521-1726320600-1726324200@hanwell.nbed.ca
SUMMARY:Girls Soccer Practice
DESCRIPTION:
URL:https://hanwell.nbed.ca/calendar/girls-soccer-practice-16/
CATEGORIES:Athletics
END:VEVENT
BEGIN:VEVENT
DTSTART;TZID=America/Halifax:20240916T143000
DTEND;TZID=America/Halifax:20240916T154500
DTSTAMP:20260420T213110
CREATED:20240910T134219Z
LAST-MODIFIED:20240910T134220Z
UID:10000511-1726497000-1726501500@hanwell.nbed.ca
SUMMARY:Middle School Cross Country Practice
DESCRIPTION:
URL:https://hanwell.nbed.ca/calendar/middle-school-cross-country-practice-8/
CATEGORIES:Athletics
END:VEVENT
BEGIN:VEVENT
DTSTART;TZID=America/Halifax:20240916T163000
DTEND;TZID=America/Halifax:20240916T180000
DTSTAMP:20260420T213110
CREATED:20240912T153752Z
LAST-MODIFIED:20240912T153753Z
UID:10000517-1726504200-1726509600@hanwell.nbed.ca
SUMMARY:Boys Soccer Match Vs. Harvey at Harvey High School
DESCRIPTION:
URL:https://hanwell.nbed.ca/calendar/boys-soccer-match-vs-harvey-at-harvey-high-school/
CATEGORIES:Athletics
END:VEVENT
BEGIN:VEVENT
DTSTART;TZID=America/Halifax:20240917T163000
DTEND;TZID=America/Halifax:20240917T180000
DTSTAMP:20260420T213110
CREATED:20240904T104117Z
LAST-MODIFIED:20240917T172218Z
UID:10000501-1726590600-1726596000@hanwell.nbed.ca
SUMMARY:Middle School Cross Country Meet at Nashwaaksis Middle School
DESCRIPTION:Arrive to venue at least 15 minutes before it begins
URL:https://hanwell.nbed.ca/calendar/middle-school-cross-country-meet-at-nashwaaksis-middle-school/
CATEGORIES:Athletics
END:VEVENT
BEGIN:VEVENT
DTSTART;TZID=America/Halifax:20240918T133000
DTEND;TZID=America/Halifax:20240918T143000
DTSTAMP:20260420T213110
CREATED:20240904T164653Z
LAST-MODIFIED:20240904T164654Z
UID:10000504-1726666200-1726669800@hanwell.nbed.ca
SUMMARY:Elementary Cross Country (Grades 3-5) at Morell Park
DESCRIPTION:
URL:https://hanwell.nbed.ca/calendar/elementary-cross-country-grades-3-5-at-morell-park/
CATEGORIES:Athletics
END:VEVENT
BEGIN:VEVENT
DTSTART;TZID=America/Halifax:20240918T141500
DTEND;TZID=America/Halifax:20240918T153000
DTSTAMP:20260420T213110
CREATED:20240912T124926Z
LAST-MODIFIED:20240912T124927Z
UID:10000512-1726668900-1726673400@hanwell.nbed.ca
SUMMARY:Girls Volleyball Skills and Drills (Middle School)
DESCRIPTION:
URL:https://hanwell.nbed.ca/calendar/girls-volleyball-skills-and-drills-middle-school/
CATEGORIES:Athletics
END:VEVENT
BEGIN:VEVENT
DTSTART;TZID=America/Halifax:20240918T173000
DTEND;TZID=America/Halifax:20240918T183000
DTSTAMP:20260420T213110
CREATED:20240913T102845Z
LAST-MODIFIED:20240913T102846Z
UID:10000522-1726680600-1726684200@hanwell.nbed.ca
SUMMARY:Girls Soccer Practice
DESCRIPTION:
URL:https://hanwell.nbed.ca/calendar/girls-soccer-practice-17/
CATEGORIES:Athletics
END:VEVENT
BEGIN:VEVENT
DTSTART;TZID=America/Halifax:20240919T163000
DTEND;TZID=America/Halifax:20240919T180000
DTSTAMP:20260420T213110
CREATED:20240912T153409Z
LAST-MODIFIED:20240912T153411Z
UID:10000513-1726763400-1726768800@hanwell.nbed.ca
SUMMARY:Girls Soccer Match versus Nackawic at Nackawic Middle
DESCRIPTION:50 Landegger Dr\, Nackawic\, NB E6G 1E9
URL:https://hanwell.nbed.ca/calendar/girls-soccer-match-versus-nackawic-at-nackawic-middle/
CATEGORIES:Athletics
END:VEVENT
BEGIN:VEVENT
DTSTART;TZID=America/Halifax:20240919T170000
DTEND;TZID=America/Halifax:20240919T180000
DTSTAMP:20260420T213110
CREATED:20240913T104641Z
LAST-MODIFIED:20240913T104642Z
UID:10000523-1726765200-1726768800@hanwell.nbed.ca
SUMMARY:Boys Soccer Practice
DESCRIPTION:
URL:https://hanwell.nbed.ca/calendar/boys-soccer-practice-9/
CATEGORIES:Athletics
END:VEVENT
BEGIN:VEVENT
DTSTART;TZID=America/Halifax:20240921T130000
DTEND;TZID=America/Halifax:20240921T150000
DTSTAMP:20260420T213110
CREATED:20240919T104949Z
LAST-MODIFIED:20240919T104950Z
UID:10000528-1726923600-1726930800@hanwell.nbed.ca
SUMMARY:Girls Soccer Practice
DESCRIPTION:
URL:https://hanwell.nbed.ca/calendar/girls-soccer-practice-18/
CATEGORIES:Athletics
END:VEVENT
BEGIN:VEVENT
DTSTART;TZID=America/Halifax:20240923T143000
DTEND;TZID=America/Halifax:20240923T154500
DTSTAMP:20260420T213110
CREATED:20240918T110339Z
LAST-MODIFIED:20240918T110340Z
UID:10000526-1727101800-1727106300@hanwell.nbed.ca
SUMMARY:Middle School Cross Country Practice
DESCRIPTION:
URL:https://hanwell.nbed.ca/calendar/middle-school-cross-country-practice-9/
CATEGORIES:Athletics
END:VEVENT
BEGIN:VEVENT
DTSTART;TZID=America/Halifax:20240923T163000
DTEND;TZID=America/Halifax:20240923T180000
DTSTAMP:20260420T213110
CREATED:20240912T153833Z
LAST-MODIFIED:20240912T153834Z
UID:10000518-1727109000-1727114400@hanwell.nbed.ca
SUMMARY:Boys Soccer Match Vs. Keswick Valley at Keswick Valley
DESCRIPTION:
URL:https://hanwell.nbed.ca/calendar/boys-soccer-match-vs-keswick-valley-at-keswick-valley/
CATEGORIES:Athletics
END:VEVENT
BEGIN:VEVENT
DTSTART;TZID=America/Halifax:20240923T173000
DTEND;TZID=America/Halifax:20240923T190000
DTSTAMP:20260420T213110
CREATED:20240919T105017Z
LAST-MODIFIED:20240919T105018Z
UID:10000529-1727112600-1727118000@hanwell.nbed.ca
SUMMARY:Girls Soccer Practice
DESCRIPTION:
URL:https://hanwell.nbed.ca/calendar/girls-soccer-practice-19/
CATEGORIES:Athletics
END:VEVENT
BEGIN:VEVENT
DTSTART;TZID=America/Halifax:20240924T143000
DTEND;TZID=America/Halifax:20240924T160000
DTSTAMP:20260420T213110
CREATED:20240924T105350Z
LAST-MODIFIED:20240924T105351Z
UID:10000524-1727188200-1727193600@hanwell.nbed.ca
SUMMARY:Cancelled - Middle School Girls Basketball Skills and Drills
DESCRIPTION:
URL:https://hanwell.nbed.ca/calendar/middle-school-girls-basketball-skills-and-drills-9/
CATEGORIES:Athletics
END:VEVENT
BEGIN:VEVENT
DTSTART;TZID=America/Halifax:20240924T163000
DTEND;TZID=America/Halifax:20240924T180000
DTSTAMP:20260420T213110
CREATED:20240904T104156Z
LAST-MODIFIED:20240917T172159Z
UID:10000502-1727195400-1727200800@hanwell.nbed.ca
SUMMARY:Middle School Cross Country Meet at Bliss Carman Middle School
DESCRIPTION:Arrive to venue at least 15 minutes before it begins
URL:https://hanwell.nbed.ca/calendar/middle-school-cross-country-meet-at-bliss-carman-middle-school/
CATEGORIES:Athletics
END:VEVENT
BEGIN:VEVENT
DTSTART;TZID=America/Halifax:20240925T133000
DTEND;TZID=America/Halifax:20240925T143000
DTSTAMP:20260420T213110
CREATED:20240904T164754Z
LAST-MODIFIED:20240904T164755Z
UID:10000505-1727271000-1727274600@hanwell.nbed.ca
SUMMARY:Elementary Cross Country (Grades 3-5) at Odell Park
DESCRIPTION:
URL:https://hanwell.nbed.ca/calendar/elementary-cross-country-grades-3-5-at-odell-park/
CATEGORIES:Athletics
END:VEVENT
BEGIN:VEVENT
DTSTART;TZID=America/Halifax:20240925T143000
DTEND;TZID=America/Halifax:20240925T160000
DTSTAMP:20260420T213110
CREATED:20240925T103424Z
LAST-MODIFIED:20240925T103426Z
UID:10000531-1727274600-1727280000@hanwell.nbed.ca
SUMMARY:Cancelled - Girls Volleyball Skills and Drills (Middle Level)
DESCRIPTION:
URL:https://hanwell.nbed.ca/calendar/girls-volleyball-skills-and-drills-middle-level-2/
CATEGORIES:Athletics
END:VEVENT
BEGIN:VEVENT
DTSTART;TZID=America/Halifax:20240925T163000
DTEND;TZID=America/Halifax:20240925T180000
DTSTAMP:20260420T213110
CREATED:20240912T154115Z
LAST-MODIFIED:20240912T154116Z
UID:10000519-1727281800-1727287200@hanwell.nbed.ca
SUMMARY:Boys Soccer Match Vs. FCA at HPA
DESCRIPTION:
URL:https://hanwell.nbed.ca/calendar/boys-soccer-match-vs-fca-at-hpa/
CATEGORIES:Athletics
END:VEVENT
BEGIN:VEVENT
DTSTART;TZID=America/Halifax:20240925T180000
DTEND;TZID=America/Halifax:20240925T190000
DTSTAMP:20260420T213110
CREATED:20240919T124245Z
LAST-MODIFIED:20240919T124246Z
UID:10000530-1727287200-1727290800@hanwell.nbed.ca
SUMMARY:Girls Soccer Practice
DESCRIPTION:
URL:https://hanwell.nbed.ca/calendar/girls-soccer-practice-20/
CATEGORIES:Athletics
END:VEVENT
BEGIN:VEVENT
DTSTART;TZID=America/Halifax:20240926T143000
DTEND;TZID=America/Halifax:20240926T160000
DTSTAMP:20260420T213110
CREATED:20240916T171852Z
LAST-MODIFIED:20240925T103352Z
UID:10000543-1727361000-1727366400@hanwell.nbed.ca
SUMMARY:Cancelled - Middle School Girls Basketball Skills and Drills
DESCRIPTION:
URL:https://hanwell.nbed.ca/calendar/middle-school-girls-basketball-skills-and-drills-8/
CATEGORIES:Athletics
END:VEVENT
BEGIN:VEVENT
DTSTART;TZID=America/Halifax:20240926T163000
DTEND;TZID=America/Halifax:20240926T180000
DTSTAMP:20260420T213110
CREATED:20240912T153458Z
LAST-MODIFIED:20240912T153500Z
UID:10000514-1727368200-1727373600@hanwell.nbed.ca
SUMMARY:Girls Soccer Match Vs. Harvey at HPA
DESCRIPTION:
URL:https://hanwell.nbed.ca/calendar/girls-soccer-match-vs-harvey-at-hpa/
CATEGORIES:Athletics
END:VEVENT
END:VCALENDAR