BEGIN:VCALENDAR
VERSION:2.0
PRODID:-//Hanwell Park Academy - ECPv6.15.20//NONSGML v1.0//EN
CALSCALE:GREGORIAN
METHOD:PUBLISH
X-WR-CALNAME:Hanwell Park Academy
X-ORIGINAL-URL:https://hanwell.nbed.ca
X-WR-CALDESC:Events for Hanwell Park Academy
REFRESH-INTERVAL;VALUE=DURATION:PT1H
X-Robots-Tag:noindex
X-PUBLISHED-TTL:PT1H
BEGIN:VTIMEZONE
TZID:America/Halifax
BEGIN:DAYLIGHT
TZOFFSETFROM:-0400
TZOFFSETTO:-0300
TZNAME:ADT
DTSTART:20220313T060000
END:DAYLIGHT
BEGIN:STANDARD
TZOFFSETFROM:-0300
TZOFFSETTO:-0400
TZNAME:AST
DTSTART:20221106T050000
END:STANDARD
BEGIN:DAYLIGHT
TZOFFSETFROM:-0400
TZOFFSETTO:-0300
TZNAME:ADT
DTSTART:20230312T060000
END:DAYLIGHT
BEGIN:STANDARD
TZOFFSETFROM:-0300
TZOFFSETTO:-0400
TZNAME:AST
DTSTART:20231105T050000
END:STANDARD
BEGIN:DAYLIGHT
TZOFFSETFROM:-0400
TZOFFSETTO:-0300
TZNAME:ADT
DTSTART:20240310T060000
END:DAYLIGHT
BEGIN:STANDARD
TZOFFSETFROM:-0300
TZOFFSETTO:-0400
TZNAME:AST
DTSTART:20241103T050000
END:STANDARD
END:VTIMEZONE
BEGIN:VTIMEZONE
TZID:America/Moncton
BEGIN:DAYLIGHT
TZOFFSETFROM:-0400
TZOFFSETTO:-0300
TZNAME:ADT
DTSTART:20220313T060000
END:DAYLIGHT
BEGIN:STANDARD
TZOFFSETFROM:-0300
TZOFFSETTO:-0400
TZNAME:AST
DTSTART:20221106T050000
END:STANDARD
BEGIN:DAYLIGHT
TZOFFSETFROM:-0400
TZOFFSETTO:-0300
TZNAME:ADT
DTSTART:20230312T060000
END:DAYLIGHT
BEGIN:STANDARD
TZOFFSETFROM:-0300
TZOFFSETTO:-0400
TZNAME:AST
DTSTART:20231105T050000
END:STANDARD
BEGIN:DAYLIGHT
TZOFFSETFROM:-0400
TZOFFSETTO:-0300
TZNAME:ADT
DTSTART:20240310T060000
END:DAYLIGHT
BEGIN:STANDARD
TZOFFSETFROM:-0300
TZOFFSETTO:-0400
TZNAME:AST
DTSTART:20241103T050000
END:STANDARD
END:VTIMEZONE
BEGIN:VEVENT
DTSTART;TZID=America/Halifax:20230913T173000
DTEND;TZID=America/Halifax:20230913T190000
DTSTAMP:20260422T034017
CREATED:20230910T175835Z
LAST-MODIFIED:20230913T154751Z
UID:10000265-1694626200-1694631600@hanwell.nbed.ca
SUMMARY:Middle School Girls Soccer Tryout 1 in the school gym (Rescheduled from Monday)
DESCRIPTION:
URL:https://hanwell.nbed.ca/calendar/middle-school-girls-soccer-tryout-1-time-to-be-determined/
CATEGORIES:Athletics
END:VEVENT
BEGIN:VEVENT
DTSTART;TZID=America/Halifax:20230912T170000
DTEND;TZID=America/Halifax:20230912T183000
DTSTAMP:20260422T034017
CREATED:20230829T112432Z
LAST-MODIFIED:20230912T160745Z
UID:10000246-1694538000-1694543400@hanwell.nbed.ca
SUMMARY:Middle School Boys Soccer Tryout 1 - Postponed due to rain
DESCRIPTION:Please check the calendar for a rescheduled date.
URL:https://hanwell.nbed.ca/calendar/middle-school-boys-soccer-tryout-1/
CATEGORIES:Athletics,Current Students
END:VEVENT
BEGIN:VEVENT
DTSTART;TZID=America/Halifax:20230912T144500
DTEND;TZID=America/Halifax:20230912T161500
DTSTAMP:20260422T034017
CREATED:20230901T163024Z
LAST-MODIFIED:20230912T160655Z
UID:10000257-1694529900-1694535300@hanwell.nbed.ca
SUMMARY:Middle School Cross Country Practice - Cancelled due to rain
DESCRIPTION:
URL:https://hanwell.nbed.ca/calendar/middle-school-cross-country-practice-2/
CATEGORIES:Athletics
END:VEVENT
BEGIN:VEVENT
DTSTART;TZID=America/Halifax:20230911T173000
DTEND;TZID=America/Halifax:20230911T190000
DTSTAMP:20260422T034017
CREATED:20230901T160238Z
LAST-MODIFIED:20230910T183135Z
UID:10000255-1694453400-1694458800@hanwell.nbed.ca
SUMMARY:Girls Soccer Tryout 1 (Postponed to Wednesday September 13)
DESCRIPTION:Postponed due to rain.
URL:https://hanwell.nbed.ca/calendar/girls-soccer-tryout-1/
CATEGORIES:Athletics
END:VEVENT
BEGIN:VEVENT
DTSTART;TZID=America/Moncton:20230905T081500
DTEND;TZID=America/Moncton:20230905T163000
DTSTAMP:20260422T034017
CREATED:20230616T121516Z
LAST-MODIFIED:20230620T120010Z
UID:10000233-1693901700-1693931400@hanwell.nbed.ca
SUMMARY:First Day of Classes
DESCRIPTION:
URL:https://hanwell.nbed.ca/calendar/first-day-of-classes/
CATEGORIES:Current Students
END:VEVENT
BEGIN:VEVENT
DTSTART;TZID=America/Moncton:20230904T000000
DTEND;TZID=America/Moncton:20230904T235900
DTSTAMP:20260422T034017
CREATED:20230616T121427Z
LAST-MODIFIED:20230620T120003Z
UID:10000232-1693785600-1693871940@hanwell.nbed.ca
SUMMARY:Labour Day
DESCRIPTION:
URL:https://hanwell.nbed.ca/calendar/labour-day-2/
CATEGORIES:Current Students
END:VEVENT
BEGIN:VEVENT
DTSTART;TZID=America/Moncton:20230901T081500
DTEND;TZID=America/Moncton:20230901T163000
DTSTAMP:20260422T034017
CREATED:20230616T123657Z
LAST-MODIFIED:20230620T115955Z
UID:10000240-1693556100-1693585800@hanwell.nbed.ca
SUMMARY:Full Administration Day
DESCRIPTION:Teachers and administrators ONLY.
URL:https://hanwell.nbed.ca/calendar/full-administration-day-6/
CATEGORIES:Current Students
END:VEVENT
BEGIN:VEVENT
DTSTART;TZID=America/Moncton:20230831T081500
DTEND;TZID=America/Moncton:20230831T163000
DTSTAMP:20260422T034017
CREATED:20230616T121254Z
LAST-MODIFIED:20230620T115947Z
UID:10000231-1693469700-1693499400@hanwell.nbed.ca
SUMMARY:Full Administration Day
DESCRIPTION:Teachers and administrators ONLY.
URL:https://hanwell.nbed.ca/calendar/full-administration-day-3/
CATEGORIES:Current Students
END:VEVENT
BEGIN:VEVENT
DTSTART;TZID=America/Moncton:20230830T081500
DTEND;TZID=America/Moncton:20230830T163000
DTSTAMP:20260422T034017
CREATED:20230616T123537Z
LAST-MODIFIED:20230620T115902Z
UID:10000239-1693383300-1693413000@hanwell.nbed.ca
SUMMARY:Council Day
DESCRIPTION:Teachers and administrators ONLY.
URL:https://hanwell.nbed.ca/calendar/council-day-3/
CATEGORIES:Current Students
END:VEVENT
BEGIN:VEVENT
DTSTART;TZID=America/Moncton:20230829T081500
DTEND;TZID=America/Moncton:20230829T163000
DTSTAMP:20260422T034017
CREATED:20230616T121109Z
LAST-MODIFIED:20230626T184358Z
UID:10000230-1693296900-1693326600@hanwell.nbed.ca
SUMMARY:NBTA Council Day (School/District Based)
DESCRIPTION:Teachers and administrators ONLY.
URL:https://hanwell.nbed.ca/calendar/council-day/
CATEGORIES:Current Students
END:VEVENT
BEGIN:VEVENT
DTSTART;TZID=America/Moncton:20230828T081500
DTEND;TZID=America/Moncton:20230828T163000
DTSTAMP:20260422T034017
CREATED:20230616T120828Z
LAST-MODIFIED:20230620T115547Z
UID:10000229-1693210500-1693240200@hanwell.nbed.ca
SUMMARY:Full Administration Day
DESCRIPTION:Teachers and administrators ONLY.
URL:https://hanwell.nbed.ca/calendar/full-administration-day-2/
CATEGORIES:Current Students
END:VEVENT
BEGIN:VEVENT
DTSTART;TZID=America/Moncton:20230623T000000
DTEND;TZID=America/Moncton:20230623T235959
DTSTAMP:20260422T034017
CREATED:20220502T161804Z
LAST-MODIFIED:20221024T190951Z
UID:10000008-1687478400-1687564799@hanwell.nbed.ca
SUMMARY:Last Day of Classes
DESCRIPTION:
URL:https://hanwell.nbed.ca/calendar/last-day-of-classes/
END:VEVENT
BEGIN:VEVENT
DTSTART;TZID=America/Halifax:20230607T083000
DTEND;TZID=America/Halifax:20230607T160000
DTSTAMP:20260422T034017
CREATED:20230509T103805Z
LAST-MODIFIED:20230606T170945Z
UID:10000215-1686126600-1686153600@hanwell.nbed.ca
SUMMARY:Middle School Track and Field Districts at Nasis Middle School
DESCRIPTION:Students will be bussed to Nasis Middle School and must be picked up at the conclusion of their events. There will NOT be a bus to bring them back to HPA.
URL:https://hanwell.nbed.ca/calendar/middle-school-track-and-field-districts-at-nasis-middle-school/
CATEGORIES:Athletics
END:VEVENT
BEGIN:VEVENT
DTSTART;TZID=America/Halifax:20230606T144500
DTEND;TZID=America/Halifax:20230606T160000
DTSTAMP:20260422T034017
CREATED:20230603T100155Z
LAST-MODIFIED:20230606T170845Z
UID:10000228-1686062700-1686067200@hanwell.nbed.ca
SUMMARY:Track and Field Practice in the gym
DESCRIPTION:If Monday’s practice is NOT rained out\, this one will be cancelled.
URL:https://hanwell.nbed.ca/calendar/track-and-field-practice-if-monday-is-rained-out/
CATEGORIES:Athletics
END:VEVENT
BEGIN:VEVENT
DTSTART;TZID=America/Halifax:20230605T144500
DTEND;TZID=America/Halifax:20230605T160000
DTSTAMP:20260422T034017
CREATED:20230603T100036Z
LAST-MODIFIED:20230604T225259Z
UID:10000227-1685976300-1685980800@hanwell.nbed.ca
SUMMARY:Track and Field Practice (Postponed to Tuesday due to rain)
DESCRIPTION:Rain Date will be Tuesday June 6.
URL:https://hanwell.nbed.ca/calendar/track-and-field-practice/
CATEGORIES:Athletics
END:VEVENT
BEGIN:VEVENT
DTSTART;TZID=America/Halifax:20230602T093000
DTEND;TZID=America/Halifax:20230602T160000
DTSTAMP:20260422T034017
CREATED:20230509T103715Z
LAST-MODIFIED:20230509T103716Z
UID:10000214-1685698200-1685721600@hanwell.nbed.ca
SUMMARY:Grade 3-5 Track and Field at Nasis Middle School
DESCRIPTION:
URL:https://hanwell.nbed.ca/calendar/grade-3-5-track-and-field-at-nasis-middle-school/
CATEGORIES:Athletics
END:VEVENT
BEGIN:VEVENT
DTSTART;TZID=America/Halifax:20230531T144500
DTEND;TZID=America/Halifax:20230531T160000
DTSTAMP:20260422T034017
CREATED:20230528T101813Z
LAST-MODIFIED:20230528T101813Z
UID:10000225-1685544300-1685548800@hanwell.nbed.ca
SUMMARY:Track and Field Practice (Middle School)
DESCRIPTION:
URL:https://hanwell.nbed.ca/calendar/track-and-field-practice-middle-school-2/
CATEGORIES:Athletics
END:VEVENT
BEGIN:VEVENT
DTSTART;TZID=America/Halifax:20230530T160000
DTEND;TZID=America/Halifax:20230530T190000
DTSTAMP:20260422T034017
CREATED:20230518T132406Z
LAST-MODIFIED:20230518T132407Z
UID:10000222-1685462400-1685473200@hanwell.nbed.ca
SUMMARY:Middle School Track and Field Mini-Meet at Nasis Middle School
DESCRIPTION:
URL:https://hanwell.nbed.ca/calendar/middle-school-track-and-field-mini-meet-at-nasis-middle-school/
CATEGORIES:Athletics
END:VEVENT
BEGIN:VEVENT
DTSTART;TZID=America/Halifax:20230529T144500
DTEND;TZID=America/Halifax:20230529T160000
DTSTAMP:20260422T034017
CREATED:20230528T101727Z
LAST-MODIFIED:20230528T101728Z
UID:10000226-1685371500-1685376000@hanwell.nbed.ca
SUMMARY:Track and Field Practice (Middle School)
DESCRIPTION:
URL:https://hanwell.nbed.ca/calendar/track-and-field-practice-middle-school/
CATEGORIES:Athletics
END:VEVENT
BEGIN:VEVENT
DTSTART;TZID=America/Halifax:20230524T190000
DTEND;TZID=America/Halifax:20230524T203000
DTSTAMP:20260422T034017
CREATED:20230523T102325Z
LAST-MODIFIED:20230523T102326Z
UID:10000224-1684954800-1684960200@hanwell.nbed.ca
SUMMARY:S. Godin
DESCRIPTION:
URL:https://hanwell.nbed.ca/calendar/s-godin/
CATEGORIES:Athletics
END:VEVENT
BEGIN:VEVENT
DTSTART;TZID=America/Halifax:20230524T144500
DTEND;TZID=America/Halifax:20230524T160000
DTSTAMP:20260422T034017
CREATED:20230517T122037Z
LAST-MODIFIED:20230517T122038Z
UID:10000221-1684939500-1684944000@hanwell.nbed.ca
SUMMARY:Middle School Track and Field Tryout
DESCRIPTION:Meet on the soccer field behind the school.
URL:https://hanwell.nbed.ca/calendar/middle-school-track-and-field-tryout-2/
CATEGORIES:Athletics
END:VEVENT
BEGIN:VEVENT
DTSTART;TZID=America/Halifax:20230523T180000
DTEND;TZID=America/Halifax:20230523T193000
DTSTAMP:20260422T034017
CREATED:20230518T143400Z
LAST-MODIFIED:20230518T143401Z
UID:10000223-1684864800-1684870200@hanwell.nbed.ca
SUMMARY:Girls Volleyball Exhibition Game at HPA
DESCRIPTION:
URL:https://hanwell.nbed.ca/calendar/girls-volleyball-exhibition-game-at-hpa/
CATEGORIES:Athletics
END:VEVENT
BEGIN:VEVENT
DTSTART;TZID=America/Halifax:20230523T144500
DTEND;TZID=America/Halifax:20230523T160000
DTSTAMP:20260422T034017
CREATED:20230517T112604Z
LAST-MODIFIED:20230517T112604Z
UID:10000220-1684853100-1684857600@hanwell.nbed.ca
SUMMARY:Middle School Track and Field Tryout
DESCRIPTION:Meet on the soccer field behind the school
URL:https://hanwell.nbed.ca/calendar/middle-school-track-and-field-tryout/
CATEGORIES:Athletics
END:VEVENT
BEGIN:VEVENT
DTSTART;TZID=America/Moncton:20230522T000000
DTEND;TZID=America/Moncton:20230522T235959
DTSTAMP:20260422T034017
CREATED:20220502T161734Z
LAST-MODIFIED:20220921T124756Z
UID:10000007-1684713600-1684799999@hanwell.nbed.ca
SUMMARY:Victoria Day
DESCRIPTION:
URL:https://hanwell.nbed.ca/calendar/victoria-day/
END:VEVENT
BEGIN:VEVENT
DTSTART;TZID=America/Halifax:20230517T160000
DTEND;TZID=America/Halifax:20230517T200000
DTSTAMP:20260422T034017
CREATED:20230515T163208Z
LAST-MODIFIED:20230516T101814Z
UID:10000218-1684339200-1684353600@hanwell.nbed.ca
SUMMARY:Boys Volleyball Districts at Stanley Consolidated School
DESCRIPTION:
URL:https://hanwell.nbed.ca/calendar/boys-volleyball-districts-at-stanley-consolidated-school/
CATEGORIES:Athletics
END:VEVENT
BEGIN:VEVENT
DTSTART;TZID=America/Halifax:20230516T183000
DTEND;TZID=America/Halifax:20230516T200000
DTSTAMP:20260422T034017
CREATED:20230515T163115Z
LAST-MODIFIED:20230515T163115Z
UID:10000217-1684261800-1684267200@hanwell.nbed.ca
SUMMARY:Boys Volleyball Practice
DESCRIPTION:
URL:https://hanwell.nbed.ca/calendar/boys-volleyball-practice-11/
CATEGORIES:Athletics
END:VEVENT
BEGIN:VEVENT
DTSTART;TZID=America/Halifax:20230516T160000
DTEND;TZID=America/Halifax:20230516T200000
DTSTAMP:20260422T034017
CREATED:20230515T163303Z
LAST-MODIFIED:20230515T163303Z
UID:10000219-1684252800-1684267200@hanwell.nbed.ca
SUMMARY:Girls Volleyball Districts at HPA
DESCRIPTION:
URL:https://hanwell.nbed.ca/calendar/girls-volleyball-districts-at-hpa/
CATEGORIES:Athletics
END:VEVENT
BEGIN:VEVENT
DTSTART;TZID=America/Halifax:20230515T180000
DTEND;TZID=America/Halifax:20230515T193000
DTSTAMP:20260422T034017
CREATED:20230515T162610Z
LAST-MODIFIED:20230515T163004Z
UID:10000216-1684173600-1684179000@hanwell.nbed.ca
SUMMARY:Boys Volleyball Practice
DESCRIPTION:
URL:https://hanwell.nbed.ca/calendar/boys-volleyball-practice-10/
CATEGORIES:Athletics
END:VEVENT
BEGIN:VEVENT
DTSTART;TZID=America/Halifax:20230511T173000
DTEND;TZID=America/Halifax:20230511T190000
DTSTAMP:20260422T034017
CREATED:20230411T114855Z
LAST-MODIFIED:20230411T114855Z
UID:10000201-1683826200-1683831600@hanwell.nbed.ca
SUMMARY:Boys Volleyball Game at Keswick Valley
DESCRIPTION:
URL:https://hanwell.nbed.ca/calendar/boys-volleyball-game-at-keswick-valley/
END:VEVENT
BEGIN:VEVENT
DTSTART;TZID=America/Halifax:20230510T170000
DTEND;TZID=America/Halifax:20230510T183000
DTSTAMP:20260422T034017
CREATED:20230406T144220Z
LAST-MODIFIED:20230412T105501Z
UID:10000194-1683738000-1683743400@hanwell.nbed.ca
SUMMARY:Girls Volleyball Game against George St. at HPA
DESCRIPTION:
URL:https://hanwell.nbed.ca/calendar/girls-volleyball-game-against-mcadam-at-hpa/
END:VEVENT
END:VCALENDAR