BEGIN:VCALENDAR
VERSION:2.0
PRODID:-//Hanwell Park Academy - ECPv6.15.20//NONSGML v1.0//EN
CALSCALE:GREGORIAN
METHOD:PUBLISH
X-WR-CALNAME:Hanwell Park Academy
X-ORIGINAL-URL:https://hanwell.nbed.ca
X-WR-CALDESC:Events for Hanwell Park Academy
REFRESH-INTERVAL;VALUE=DURATION:PT1H
X-Robots-Tag:noindex
X-PUBLISHED-TTL:PT1H
BEGIN:VTIMEZONE
TZID:America/Halifax
BEGIN:DAYLIGHT
TZOFFSETFROM:-0400
TZOFFSETTO:-0300
TZNAME:ADT
DTSTART:20220313T060000
END:DAYLIGHT
BEGIN:STANDARD
TZOFFSETFROM:-0300
TZOFFSETTO:-0400
TZNAME:AST
DTSTART:20221106T050000
END:STANDARD
BEGIN:DAYLIGHT
TZOFFSETFROM:-0400
TZOFFSETTO:-0300
TZNAME:ADT
DTSTART:20230312T060000
END:DAYLIGHT
BEGIN:STANDARD
TZOFFSETFROM:-0300
TZOFFSETTO:-0400
TZNAME:AST
DTSTART:20231105T050000
END:STANDARD
BEGIN:DAYLIGHT
TZOFFSETFROM:-0400
TZOFFSETTO:-0300
TZNAME:ADT
DTSTART:20240310T060000
END:DAYLIGHT
BEGIN:STANDARD
TZOFFSETFROM:-0300
TZOFFSETTO:-0400
TZNAME:AST
DTSTART:20241103T050000
END:STANDARD
END:VTIMEZONE
BEGIN:VTIMEZONE
TZID:America/Moncton
BEGIN:DAYLIGHT
TZOFFSETFROM:-0400
TZOFFSETTO:-0300
TZNAME:ADT
DTSTART:20220313T060000
END:DAYLIGHT
BEGIN:STANDARD
TZOFFSETFROM:-0300
TZOFFSETTO:-0400
TZNAME:AST
DTSTART:20221106T050000
END:STANDARD
BEGIN:DAYLIGHT
TZOFFSETFROM:-0400
TZOFFSETTO:-0300
TZNAME:ADT
DTSTART:20230312T060000
END:DAYLIGHT
BEGIN:STANDARD
TZOFFSETFROM:-0300
TZOFFSETTO:-0400
TZNAME:AST
DTSTART:20231105T050000
END:STANDARD
BEGIN:DAYLIGHT
TZOFFSETFROM:-0400
TZOFFSETTO:-0300
TZNAME:ADT
DTSTART:20240310T060000
END:DAYLIGHT
BEGIN:STANDARD
TZOFFSETFROM:-0300
TZOFFSETTO:-0400
TZNAME:AST
DTSTART:20241103T050000
END:STANDARD
END:VTIMEZONE
BEGIN:VEVENT
DTSTART;TZID=America/Halifax:20230925T170000
DTEND;TZID=America/Halifax:20230925T183000
DTSTAMP:20260421T223831
CREATED:20230916T145150Z
LAST-MODIFIED:20230916T145151Z
UID:10000269-1695661200-1695666600@hanwell.nbed.ca
SUMMARY:Girls Soccer Game against FCA at HPA
DESCRIPTION:
URL:https://hanwell.nbed.ca/calendar/girls-soccer-game-against-fca-at-hpa/
CATEGORIES:Athletics
END:VEVENT
BEGIN:VEVENT
DTSTART;TZID=America/Halifax:20230925T144500
DTEND;TZID=America/Halifax:20230925T161500
DTSTAMP:20260421T223831
CREATED:20230908T141601Z
LAST-MODIFIED:20230908T141602Z
UID:10000261-1695653100-1695658500@hanwell.nbed.ca
SUMMARY:Middle School Girls Basketball Skills and Drills
DESCRIPTION:Please contact christamewood@gmail.com to register. Spaces are limited.
URL:https://hanwell.nbed.ca/calendar/middle-school-girls-basketball-skills-and-drills-3/
CATEGORIES:Athletics
END:VEVENT
BEGIN:VEVENT
DTSTART;TZID=America/Halifax:20230924T161500
DTEND;TZID=America/Halifax:20230924T173000
DTSTAMP:20260421T223831
CREATED:20230917T205732Z
LAST-MODIFIED:20230921T143909Z
UID:10000275-1695572100-1695576600@hanwell.nbed.ca
SUMMARY:Middle School Girls Soccer Practice
DESCRIPTION:
URL:https://hanwell.nbed.ca/calendar/middle-school-girls-soccer-practice-2/
CATEGORIES:Athletics
END:VEVENT
BEGIN:VEVENT
DTSTART;TZID=America/Halifax:20230921T170000
DTEND;TZID=America/Halifax:20230921T183000
DTSTAMP:20260421T223831
CREATED:20230918T183038Z
LAST-MODIFIED:20230918T183038Z
UID:10000281-1695315600-1695321000@hanwell.nbed.ca
SUMMARY:Boys Soccer Game against FCA at HPA
DESCRIPTION:
URL:https://hanwell.nbed.ca/calendar/boys-soccer-game-against-fca-at-hpa/
CATEGORIES:Athletics
END:VEVENT
BEGIN:VEVENT
DTSTART;TZID=America/Halifax:20230921T144500
DTEND;TZID=America/Halifax:20230921T160000
DTSTAMP:20260421T223831
CREATED:20230921T144008Z
LAST-MODIFIED:20230921T144009Z
UID:10000286-1695307500-1695312000@hanwell.nbed.ca
SUMMARY:Middle School Cross Country Practice
DESCRIPTION:
URL:https://hanwell.nbed.ca/calendar/middle-school-cross-country-practice-4/
CATEGORIES:Athletics
END:VEVENT
BEGIN:VEVENT
DTSTART;TZID=America/Halifax:20230920T173000
DTEND;TZID=America/Halifax:20230920T190000
DTSTAMP:20260421T223831
CREATED:20230918T182959Z
LAST-MODIFIED:20230918T183001Z
UID:10000280-1695231000-1695236400@hanwell.nbed.ca
SUMMARY:Boys Soccer Game against CNBA at HPA
DESCRIPTION:
URL:https://hanwell.nbed.ca/calendar/boys-soccer-game-against-cnba-at-hpa/
CATEGORIES:Athletics
END:VEVENT
BEGIN:VEVENT
DTSTART;TZID=America/Halifax:20230920T160000
DTEND;TZID=America/Halifax:20230920T173000
DTSTAMP:20260421T223831
CREATED:20230916T145053Z
LAST-MODIFIED:20230918T182900Z
UID:10000268-1695225600-1695231000@hanwell.nbed.ca
SUMMARY:Girls Soccer game against Harvey at HPA
DESCRIPTION:
URL:https://hanwell.nbed.ca/calendar/girls-soccer-game-against-harvey-at-hpa-2/
CATEGORIES:Athletics
END:VEVENT
BEGIN:VEVENT
DTSTART;TZID=America/Halifax:20230920T144500
DTEND;TZID=America/Halifax:20230920T161500
DTSTAMP:20260421T223831
CREATED:20230908T141501Z
LAST-MODIFIED:20230908T141940Z
UID:10000260-1695221100-1695226500@hanwell.nbed.ca
SUMMARY:Middle School Girls Basketball Skills and Drills
DESCRIPTION:Please contact christamewood@gmail.com to register. Spaces are limited.
URL:https://hanwell.nbed.ca/calendar/middle-school-girls-basketball-skills-and-drills-2/
CATEGORIES:Athletics
END:VEVENT
BEGIN:VEVENT
DTSTART;TZID=America/Halifax:20230920T131500
DTEND;TZID=America/Halifax:20230920T160000
DTSTAMP:20260421T223831
CREATED:20230830T155638Z
LAST-MODIFIED:20230830T160705Z
UID:10000248-1695215700-1695225600@hanwell.nbed.ca
SUMMARY:Grades 3-5 Cross Country Meet at Morell Park
DESCRIPTION:More information will be shared in the coming weeks.
URL:https://hanwell.nbed.ca/calendar/grades-3-5-cross-country-meet-at-morell-park/
CATEGORIES:Athletics
END:VEVENT
BEGIN:VEVENT
DTSTART;TZID=America/Halifax:20230919T170000
DTEND;TZID=America/Halifax:20230919T183000
DTSTAMP:20260421T223831
CREATED:20230912T161242Z
LAST-MODIFIED:20230919T111624Z
UID:10000266-1695142800-1695148200@hanwell.nbed.ca
SUMMARY:Middle School Boys Soccer Tryout 2 in the gym
DESCRIPTION:
URL:https://hanwell.nbed.ca/calendar/middle-school-boys-soccer-tryout-2-2/
CATEGORIES:Athletics
END:VEVENT
BEGIN:VEVENT
DTSTART;TZID=America/Halifax:20230919T160000
DTEND;TZID=America/Halifax:20230919T183000
DTSTAMP:20260421T223831
CREATED:20230901T125051Z
LAST-MODIFIED:20230901T125052Z
UID:10000252-1695139200-1695148200@hanwell.nbed.ca
SUMMARY:Middle School Cross Country Meet at Kilarney Lake
DESCRIPTION:
URL:https://hanwell.nbed.ca/calendar/middle-school-cross-country-meet-at-kilarney-lake/
CATEGORIES:Athletics
END:VEVENT
BEGIN:VEVENT
DTSTART;TZID=America/Halifax:20230919T070000
DTEND;TZID=America/Halifax:20230919T080000
DTSTAMP:20260421T223831
CREATED:20230915T155609Z
LAST-MODIFIED:20230915T155610Z
UID:10000267-1695106800-1695110400@hanwell.nbed.ca
SUMMARY:Middle School Volleyball Open Gym
DESCRIPTION:
URL:https://hanwell.nbed.ca/calendar/middle-school-volleyball-open-gym/
CATEGORIES:Athletics
END:VEVENT
BEGIN:VEVENT
DTSTART;TZID=America/Halifax:20230918T173000
DTEND;TZID=America/Halifax:20230918T190000
DTSTAMP:20260421T223831
CREATED:20230917T205642Z
LAST-MODIFIED:20230917T205643Z
UID:10000274-1695058200-1695063600@hanwell.nbed.ca
SUMMARY:Middle School Girls Soccer Practice
DESCRIPTION:
URL:https://hanwell.nbed.ca/calendar/middle-school-girls-soccer-practice/
CATEGORIES:Athletics
END:VEVENT
BEGIN:VEVENT
DTSTART;TZID=America/Halifax:20230918T144500
DTEND;TZID=America/Halifax:20230918T161500
DTSTAMP:20260421T223831
CREATED:20230908T141357Z
LAST-MODIFIED:20230908T141358Z
UID:10000259-1695048300-1695053700@hanwell.nbed.ca
SUMMARY:Middle School Girls Basketball Skills and Drills
DESCRIPTION:Please contact christamewood@gmail.com to register. Spaces are limited.
URL:https://hanwell.nbed.ca/calendar/middle-school-girls-basketball-skills-and-drills/
CATEGORIES:Athletics
END:VEVENT
BEGIN:VEVENT
DTSTART;TZID=America/Halifax:20230915T173000
DTEND;TZID=America/Halifax:20230915T190000
DTSTAMP:20260421T223831
CREATED:20230901T160306Z
LAST-MODIFIED:20230901T160307Z
UID:10000256-1694799000-1694804400@hanwell.nbed.ca
SUMMARY:Girls Soccer Tryout 2
DESCRIPTION:
URL:https://hanwell.nbed.ca/calendar/girls-soccer-tryout-2/
CATEGORIES:Athletics
END:VEVENT
BEGIN:VEVENT
DTSTART;TZID=America/Halifax:20230914T170000
DTEND;TZID=America/Halifax:20230914T183000
DTSTAMP:20260421T223831
CREATED:20230829T112529Z
LAST-MODIFIED:20230914T112451Z
UID:10000247-1694710800-1694716200@hanwell.nbed.ca
SUMMARY:Middle School Boys Soccer Tryout 1 in the gym
DESCRIPTION:This tryout will be inside due to the weather.
URL:https://hanwell.nbed.ca/calendar/middle-school-boys-soccer-tryout-2/
CATEGORIES:Athletics,Current Students
END:VEVENT
BEGIN:VEVENT
DTSTART;TZID=America/Halifax:20230914T144500
DTEND;TZID=America/Halifax:20230914T161500
DTSTAMP:20260421T223831
CREATED:20230901T163106Z
LAST-MODIFIED:20230914T133212Z
UID:10000258-1694702700-1694708100@hanwell.nbed.ca
SUMMARY:Middle School Cross Country Practice in the gym
DESCRIPTION:Event has been moved inside the gym due to rain.
URL:https://hanwell.nbed.ca/calendar/middle-school-cross-country-practice-3/
CATEGORIES:Athletics
END:VEVENT
BEGIN:VEVENT
DTSTART;TZID=America/Halifax:20230913T173000
DTEND;TZID=America/Halifax:20230913T190000
DTSTAMP:20260421T223831
CREATED:20230910T175835Z
LAST-MODIFIED:20230913T154751Z
UID:10000265-1694626200-1694631600@hanwell.nbed.ca
SUMMARY:Middle School Girls Soccer Tryout 1 in the school gym (Rescheduled from Monday)
DESCRIPTION:
URL:https://hanwell.nbed.ca/calendar/middle-school-girls-soccer-tryout-1-time-to-be-determined/
CATEGORIES:Athletics
END:VEVENT
BEGIN:VEVENT
DTSTART;TZID=America/Halifax:20230912T170000
DTEND;TZID=America/Halifax:20230912T183000
DTSTAMP:20260421T223831
CREATED:20230829T112432Z
LAST-MODIFIED:20230912T160745Z
UID:10000246-1694538000-1694543400@hanwell.nbed.ca
SUMMARY:Middle School Boys Soccer Tryout 1 - Postponed due to rain
DESCRIPTION:Please check the calendar for a rescheduled date.
URL:https://hanwell.nbed.ca/calendar/middle-school-boys-soccer-tryout-1/
CATEGORIES:Athletics,Current Students
END:VEVENT
BEGIN:VEVENT
DTSTART;TZID=America/Halifax:20230912T144500
DTEND;TZID=America/Halifax:20230912T161500
DTSTAMP:20260421T223831
CREATED:20230901T163024Z
LAST-MODIFIED:20230912T160655Z
UID:10000257-1694529900-1694535300@hanwell.nbed.ca
SUMMARY:Middle School Cross Country Practice - Cancelled due to rain
DESCRIPTION:
URL:https://hanwell.nbed.ca/calendar/middle-school-cross-country-practice-2/
CATEGORIES:Athletics
END:VEVENT
BEGIN:VEVENT
DTSTART;TZID=America/Halifax:20230911T173000
DTEND;TZID=America/Halifax:20230911T190000
DTSTAMP:20260421T223831
CREATED:20230901T160238Z
LAST-MODIFIED:20230910T183135Z
UID:10000255-1694453400-1694458800@hanwell.nbed.ca
SUMMARY:Girls Soccer Tryout 1 (Postponed to Wednesday September 13)
DESCRIPTION:Postponed due to rain.
URL:https://hanwell.nbed.ca/calendar/girls-soccer-tryout-1/
CATEGORIES:Athletics
END:VEVENT
BEGIN:VEVENT
DTSTART;TZID=America/Moncton:20230905T081500
DTEND;TZID=America/Moncton:20230905T163000
DTSTAMP:20260421T223831
CREATED:20230616T121516Z
LAST-MODIFIED:20230620T120010Z
UID:10000233-1693901700-1693931400@hanwell.nbed.ca
SUMMARY:First Day of Classes
DESCRIPTION:
URL:https://hanwell.nbed.ca/calendar/first-day-of-classes/
CATEGORIES:Current Students
END:VEVENT
BEGIN:VEVENT
DTSTART;TZID=America/Moncton:20230904T000000
DTEND;TZID=America/Moncton:20230904T235900
DTSTAMP:20260421T223831
CREATED:20230616T121427Z
LAST-MODIFIED:20230620T120003Z
UID:10000232-1693785600-1693871940@hanwell.nbed.ca
SUMMARY:Labour Day
DESCRIPTION:
URL:https://hanwell.nbed.ca/calendar/labour-day-2/
CATEGORIES:Current Students
END:VEVENT
BEGIN:VEVENT
DTSTART;TZID=America/Moncton:20230901T081500
DTEND;TZID=America/Moncton:20230901T163000
DTSTAMP:20260421T223831
CREATED:20230616T123657Z
LAST-MODIFIED:20230620T115955Z
UID:10000240-1693556100-1693585800@hanwell.nbed.ca
SUMMARY:Full Administration Day
DESCRIPTION:Teachers and administrators ONLY.
URL:https://hanwell.nbed.ca/calendar/full-administration-day-6/
CATEGORIES:Current Students
END:VEVENT
BEGIN:VEVENT
DTSTART;TZID=America/Moncton:20230831T081500
DTEND;TZID=America/Moncton:20230831T163000
DTSTAMP:20260421T223831
CREATED:20230616T121254Z
LAST-MODIFIED:20230620T115947Z
UID:10000231-1693469700-1693499400@hanwell.nbed.ca
SUMMARY:Full Administration Day
DESCRIPTION:Teachers and administrators ONLY.
URL:https://hanwell.nbed.ca/calendar/full-administration-day-3/
CATEGORIES:Current Students
END:VEVENT
BEGIN:VEVENT
DTSTART;TZID=America/Moncton:20230830T081500
DTEND;TZID=America/Moncton:20230830T163000
DTSTAMP:20260421T223831
CREATED:20230616T123537Z
LAST-MODIFIED:20230620T115902Z
UID:10000239-1693383300-1693413000@hanwell.nbed.ca
SUMMARY:Council Day
DESCRIPTION:Teachers and administrators ONLY.
URL:https://hanwell.nbed.ca/calendar/council-day-3/
CATEGORIES:Current Students
END:VEVENT
BEGIN:VEVENT
DTSTART;TZID=America/Moncton:20230829T081500
DTEND;TZID=America/Moncton:20230829T163000
DTSTAMP:20260421T223831
CREATED:20230616T121109Z
LAST-MODIFIED:20230626T184358Z
UID:10000230-1693296900-1693326600@hanwell.nbed.ca
SUMMARY:NBTA Council Day (School/District Based)
DESCRIPTION:Teachers and administrators ONLY.
URL:https://hanwell.nbed.ca/calendar/council-day/
CATEGORIES:Current Students
END:VEVENT
BEGIN:VEVENT
DTSTART;TZID=America/Moncton:20230828T081500
DTEND;TZID=America/Moncton:20230828T163000
DTSTAMP:20260421T223831
CREATED:20230616T120828Z
LAST-MODIFIED:20230620T115547Z
UID:10000229-1693210500-1693240200@hanwell.nbed.ca
SUMMARY:Full Administration Day
DESCRIPTION:Teachers and administrators ONLY.
URL:https://hanwell.nbed.ca/calendar/full-administration-day-2/
CATEGORIES:Current Students
END:VEVENT
BEGIN:VEVENT
DTSTART;TZID=America/Moncton:20230623T000000
DTEND;TZID=America/Moncton:20230623T235959
DTSTAMP:20260421T223831
CREATED:20220502T161804Z
LAST-MODIFIED:20221024T190951Z
UID:10000008-1687478400-1687564799@hanwell.nbed.ca
SUMMARY:Last Day of Classes
DESCRIPTION:
URL:https://hanwell.nbed.ca/calendar/last-day-of-classes/
END:VEVENT
BEGIN:VEVENT
DTSTART;TZID=America/Halifax:20230607T083000
DTEND;TZID=America/Halifax:20230607T160000
DTSTAMP:20260421T223831
CREATED:20230509T103805Z
LAST-MODIFIED:20230606T170945Z
UID:10000215-1686126600-1686153600@hanwell.nbed.ca
SUMMARY:Middle School Track and Field Districts at Nasis Middle School
DESCRIPTION:Students will be bussed to Nasis Middle School and must be picked up at the conclusion of their events. There will NOT be a bus to bring them back to HPA.
URL:https://hanwell.nbed.ca/calendar/middle-school-track-and-field-districts-at-nasis-middle-school/
CATEGORIES:Athletics
END:VEVENT
END:VCALENDAR