BEGIN:VCALENDAR
VERSION:2.0
PRODID:-//Hanwell Park Academy - ECPv6.15.20//NONSGML v1.0//EN
CALSCALE:GREGORIAN
METHOD:PUBLISH
X-WR-CALNAME:Hanwell Park Academy
X-ORIGINAL-URL:https://hanwell.nbed.ca
X-WR-CALDESC:Events for Hanwell Park Academy
REFRESH-INTERVAL;VALUE=DURATION:PT1H
X-Robots-Tag:noindex
X-PUBLISHED-TTL:PT1H
BEGIN:VTIMEZONE
TZID:America/Halifax
BEGIN:DAYLIGHT
TZOFFSETFROM:-0400
TZOFFSETTO:-0300
TZNAME:ADT
DTSTART:20220313T060000
END:DAYLIGHT
BEGIN:STANDARD
TZOFFSETFROM:-0300
TZOFFSETTO:-0400
TZNAME:AST
DTSTART:20221106T050000
END:STANDARD
BEGIN:DAYLIGHT
TZOFFSETFROM:-0400
TZOFFSETTO:-0300
TZNAME:ADT
DTSTART:20230312T060000
END:DAYLIGHT
BEGIN:STANDARD
TZOFFSETFROM:-0300
TZOFFSETTO:-0400
TZNAME:AST
DTSTART:20231105T050000
END:STANDARD
BEGIN:DAYLIGHT
TZOFFSETFROM:-0400
TZOFFSETTO:-0300
TZNAME:ADT
DTSTART:20240310T060000
END:DAYLIGHT
BEGIN:STANDARD
TZOFFSETFROM:-0300
TZOFFSETTO:-0400
TZNAME:AST
DTSTART:20241103T050000
END:STANDARD
END:VTIMEZONE
BEGIN:VTIMEZONE
TZID:America/Moncton
BEGIN:DAYLIGHT
TZOFFSETFROM:-0400
TZOFFSETTO:-0300
TZNAME:ADT
DTSTART:20220313T060000
END:DAYLIGHT
BEGIN:STANDARD
TZOFFSETFROM:-0300
TZOFFSETTO:-0400
TZNAME:AST
DTSTART:20221106T050000
END:STANDARD
BEGIN:DAYLIGHT
TZOFFSETFROM:-0400
TZOFFSETTO:-0300
TZNAME:ADT
DTSTART:20230312T060000
END:DAYLIGHT
BEGIN:STANDARD
TZOFFSETFROM:-0300
TZOFFSETTO:-0400
TZNAME:AST
DTSTART:20231105T050000
END:STANDARD
BEGIN:DAYLIGHT
TZOFFSETFROM:-0400
TZOFFSETTO:-0300
TZNAME:ADT
DTSTART:20240310T060000
END:DAYLIGHT
BEGIN:STANDARD
TZOFFSETFROM:-0300
TZOFFSETTO:-0400
TZNAME:AST
DTSTART:20241103T050000
END:STANDARD
END:VTIMEZONE
BEGIN:VEVENT
DTSTART;TZID=America/Halifax:20230419T144500
DTEND;TZID=America/Halifax:20230419T163000
DTSTAMP:20260422T081609
CREATED:20230417T113507Z
LAST-MODIFIED:20230417T113508Z
UID:10000121-1681915500-1681921800@hanwell.nbed.ca
SUMMARY:Girls Volleyball Practice
DESCRIPTION:
URL:https://hanwell.nbed.ca/calendar/girls-volleyball-practice-4/
END:VEVENT
BEGIN:VEVENT
DTSTART;TZID=America/Halifax:20230419T144500
DTEND;TZID=America/Halifax:20230419T160000
DTSTAMP:20260422T081609
CREATED:20230417T171011Z
LAST-MODIFIED:20230418T102340Z
UID:10000125-1681915500-1681920000@hanwell.nbed.ca
SUMMARY:Boys Volleyball Practice
DESCRIPTION:
URL:https://hanwell.nbed.ca/calendar/boys-volleyball-practice-4/
END:VEVENT
BEGIN:VEVENT
DTSTART;TZID=America/Halifax:20230418T193000
DTEND;TZID=America/Halifax:20230418T210000
DTSTAMP:20260422T081609
CREATED:20230413T123920Z
LAST-MODIFIED:20230413T123921Z
UID:10000205-1681846200-1681851600@hanwell.nbed.ca
SUMMARY:Gym Booking - Godin
DESCRIPTION:
URL:https://hanwell.nbed.ca/calendar/gym-booking-godin/
END:VEVENT
BEGIN:VEVENT
DTSTART;TZID=America/Halifax:20230418T180000
DTEND;TZID=America/Halifax:20230418T193000
DTSTAMP:20260422T081609
CREATED:20230417T170949Z
LAST-MODIFIED:20230417T170949Z
UID:10000123-1681840800-1681846200@hanwell.nbed.ca
SUMMARY:Boys Volleyball Practice
DESCRIPTION:
URL:https://hanwell.nbed.ca/calendar/boys-volleyball-practice-3/
END:VEVENT
BEGIN:VEVENT
DTSTART;TZID=America/Halifax:20230417T183000
DTEND;TZID=America/Halifax:20230417T200000
DTSTAMP:20260422T081609
CREATED:20230417T110131Z
LAST-MODIFIED:20230417T110132Z
UID:10000120-1681756200-1681761600@hanwell.nbed.ca
SUMMARY:Boys Volleyball Practice
DESCRIPTION:
URL:https://hanwell.nbed.ca/calendar/boys-volleyball-practice-2/
END:VEVENT
BEGIN:VEVENT
DTSTART;TZID=America/Halifax:20230417T173000
DTEND;TZID=America/Halifax:20230417T190000
DTSTAMP:20260422T081609
CREATED:20230406T143216Z
LAST-MODIFIED:20230412T105329Z
UID:10000189-1681752600-1681758000@hanwell.nbed.ca
SUMMARY:Girls Volleyball Game against George St. at HPA
DESCRIPTION:
URL:https://hanwell.nbed.ca/calendar/girls-volleyball-game-against-bcms-at-hpa/
END:VEVENT
BEGIN:VEVENT
DTSTART;TZID=America/Halifax:20230414T180000
DTEND;TZID=America/Halifax:20230414T193000
DTSTAMP:20260422T081609
CREATED:20230404T102525Z
LAST-MODIFIED:20230405T171508Z
UID:10000181-1681495200-1681500600@hanwell.nbed.ca
SUMMARY:Staff Use
DESCRIPTION:
URL:https://hanwell.nbed.ca/calendar/staff-use/
END:VEVENT
BEGIN:VEVENT
DTSTART;TZID=America/Halifax:20230414T173000
DTEND;TZID=America/Halifax:20230414T190000
DTSTAMP:20260422T081609
CREATED:20230411T113920Z
LAST-MODIFIED:20230412T120722Z
UID:10000196-1681493400-1681498800@hanwell.nbed.ca
SUMMARY:Boys Volleyball Game at Stanley Consolidated School (1)
DESCRIPTION:
URL:https://hanwell.nbed.ca/calendar/boys-volleyball-game-at-stanley-consolidated-school/
END:VEVENT
BEGIN:VEVENT
DTSTART;TZID=America/Halifax:20230413T144500
DTEND;TZID=America/Halifax:20230413T163000
DTSTAMP:20260422T081609
CREATED:20230412T125309Z
LAST-MODIFIED:20230412T125309Z
UID:10000204-1681397100-1681403400@hanwell.nbed.ca
SUMMARY:Girls Volleyball Practice
DESCRIPTION:
URL:https://hanwell.nbed.ca/calendar/girls-volleyball-practice-3/
END:VEVENT
BEGIN:VEVENT
DTSTART;TZID=America/Halifax:20230412T193000
DTEND;TZID=America/Halifax:20230412T210000
DTSTAMP:20260422T081609
CREATED:20230404T102614Z
LAST-MODIFIED:20230404T102615Z
UID:10000183-1681327800-1681333200@hanwell.nbed.ca
SUMMARY:Staff Use
DESCRIPTION:
URL:https://hanwell.nbed.ca/calendar/staff-use-3/
END:VEVENT
BEGIN:VEVENT
DTSTART;TZID=America/Halifax:20230412T170000
DTEND;TZID=America/Halifax:20230412T183000
DTSTAMP:20260422T081609
CREATED:20230412T103413Z
LAST-MODIFIED:20230412T103414Z
UID:10000203-1681318800-1681324200@hanwell.nbed.ca
SUMMARY:Boys Volleyball Practice
DESCRIPTION:
URL:https://hanwell.nbed.ca/calendar/boys-volleyball-practice/
END:VEVENT
BEGIN:VEVENT
DTSTART;TZID=America/Halifax:20230412T144500
DTEND;TZID=America/Halifax:20230412T163000
DTSTAMP:20260422T081609
CREATED:20230406T142929Z
LAST-MODIFIED:20230406T142930Z
UID:10000187-1681310700-1681317000@hanwell.nbed.ca
SUMMARY:Girls Volleyball Practice
DESCRIPTION:
URL:https://hanwell.nbed.ca/calendar/girls-volleyball-practice-2/
END:VEVENT
BEGIN:VEVENT
DTSTART;TZID=America/Halifax:20230411T180000
DTEND;TZID=America/Halifax:20230411T193000
DTSTAMP:20260422T081609
CREATED:20230411T102931Z
LAST-MODIFIED:20230411T102932Z
UID:10000195-1681236000-1681241400@hanwell.nbed.ca
SUMMARY:Boys Volleyball Tryout 3
DESCRIPTION:
URL:https://hanwell.nbed.ca/calendar/boys-volleyball-tryout-3-2/
END:VEVENT
BEGIN:VEVENT
DTSTART;TZID=America/Halifax:20230411T144500
DTEND;TZID=America/Halifax:20230411T163000
DTSTAMP:20260422T081609
CREATED:20230406T142859Z
LAST-MODIFIED:20230406T142900Z
UID:10000186-1681224300-1681230600@hanwell.nbed.ca
SUMMARY:Girls Volleyball Practice
DESCRIPTION:
URL:https://hanwell.nbed.ca/calendar/girls-volleyball-practice/
END:VEVENT
BEGIN:VEVENT
DTSTART;TZID=America/Halifax:20230410T193000
DTEND;TZID=America/Halifax:20230410T210000
DTSTAMP:20260422T081609
CREATED:20230404T102552Z
LAST-MODIFIED:20230404T102553Z
UID:10000182-1681155000-1681160400@hanwell.nbed.ca
SUMMARY:Staff Use
DESCRIPTION:
URL:https://hanwell.nbed.ca/calendar/staff-use-2/
END:VEVENT
BEGIN:VEVENT
DTSTART;TZID=America/Moncton:20230410T000000
DTEND;TZID=America/Moncton:20230410T235959
DTSTAMP:20260422T081609
CREATED:20220502T161542Z
LAST-MODIFIED:20221024T192517Z
UID:10000006-1681084800-1681171199@hanwell.nbed.ca
SUMMARY:Easter Monday
DESCRIPTION:
URL:https://hanwell.nbed.ca/calendar/easter-monday/
CATEGORIES:Current Students
END:VEVENT
BEGIN:VEVENT
DTSTART;TZID=America/Moncton:20230407T000000
DTEND;TZID=America/Moncton:20230407T235959
DTSTAMP:20260422T081609
CREATED:20220502T161451Z
LAST-MODIFIED:20220921T130244Z
UID:10000005-1680825600-1680911999@hanwell.nbed.ca
SUMMARY:Good Friday
DESCRIPTION:
URL:https://hanwell.nbed.ca/calendar/good-friday/
END:VEVENT
BEGIN:VEVENT
DTSTART;TZID=America/Halifax:20230405T150000
DTEND;TZID=America/Halifax:20230405T163000
DTSTAMP:20260422T081609
CREATED:20230405T112506Z
LAST-MODIFIED:20230405T112507Z
UID:10000185-1680706800-1680712200@hanwell.nbed.ca
SUMMARY:Boys Volleyball Tryout 3
DESCRIPTION:
URL:https://hanwell.nbed.ca/calendar/boys-volleyball-tryout-3/
END:VEVENT
BEGIN:VEVENT
DTSTART;TZID=America/Halifax:20230405T144500
DTEND;TZID=America/Halifax:20230405T161500
DTSTAMP:20260422T081609
CREATED:20230404T120753Z
LAST-MODIFIED:20230404T120753Z
UID:10000184-1680705900-1680711300@hanwell.nbed.ca
SUMMARY:Girls Volleyball Tryout 3
DESCRIPTION:
URL:https://hanwell.nbed.ca/calendar/girls-volleyball-tryout-3/
END:VEVENT
BEGIN:VEVENT
DTSTART;TZID=America/Halifax:20230404T183000
DTEND;TZID=America/Halifax:20230404T200000
DTSTAMP:20260422T081609
CREATED:20230329T103325Z
LAST-MODIFIED:20230329T103326Z
UID:10000180-1680633000-1680638400@hanwell.nbed.ca
SUMMARY:Girls Volleyball Tryout 2
DESCRIPTION:
URL:https://hanwell.nbed.ca/calendar/girls-volleyball-tryout-2/
END:VEVENT
BEGIN:VEVENT
DTSTART;TZID=America/Halifax:20230404T183000
DTEND;TZID=America/Halifax:20230404T200000
DTSTAMP:20260422T081609
CREATED:20230329T103225Z
LAST-MODIFIED:20230329T103226Z
UID:10000178-1680633000-1680638400@hanwell.nbed.ca
SUMMARY:Boys Volleyball Tryout 2
DESCRIPTION:
URL:https://hanwell.nbed.ca/calendar/boys-volleyball-tryout-2/
END:VEVENT
BEGIN:VEVENT
DTSTART;TZID=America/Halifax:20230403T183000
DTEND;TZID=America/Halifax:20230403T200000
DTSTAMP:20260422T081609
CREATED:20230329T103258Z
LAST-MODIFIED:20230329T103258Z
UID:10000179-1680546600-1680552000@hanwell.nbed.ca
SUMMARY:Girls Volleyball Tryout 1
DESCRIPTION:
URL:https://hanwell.nbed.ca/calendar/girls-volleyball-tryout-1/
END:VEVENT
BEGIN:VEVENT
DTSTART;TZID=America/Halifax:20230403T183000
DTEND;TZID=America/Halifax:20230403T200000
DTSTAMP:20260422T081609
CREATED:20230329T103150Z
LAST-MODIFIED:20230329T103151Z
UID:10000177-1680546600-1680552000@hanwell.nbed.ca
SUMMARY:Boys Volleyball Tryout 1
DESCRIPTION:
URL:https://hanwell.nbed.ca/calendar/boys-volleyball-tryout-1/
END:VEVENT
BEGIN:VEVENT
DTSTART;TZID=America/Halifax:20230329T160000
DTEND;TZID=America/Halifax:20230329T183000
DTSTAMP:20260422T081609
CREATED:20230316T124610Z
LAST-MODIFIED:20230316T124611Z
UID:10000170-1680105600-1680114600@hanwell.nbed.ca
SUMMARY:Girls Badminton Districts at Central New Brunswick Academy
DESCRIPTION:Start time and end time might be adjusted but the date is correct
URL:https://hanwell.nbed.ca/calendar/girls-badminton-districts-at-central-new-brunswick-academy/
END:VEVENT
BEGIN:VEVENT
DTSTART;TZID=America/Halifax:20230328T183000
DTEND;TZID=America/Halifax:20230328T200000
DTSTAMP:20260422T081609
CREATED:20230322T111646Z
LAST-MODIFIED:20230322T111646Z
UID:10000176-1680028200-1680033600@hanwell.nbed.ca
SUMMARY:Girls and Boys Volleyball Open Gym
DESCRIPTION:
URL:https://hanwell.nbed.ca/calendar/girls-and-boys-volleyball-open-gym/
END:VEVENT
BEGIN:VEVENT
DTSTART;TZID=America/Halifax:20230328T160000
DTEND;TZID=America/Halifax:20230328T183000
DTSTAMP:20260422T081609
CREATED:20230316T124730Z
LAST-MODIFIED:20230316T124730Z
UID:10000171-1680019200-1680028200@hanwell.nbed.ca
SUMMARY:Boys Badminton Districts at Stanley Consolidated School
DESCRIPTION:Time of event might change. The date is correct.
URL:https://hanwell.nbed.ca/calendar/boys-badminton-districts-at-stanley-consolidated-school/
END:VEVENT
BEGIN:VEVENT
DTSTART;TZID=America/Halifax:20230327T183000
DTEND;TZID=America/Halifax:20230327T210000
DTSTAMP:20260422T081609
CREATED:20230302T132117Z
LAST-MODIFIED:20230302T132119Z
UID:10000088-1679941800-1679950800@hanwell.nbed.ca
SUMMARY:School Gym Booking
DESCRIPTION:
URL:https://hanwell.nbed.ca/calendar/school-gym-booking-2/
END:VEVENT
BEGIN:VEVENT
DTSTART;TZID=America/Halifax:20230323T144500
DTEND;TZID=America/Halifax:20230323T160000
DTSTAMP:20260422T081609
CREATED:20230319T154828Z
LAST-MODIFIED:20230319T154829Z
UID:10000175-1679582700-1679587200@hanwell.nbed.ca
SUMMARY:Boys Badminton Practice
DESCRIPTION:
URL:https://hanwell.nbed.ca/calendar/boys-badminton-practice-7/
END:VEVENT
BEGIN:VEVENT
DTSTART;TZID=America/Halifax:20230322T144500
DTEND;TZID=America/Halifax:20230322T160000
DTSTAMP:20260422T081610
CREATED:20230316T222544Z
LAST-MODIFIED:20230316T222545Z
UID:10000173-1679496300-1679500800@hanwell.nbed.ca
SUMMARY:Girls Badminton Practice
DESCRIPTION:
URL:https://hanwell.nbed.ca/calendar/girls-badminton-practice-7/
END:VEVENT
BEGIN:VEVENT
DTSTART;TZID=America/Halifax:20230321T180000
DTEND;TZID=America/Halifax:20230321T193000
DTSTAMP:20260422T081610
CREATED:20230315T103949Z
LAST-MODIFIED:20230317T162307Z
UID:10000169-1679421600-1679427000@hanwell.nbed.ca
SUMMARY:Middle School Boys & Girls Volleyball Open Gym
DESCRIPTION:
URL:https://hanwell.nbed.ca/calendar/middle-school-boys-volleyball-open-gym/
END:VEVENT
END:VCALENDAR