BEGIN:VCALENDAR
VERSION:2.0
PRODID:-//Hanwell Park Academy - ECPv6.15.20//NONSGML v1.0//EN
CALSCALE:GREGORIAN
METHOD:PUBLISH
X-WR-CALNAME:Hanwell Park Academy
X-ORIGINAL-URL:https://hanwell.nbed.ca
X-WR-CALDESC:Events for Hanwell Park Academy
REFRESH-INTERVAL;VALUE=DURATION:PT1H
X-Robots-Tag:noindex
X-PUBLISHED-TTL:PT1H
BEGIN:VTIMEZONE
TZID:America/Halifax
BEGIN:DAYLIGHT
TZOFFSETFROM:-0400
TZOFFSETTO:-0300
TZNAME:ADT
DTSTART:20230312T060000
END:DAYLIGHT
BEGIN:STANDARD
TZOFFSETFROM:-0300
TZOFFSETTO:-0400
TZNAME:AST
DTSTART:20231105T050000
END:STANDARD
BEGIN:DAYLIGHT
TZOFFSETFROM:-0400
TZOFFSETTO:-0300
TZNAME:ADT
DTSTART:20240310T060000
END:DAYLIGHT
BEGIN:STANDARD
TZOFFSETFROM:-0300
TZOFFSETTO:-0400
TZNAME:AST
DTSTART:20241103T050000
END:STANDARD
BEGIN:DAYLIGHT
TZOFFSETFROM:-0400
TZOFFSETTO:-0300
TZNAME:ADT
DTSTART:20250309T060000
END:DAYLIGHT
BEGIN:STANDARD
TZOFFSETFROM:-0300
TZOFFSETTO:-0400
TZNAME:AST
DTSTART:20251102T050000
END:STANDARD
END:VTIMEZONE
BEGIN:VEVENT
DTSTART;TZID=America/Halifax:20241016T163000
DTEND;TZID=America/Halifax:20241016T180000
DTSTAMP:20260420T183018
CREATED:20241014T120109Z
LAST-MODIFIED:20241014T120111Z
UID:10000555-1729096200-1729101600@hanwell.nbed.ca
SUMMARY:Girls Soccer District Semi-final Vs Stanley at HPA
DESCRIPTION:
URL:https://hanwell.nbed.ca/calendar/girls-soccer-district-semi-final-vs-stanley-at-hpa/
CATEGORIES:Athletics
END:VEVENT
BEGIN:VEVENT
DTSTART;TZID=America/Halifax:20241016T143000
DTEND;TZID=America/Halifax:20241016T160000
DTSTAMP:20260420T183018
CREATED:20240919T193553Z
LAST-MODIFIED:20240924T105249Z
UID:10000534-1729089000-1729094400@hanwell.nbed.ca
SUMMARY:Girls Volleyball Skills and Drills (Middle Level)
DESCRIPTION:
URL:https://hanwell.nbed.ca/calendar/girls-volleyball-skills-and-drills-middle-level/2024-10-16/
CATEGORIES:Athletics
END:VEVENT
BEGIN:VEVENT
DTSTART;TZID=America/Halifax:20241015T161500
DTEND;TZID=America/Halifax:20241015T174500
DTSTAMP:20260420T183018
CREATED:20241010T165211Z
LAST-MODIFIED:20241011T103436Z
UID:10000553-1729008900-1729014300@hanwell.nbed.ca
SUMMARY:Boys Soccer District Semi-finals Vs. CNBA at FCA
DESCRIPTION:Games are at Devon Park Church Field
URL:https://hanwell.nbed.ca/calendar/boys-soccer-district-semi-finals-at-fca/
CATEGORIES:Athletics
END:VEVENT
BEGIN:VEVENT
DTSTART;TZID=America/Halifax:20241015T143000
DTEND;TZID=America/Halifax:20241015T161500
DTSTAMP:20260420T183018
CREATED:20241007T153827Z
LAST-MODIFIED:20241007T153829Z
UID:10000551-1729002600-1729008900@hanwell.nbed.ca
SUMMARY:Girls Basketball Skills and Drills
DESCRIPTION:
URL:https://hanwell.nbed.ca/calendar/girls-basketball-skills-and-drills/2024-10-15/
CATEGORIES:Athletics
END:VEVENT
BEGIN:VEVENT
DTSTART;TZID=America/Halifax:20241014T083000
DTEND;TZID=America/Halifax:20241014T133000
DTSTAMP:20260420T183018
CREATED:20241001T141424Z
LAST-MODIFIED:20241001T141426Z
UID:10000547-1728894600-1728912600@hanwell.nbed.ca
SUMMARY:Kindergarten Registration 2025-2026 Entry
DESCRIPTION:If you have a child who will be starting Kindergarten in September 2025\, please go online to register them.  You can use the following link.    https://asdw.nbed.ca/new-students/kindergarten/#how-to-register.  If you need to come into the school to register\, staff are available to support you from 8:30-1:30 during the week of Oct. 14-18th.
URL:https://hanwell.nbed.ca/calendar/kindergarten-registration-2025-2026-entry/
END:VEVENT
BEGIN:VEVENT
DTSTART;TZID=America/Halifax:20241010T164500
DTEND;TZID=America/Halifax:20241010T180000
DTSTAMP:20260420T183018
CREATED:20240912T153654Z
LAST-MODIFIED:20241009T102555Z
UID:10000516-1728578700-1728583200@hanwell.nbed.ca
SUMMARY:Girls Soccer Match Vs. FCA at FCA
DESCRIPTION:Game will be at Devon Park
URL:https://hanwell.nbed.ca/calendar/girls-soccer-match-vs-fca-at-fca/
CATEGORIES:Athletics
END:VEVENT
BEGIN:VEVENT
DTSTART;TZID=America/Halifax:20241009T170000
DTEND;TZID=America/Halifax:20241009T183000
DTSTAMP:20260420T183018
CREATED:20241003T133717Z
LAST-MODIFIED:20241003T133719Z
UID:10000549-1728493200-1728498600@hanwell.nbed.ca
SUMMARY:Girls Soccer Practice
DESCRIPTION:
URL:https://hanwell.nbed.ca/calendar/girls-soccer-practice-24/
CATEGORIES:Athletics
END:VEVENT
BEGIN:VEVENT
DTSTART;TZID=America/Halifax:20241009T143000
DTEND;TZID=America/Halifax:20241009T160000
DTSTAMP:20260420T183018
CREATED:20240919T193553Z
LAST-MODIFIED:20240924T105249Z
UID:10000533-1728484200-1728489600@hanwell.nbed.ca
SUMMARY:Girls Volleyball Skills and Drills (Middle Level)
DESCRIPTION:
URL:https://hanwell.nbed.ca/calendar/girls-volleyball-skills-and-drills-middle-level/2024-10-09/
CATEGORIES:Athletics
END:VEVENT
BEGIN:VEVENT
DTSTART;TZID=America/Halifax:20241009T133000
DTEND;TZID=America/Halifax:20241009T150000
DTSTAMP:20260420T183018
CREATED:20240904T164906Z
LAST-MODIFIED:20240904T164907Z
UID:10000506-1728480600-1728486000@hanwell.nbed.ca
SUMMARY:Elementary Cross Country District Finals (Grades 3-5) at Nashwaaksis Middle School
DESCRIPTION:
URL:https://hanwell.nbed.ca/calendar/elementary-cross-country-district-finals-grades-3-5-at-nashwaaksis-middle-school/
CATEGORIES:Athletics
END:VEVENT
BEGIN:VEVENT
DTSTART;TZID=America/Halifax:20241008T170000
DTEND;TZID=America/Halifax:20241008T180000
DTSTAMP:20260420T183018
CREATED:20241003T154654Z
LAST-MODIFIED:20241008T131159Z
UID:10000550-1728406800-1728410400@hanwell.nbed.ca
SUMMARY:Cancelled - Boys Soccer Practice
DESCRIPTION:
URL:https://hanwell.nbed.ca/calendar/boys-soccer-practice-11/
CATEGORIES:Athletics
END:VEVENT
BEGIN:VEVENT
DTSTART;TZID=America/Halifax:20241007T163000
DTEND;TZID=America/Halifax:20241007T180000
DTSTAMP:20260420T183018
CREATED:20240912T154201Z
LAST-MODIFIED:20240912T154204Z
UID:10000520-1728318600-1728324000@hanwell.nbed.ca
SUMMARY:Boys Soccer Match Vs. Stanley at HPA
DESCRIPTION:
URL:https://hanwell.nbed.ca/calendar/boys-soccer-match-vs-stanley-at-hpa/
CATEGORIES:Athletics
END:VEVENT
BEGIN:VEVENT
DTSTART;TZID=America/Halifax:20241006T160000
DTEND;TZID=America/Halifax:20241006T173000
DTSTAMP:20260420T183018
CREATED:20241003T133641Z
LAST-MODIFIED:20241003T133643Z
UID:10000548-1728230400-1728235800@hanwell.nbed.ca
SUMMARY:Girls Soccer Practice
DESCRIPTION:
URL:https://hanwell.nbed.ca/calendar/girls-soccer-practice-23/
CATEGORIES:Athletics
END:VEVENT
BEGIN:VEVENT
DTSTART;TZID=America/Halifax:20241003T163000
DTEND;TZID=America/Halifax:20241003T180000
DTSTAMP:20260420T183018
CREATED:20240912T153536Z
LAST-MODIFIED:20240912T153537Z
UID:10000515-1727973000-1727978400@hanwell.nbed.ca
SUMMARY:Girls Soccer Match Vs. Stanley at HPA
DESCRIPTION:
URL:https://hanwell.nbed.ca/calendar/girls-soccer-match-vs-stanley-at-hpa/
CATEGORIES:Athletics
END:VEVENT
BEGIN:VEVENT
DTSTART;TZID=America/Halifax:20241002T180000
DTEND;TZID=America/Halifax:20241002T190000
DTSTAMP:20260420T183018
CREATED:20240927T133050Z
LAST-MODIFIED:20240927T133051Z
UID:10000546-1727892000-1727895600@hanwell.nbed.ca
SUMMARY:Girls Soccer Practice
DESCRIPTION:
URL:https://hanwell.nbed.ca/calendar/girls-soccer-practice-22/
CATEGORIES:Athletics
END:VEVENT
BEGIN:VEVENT
DTSTART;TZID=America/Halifax:20241002T143000
DTEND;TZID=America/Halifax:20241002T160000
DTSTAMP:20260420T183018
CREATED:20241002T102705Z
LAST-MODIFIED:20241002T102707Z
UID:10000532-1727879400-1727884800@hanwell.nbed.ca
SUMMARY:Cancelled - Girls Volleyball Skills and Drills (Middle Level)
DESCRIPTION:
URL:https://hanwell.nbed.ca/calendar/girls-volleyball-skills-and-drills-middle-level-3/
CATEGORIES:Athletics
END:VEVENT
BEGIN:VEVENT
DTSTART;TZID=America/Halifax:20241002T133000
DTEND;TZID=America/Halifax:20241002T143000
DTSTAMP:20260420T183018
CREATED:20240904T164947Z
LAST-MODIFIED:20240904T164948Z
UID:10000507-1727875800-1727879400@hanwell.nbed.ca
SUMMARY:Elementary Cross Country Meet (Grades 3-5) at New Maryland Elementary
DESCRIPTION:
URL:https://hanwell.nbed.ca/calendar/elementary-cross-country-meet-grades-3-5-at-new-maryland-elementary/
CATEGORIES:Athletics
END:VEVENT
BEGIN:VEVENT
DTSTART;TZID=America/Halifax:20241001T163000
DTEND;TZID=America/Halifax:20241001T180000
DTSTAMP:20260420T183018
CREATED:20240904T104238Z
LAST-MODIFIED:20240917T172135Z
UID:10000503-1727800200-1727805600@hanwell.nbed.ca
SUMMARY:Middle School Cross Country Districts at HPA
DESCRIPTION:Arrive to venue at least 15 minutes before the event begins
URL:https://hanwell.nbed.ca/calendar/middle-school-cross-country-districts-at-hpa-2/
CATEGORIES:Athletics
END:VEVENT
BEGIN:VEVENT
DTSTART;TZID=America/Halifax:20240929T153000
DTEND;TZID=America/Halifax:20240929T170000
DTSTAMP:20260420T183018
CREATED:20240927T133012Z
LAST-MODIFIED:20240927T133014Z
UID:10000545-1727623800-1727629200@hanwell.nbed.ca
SUMMARY:Girls Soccer Practice
DESCRIPTION:
URL:https://hanwell.nbed.ca/calendar/girls-soccer-practice-21/
CATEGORIES:Athletics
END:VEVENT
BEGIN:VEVENT
DTSTART;TZID=America/Halifax:20240926T163000
DTEND;TZID=America/Halifax:20240926T180000
DTSTAMP:20260420T183018
CREATED:20240912T153458Z
LAST-MODIFIED:20240912T153500Z
UID:10000514-1727368200-1727373600@hanwell.nbed.ca
SUMMARY:Girls Soccer Match Vs. Harvey at HPA
DESCRIPTION:
URL:https://hanwell.nbed.ca/calendar/girls-soccer-match-vs-harvey-at-hpa/
CATEGORIES:Athletics
END:VEVENT
BEGIN:VEVENT
DTSTART;TZID=America/Halifax:20240926T143000
DTEND;TZID=America/Halifax:20240926T160000
DTSTAMP:20260420T183018
CREATED:20240916T171852Z
LAST-MODIFIED:20240925T103352Z
UID:10000543-1727361000-1727366400@hanwell.nbed.ca
SUMMARY:Cancelled - Middle School Girls Basketball Skills and Drills
DESCRIPTION:
URL:https://hanwell.nbed.ca/calendar/middle-school-girls-basketball-skills-and-drills-8/
CATEGORIES:Athletics
END:VEVENT
BEGIN:VEVENT
DTSTART;TZID=America/Halifax:20240925T180000
DTEND;TZID=America/Halifax:20240925T190000
DTSTAMP:20260420T183018
CREATED:20240919T124245Z
LAST-MODIFIED:20240919T124246Z
UID:10000530-1727287200-1727290800@hanwell.nbed.ca
SUMMARY:Girls Soccer Practice
DESCRIPTION:
URL:https://hanwell.nbed.ca/calendar/girls-soccer-practice-20/
CATEGORIES:Athletics
END:VEVENT
BEGIN:VEVENT
DTSTART;TZID=America/Halifax:20240925T163000
DTEND;TZID=America/Halifax:20240925T180000
DTSTAMP:20260420T183018
CREATED:20240912T154115Z
LAST-MODIFIED:20240912T154116Z
UID:10000519-1727281800-1727287200@hanwell.nbed.ca
SUMMARY:Boys Soccer Match Vs. FCA at HPA
DESCRIPTION:
URL:https://hanwell.nbed.ca/calendar/boys-soccer-match-vs-fca-at-hpa/
CATEGORIES:Athletics
END:VEVENT
BEGIN:VEVENT
DTSTART;TZID=America/Halifax:20240925T143000
DTEND;TZID=America/Halifax:20240925T160000
DTSTAMP:20260420T183018
CREATED:20240925T103424Z
LAST-MODIFIED:20240925T103426Z
UID:10000531-1727274600-1727280000@hanwell.nbed.ca
SUMMARY:Cancelled - Girls Volleyball Skills and Drills (Middle Level)
DESCRIPTION:
URL:https://hanwell.nbed.ca/calendar/girls-volleyball-skills-and-drills-middle-level-2/
CATEGORIES:Athletics
END:VEVENT
BEGIN:VEVENT
DTSTART;TZID=America/Halifax:20240925T133000
DTEND;TZID=America/Halifax:20240925T143000
DTSTAMP:20260420T183018
CREATED:20240904T164754Z
LAST-MODIFIED:20240904T164755Z
UID:10000505-1727271000-1727274600@hanwell.nbed.ca
SUMMARY:Elementary Cross Country (Grades 3-5) at Odell Park
DESCRIPTION:
URL:https://hanwell.nbed.ca/calendar/elementary-cross-country-grades-3-5-at-odell-park/
CATEGORIES:Athletics
END:VEVENT
BEGIN:VEVENT
DTSTART;TZID=America/Halifax:20240924T163000
DTEND;TZID=America/Halifax:20240924T180000
DTSTAMP:20260420T183018
CREATED:20240904T104156Z
LAST-MODIFIED:20240917T172159Z
UID:10000502-1727195400-1727200800@hanwell.nbed.ca
SUMMARY:Middle School Cross Country Meet at Bliss Carman Middle School
DESCRIPTION:Arrive to venue at least 15 minutes before it begins
URL:https://hanwell.nbed.ca/calendar/middle-school-cross-country-meet-at-bliss-carman-middle-school/
CATEGORIES:Athletics
END:VEVENT
BEGIN:VEVENT
DTSTART;TZID=America/Halifax:20240924T143000
DTEND;TZID=America/Halifax:20240924T160000
DTSTAMP:20260420T183018
CREATED:20240924T105350Z
LAST-MODIFIED:20240924T105351Z
UID:10000524-1727188200-1727193600@hanwell.nbed.ca
SUMMARY:Cancelled - Middle School Girls Basketball Skills and Drills
DESCRIPTION:
URL:https://hanwell.nbed.ca/calendar/middle-school-girls-basketball-skills-and-drills-9/
CATEGORIES:Athletics
END:VEVENT
BEGIN:VEVENT
DTSTART;TZID=America/Halifax:20240923T173000
DTEND;TZID=America/Halifax:20240923T190000
DTSTAMP:20260420T183018
CREATED:20240919T105017Z
LAST-MODIFIED:20240919T105018Z
UID:10000529-1727112600-1727118000@hanwell.nbed.ca
SUMMARY:Girls Soccer Practice
DESCRIPTION:
URL:https://hanwell.nbed.ca/calendar/girls-soccer-practice-19/
CATEGORIES:Athletics
END:VEVENT
BEGIN:VEVENT
DTSTART;TZID=America/Halifax:20240923T163000
DTEND;TZID=America/Halifax:20240923T180000
DTSTAMP:20260420T183018
CREATED:20240912T153833Z
LAST-MODIFIED:20240912T153834Z
UID:10000518-1727109000-1727114400@hanwell.nbed.ca
SUMMARY:Boys Soccer Match Vs. Keswick Valley at Keswick Valley
DESCRIPTION:
URL:https://hanwell.nbed.ca/calendar/boys-soccer-match-vs-keswick-valley-at-keswick-valley/
CATEGORIES:Athletics
END:VEVENT
BEGIN:VEVENT
DTSTART;TZID=America/Halifax:20240923T143000
DTEND;TZID=America/Halifax:20240923T154500
DTSTAMP:20260420T183018
CREATED:20240918T110339Z
LAST-MODIFIED:20240918T110340Z
UID:10000526-1727101800-1727106300@hanwell.nbed.ca
SUMMARY:Middle School Cross Country Practice
DESCRIPTION:
URL:https://hanwell.nbed.ca/calendar/middle-school-cross-country-practice-9/
CATEGORIES:Athletics
END:VEVENT
BEGIN:VEVENT
DTSTART;TZID=America/Halifax:20240921T130000
DTEND;TZID=America/Halifax:20240921T150000
DTSTAMP:20260420T183018
CREATED:20240919T104949Z
LAST-MODIFIED:20240919T104950Z
UID:10000528-1726923600-1726930800@hanwell.nbed.ca
SUMMARY:Girls Soccer Practice
DESCRIPTION:
URL:https://hanwell.nbed.ca/calendar/girls-soccer-practice-18/
CATEGORIES:Athletics
END:VEVENT
END:VCALENDAR