BEGIN:VCALENDAR
VERSION:2.0
PRODID:-//Hanwell Park Academy - ECPv6.15.20//NONSGML v1.0//EN
CALSCALE:GREGORIAN
METHOD:PUBLISH
X-WR-CALNAME:Hanwell Park Academy
X-ORIGINAL-URL:https://hanwell.nbed.ca
X-WR-CALDESC:Events for Hanwell Park Academy
REFRESH-INTERVAL;VALUE=DURATION:PT1H
X-Robots-Tag:noindex
X-PUBLISHED-TTL:PT1H
BEGIN:VTIMEZONE
TZID:America/Halifax
BEGIN:DAYLIGHT
TZOFFSETFROM:-0400
TZOFFSETTO:-0300
TZNAME:ADT
DTSTART:20220313T060000
END:DAYLIGHT
BEGIN:STANDARD
TZOFFSETFROM:-0300
TZOFFSETTO:-0400
TZNAME:AST
DTSTART:20221106T050000
END:STANDARD
BEGIN:DAYLIGHT
TZOFFSETFROM:-0400
TZOFFSETTO:-0300
TZNAME:ADT
DTSTART:20230312T060000
END:DAYLIGHT
BEGIN:STANDARD
TZOFFSETFROM:-0300
TZOFFSETTO:-0400
TZNAME:AST
DTSTART:20231105T050000
END:STANDARD
BEGIN:DAYLIGHT
TZOFFSETFROM:-0400
TZOFFSETTO:-0300
TZNAME:ADT
DTSTART:20240310T060000
END:DAYLIGHT
BEGIN:STANDARD
TZOFFSETFROM:-0300
TZOFFSETTO:-0400
TZNAME:AST
DTSTART:20241103T050000
END:STANDARD
END:VTIMEZONE
BEGIN:VTIMEZONE
TZID:America/Moncton
BEGIN:DAYLIGHT
TZOFFSETFROM:-0400
TZOFFSETTO:-0300
TZNAME:ADT
DTSTART:20220313T060000
END:DAYLIGHT
BEGIN:STANDARD
TZOFFSETFROM:-0300
TZOFFSETTO:-0400
TZNAME:AST
DTSTART:20221106T050000
END:STANDARD
BEGIN:DAYLIGHT
TZOFFSETFROM:-0400
TZOFFSETTO:-0300
TZNAME:ADT
DTSTART:20230312T060000
END:DAYLIGHT
BEGIN:STANDARD
TZOFFSETFROM:-0300
TZOFFSETTO:-0400
TZNAME:AST
DTSTART:20231105T050000
END:STANDARD
BEGIN:DAYLIGHT
TZOFFSETFROM:-0400
TZOFFSETTO:-0300
TZNAME:ADT
DTSTART:20240310T060000
END:DAYLIGHT
BEGIN:STANDARD
TZOFFSETFROM:-0300
TZOFFSETTO:-0400
TZNAME:AST
DTSTART:20241103T050000
END:STANDARD
END:VTIMEZONE
BEGIN:VEVENT
DTSTART;TZID=America/Halifax:20230328T160000
DTEND;TZID=America/Halifax:20230328T183000
DTSTAMP:20260422T193216
CREATED:20230316T124730Z
LAST-MODIFIED:20230316T124730Z
UID:10000171-1680019200-1680028200@hanwell.nbed.ca
SUMMARY:Boys Badminton Districts at Stanley Consolidated School
DESCRIPTION:Time of event might change. The date is correct.
URL:https://hanwell.nbed.ca/calendar/boys-badminton-districts-at-stanley-consolidated-school/
END:VEVENT
BEGIN:VEVENT
DTSTART;TZID=America/Halifax:20230327T183000
DTEND;TZID=America/Halifax:20230327T210000
DTSTAMP:20260422T193216
CREATED:20230302T132117Z
LAST-MODIFIED:20230302T132119Z
UID:10000088-1679941800-1679950800@hanwell.nbed.ca
SUMMARY:School Gym Booking
DESCRIPTION:
URL:https://hanwell.nbed.ca/calendar/school-gym-booking-2/
END:VEVENT
BEGIN:VEVENT
DTSTART;TZID=America/Halifax:20230323T144500
DTEND;TZID=America/Halifax:20230323T160000
DTSTAMP:20260422T193216
CREATED:20230319T154828Z
LAST-MODIFIED:20230319T154829Z
UID:10000175-1679582700-1679587200@hanwell.nbed.ca
SUMMARY:Boys Badminton Practice
DESCRIPTION:
URL:https://hanwell.nbed.ca/calendar/boys-badminton-practice-7/
END:VEVENT
BEGIN:VEVENT
DTSTART;TZID=America/Halifax:20230322T144500
DTEND;TZID=America/Halifax:20230322T160000
DTSTAMP:20260422T193216
CREATED:20230316T222544Z
LAST-MODIFIED:20230316T222545Z
UID:10000173-1679496300-1679500800@hanwell.nbed.ca
SUMMARY:Girls Badminton Practice
DESCRIPTION:
URL:https://hanwell.nbed.ca/calendar/girls-badminton-practice-7/
END:VEVENT
BEGIN:VEVENT
DTSTART;TZID=America/Halifax:20230321T180000
DTEND;TZID=America/Halifax:20230321T193000
DTSTAMP:20260422T193216
CREATED:20230315T103949Z
LAST-MODIFIED:20230317T162307Z
UID:10000169-1679421600-1679427000@hanwell.nbed.ca
SUMMARY:Middle School Boys & Girls Volleyball Open Gym
DESCRIPTION:
URL:https://hanwell.nbed.ca/calendar/middle-school-boys-volleyball-open-gym/
END:VEVENT
BEGIN:VEVENT
DTSTART;TZID=America/Halifax:20230321T144500
DTEND;TZID=America/Halifax:20230321T160000
DTSTAMP:20260422T193216
CREATED:20230319T154717Z
LAST-MODIFIED:20230319T154717Z
UID:10000174-1679409900-1679414400@hanwell.nbed.ca
SUMMARY:Boys Badminton Practice
DESCRIPTION:
URL:https://hanwell.nbed.ca/calendar/boys-badminton-practice-6/
END:VEVENT
BEGIN:VEVENT
DTSTART;TZID=America/Halifax:20230321T144500
DTEND;TZID=America/Halifax:20230321T160000
DTSTAMP:20260422T193216
CREATED:20230316T222500Z
LAST-MODIFIED:20230316T222501Z
UID:10000172-1679409900-1679414400@hanwell.nbed.ca
SUMMARY:Girls Badminton Practice
DESCRIPTION:
URL:https://hanwell.nbed.ca/calendar/girls-badminton-practice-6/
END:VEVENT
BEGIN:VEVENT
DTSTART;TZID=America/Halifax:20230320T183000
DTEND;TZID=America/Halifax:20230320T210000
DTSTAMP:20260422T193216
CREATED:20230302T132047Z
LAST-MODIFIED:20230302T132050Z
UID:10000086-1679337000-1679346000@hanwell.nbed.ca
SUMMARY:School Gym Booking
DESCRIPTION:
URL:https://hanwell.nbed.ca/calendar/school-gym-booking/
END:VEVENT
BEGIN:VEVENT
DTSTART;TZID=America/Halifax:20230316T160000
DTEND;TZID=America/Halifax:20230316T173000
DTSTAMP:20260422T193216
CREATED:20230302T132350Z
LAST-MODIFIED:20230302T132352Z
UID:10000092-1678982400-1678987800@hanwell.nbed.ca
SUMMARY:Boys Badminton Match at HPA
DESCRIPTION:
URL:https://hanwell.nbed.ca/calendar/boys-badminton-match-at-hpa/
END:VEVENT
BEGIN:VEVENT
DTSTART;TZID=America/Halifax:20230316T144500
DTEND;TZID=America/Halifax:20230316T160000
DTSTAMP:20260422T193216
CREATED:20230312T185203Z
LAST-MODIFIED:20230312T185204Z
UID:10000167-1678977900-1678982400@hanwell.nbed.ca
SUMMARY:Girls Badminton Practice
DESCRIPTION:
URL:https://hanwell.nbed.ca/calendar/girls-badminton-practice-5/
END:VEVENT
BEGIN:VEVENT
DTSTART;TZID=America/Halifax:20230315T160000
DTEND;TZID=America/Halifax:20230315T173000
DTSTAMP:20260422T193216
CREATED:20230302T132321Z
LAST-MODIFIED:20230315T111010Z
UID:10000090-1678896000-1678901400@hanwell.nbed.ca
SUMMARY:Girls Badminton Match at HPA
DESCRIPTION:
URL:https://hanwell.nbed.ca/calendar/girls-badminton-match-at-hpa/
END:VEVENT
BEGIN:VEVENT
DTSTART;TZID=America/Halifax:20230315T144500
DTEND;TZID=America/Halifax:20230315T160000
DTSTAMP:20260422T193216
CREATED:20230312T185243Z
LAST-MODIFIED:20230312T185244Z
UID:10000168-1678891500-1678896000@hanwell.nbed.ca
SUMMARY:Boys Badminton Practice
DESCRIPTION:
URL:https://hanwell.nbed.ca/calendar/boys-badminton-practice-5/
END:VEVENT
BEGIN:VEVENT
DTSTART;TZID=America/Halifax:20230314T134500
DTEND;TZID=America/Halifax:20230314T160000
DTSTAMP:20260422T193216
CREATED:20230312T184949Z
LAST-MODIFIED:20230314T133536Z
UID:10000166-1678801500-1678809600@hanwell.nbed.ca
SUMMARY:Girls Badminton Practice - Cancelled
DESCRIPTION:
URL:https://hanwell.nbed.ca/calendar/girls-badminton-practice-4/
END:VEVENT
BEGIN:VEVENT
DTSTART;TZID=America/Halifax:20230313T183000
DTEND;TZID=America/Halifax:20230313T210000
DTSTAMP:20260422T193216
CREATED:20230302T131954Z
LAST-MODIFIED:20230302T132236Z
UID:10000085-1678732200-1678741200@hanwell.nbed.ca
SUMMARY:School Gym Booking
DESCRIPTION:
URL:https://hanwell.nbed.ca/calendar/school-booking/
END:VEVENT
BEGIN:VEVENT
DTSTART;TZID=America/Moncton:20230306T000000
DTEND;TZID=America/Moncton:20230310T235959
DTSTAMP:20260422T193216
CREATED:20220502T161425Z
LAST-MODIFIED:20220921T130636Z
UID:10000004-1678060800-1678492799@hanwell.nbed.ca
SUMMARY:March Break
DESCRIPTION:
URL:https://hanwell.nbed.ca/calendar/march-break/
END:VEVENT
BEGIN:VEVENT
DTSTART;TZID=America/Halifax:20230302T144500
DTEND;TZID=America/Halifax:20230302T160000
DTSTAMP:20260422T193216
CREATED:20230302T164255Z
LAST-MODIFIED:20230302T171508Z
UID:10000165-1677768300-1677772800@hanwell.nbed.ca
SUMMARY:Girls Badminton Practice - Cancelled due to weather
DESCRIPTION:
URL:https://hanwell.nbed.ca/calendar/girls-badminton-practice-3/
END:VEVENT
BEGIN:VEVENT
DTSTART;TZID=America/Halifax:20230302T144500
DTEND;TZID=America/Halifax:20230302T160000
DTSTAMP:20260422T193216
CREATED:20230227T143300Z
LAST-MODIFIED:20230302T171534Z
UID:10000082-1677768300-1677772800@hanwell.nbed.ca
SUMMARY:Boys Badminton Practice - Cancelled due to weather
DESCRIPTION:
URL:https://hanwell.nbed.ca/calendar/boys-badminton-practice-4/
END:VEVENT
BEGIN:VEVENT
DTSTART;TZID=America/Halifax:20230228T144500
DTEND;TZID=America/Halifax:20230228T160000
DTSTAMP:20260422T193216
CREATED:20230227T143227Z
LAST-MODIFIED:20230227T143229Z
UID:10000081-1677595500-1677600000@hanwell.nbed.ca
SUMMARY:Boys Badminton Practice
DESCRIPTION:
URL:https://hanwell.nbed.ca/calendar/boys-badminton-practice-3/
END:VEVENT
BEGIN:VEVENT
DTSTART;TZID=America/Halifax:20230228T144500
DTEND;TZID=America/Halifax:20230228T160000
DTSTAMP:20260422T193216
CREATED:20230227T125808Z
LAST-MODIFIED:20230227T125811Z
UID:10000079-1677595500-1677600000@hanwell.nbed.ca
SUMMARY:Girls Badminton Practice
DESCRIPTION:
URL:https://hanwell.nbed.ca/calendar/girls-badminton-practice-2/
END:VEVENT
BEGIN:VEVENT
DTSTART;TZID=America/Halifax:20230224T144500
DTEND;TZID=America/Halifax:20230224T160000
DTSTAMP:20260422T193216
CREATED:20230222T231606Z
LAST-MODIFIED:20230223T181008Z
UID:10000077-1677249900-1677254400@hanwell.nbed.ca
SUMMARY:Girls Badminton Practice - Cancelled
DESCRIPTION:
URL:https://hanwell.nbed.ca/calendar/girls-badminton-practice/
END:VEVENT
BEGIN:VEVENT
DTSTART;TZID=America/Halifax:20230223T144500
DTEND;TZID=America/Halifax:20230223T154500
DTSTAMP:20260422T193216
CREATED:20230220T162234Z
LAST-MODIFIED:20230220T162236Z
UID:10000075-1677163500-1677167100@hanwell.nbed.ca
SUMMARY:Boys Badminton Practice
DESCRIPTION:
URL:https://hanwell.nbed.ca/calendar/boys-badminton-practice-2/
END:VEVENT
BEGIN:VEVENT
DTSTART;TZID=America/Halifax:20230222T144500
DTEND;TZID=America/Halifax:20230222T160000
DTSTAMP:20260422T193216
CREATED:20230216T165843Z
LAST-MODIFIED:20230222T153424Z
UID:10000163-1677077100-1677081600@hanwell.nbed.ca
SUMMARY:Girls Badminton - Cancelled
DESCRIPTION:
URL:https://hanwell.nbed.ca/calendar/girls-badminton-2/
END:VEVENT
BEGIN:VEVENT
DTSTART;TZID=America/Halifax:20230221T144500
DTEND;TZID=America/Halifax:20230221T160000
DTSTAMP:20260422T193216
CREATED:20230216T165757Z
LAST-MODIFIED:20230216T165800Z
UID:10000162-1676990700-1676995200@hanwell.nbed.ca
SUMMARY:Girls Badminton
DESCRIPTION:
URL:https://hanwell.nbed.ca/calendar/girls-badminton/
END:VEVENT
BEGIN:VEVENT
DTSTART;TZID=America/Halifax:20230221T144500
DTEND;TZID=America/Halifax:20230221T154500
DTSTAMP:20260422T193216
CREATED:20230220T162114Z
LAST-MODIFIED:20230220T162116Z
UID:10000164-1676990700-1676994300@hanwell.nbed.ca
SUMMARY:Boys Badminton Practice
DESCRIPTION:
URL:https://hanwell.nbed.ca/calendar/boys-badminton-practice/
END:VEVENT
BEGIN:VEVENT
DTSTART;TZID=America/Moncton:20230220T000000
DTEND;TZID=America/Moncton:20230220T235959
DTSTAMP:20260422T193216
CREATED:20220502T161327Z
LAST-MODIFIED:20220921T131749Z
UID:10000003-1676851200-1676937599@hanwell.nbed.ca
SUMMARY:Family Day
DESCRIPTION:
URL:https://hanwell.nbed.ca/calendar/family-day/
END:VEVENT
BEGIN:VEVENT
DTSTART;TZID=America/Halifax:20230216T144500
DTEND;TZID=America/Halifax:20230216T160000
DTSTAMP:20260422T193216
CREATED:20230213T124355Z
LAST-MODIFIED:20230213T124359Z
UID:10000158-1676558700-1676563200@hanwell.nbed.ca
SUMMARY:Girls Badminton Practice (Middle School)
DESCRIPTION:
URL:https://hanwell.nbed.ca/calendar/girls-badminton-practice-middle-school-2/
END:VEVENT
BEGIN:VEVENT
DTSTART;TZID=America/Halifax:20230216T144500
DTEND;TZID=America/Halifax:20230216T154500
DTSTAMP:20260422T193216
CREATED:20230213T125756Z
LAST-MODIFIED:20230213T143201Z
UID:10000161-1676558700-1676562300@hanwell.nbed.ca
SUMMARY:Boys Badminton Practice (Middle School)
DESCRIPTION:
URL:https://hanwell.nbed.ca/calendar/boys-badminton-practice-middle-school-2/
END:VEVENT
BEGIN:VEVENT
DTSTART;TZID=America/Halifax:20230215T144500
DTEND;TZID=America/Halifax:20230215T160000
DTSTAMP:20260422T193216
CREATED:20230213T124316Z
LAST-MODIFIED:20230213T124319Z
UID:10000157-1676472300-1676476800@hanwell.nbed.ca
SUMMARY:Girls Badminton Practice (Middle School)
DESCRIPTION:
URL:https://hanwell.nbed.ca/calendar/girls-badminton-practice-middle-school/
END:VEVENT
BEGIN:VEVENT
DTSTART;TZID=America/Halifax:20230214T144500
DTEND;TZID=America/Halifax:20230214T154500
DTSTAMP:20260422T193216
CREATED:20230213T125706Z
LAST-MODIFIED:20230213T143241Z
UID:10000160-1676385900-1676389500@hanwell.nbed.ca
SUMMARY:Boys Badminton Practice (Middle School)
DESCRIPTION:
URL:https://hanwell.nbed.ca/calendar/boys-badminton-practice-middle-school/
END:VEVENT
BEGIN:VEVENT
DTSTART;TZID=America/Halifax:20230209T144500
DTEND;TZID=America/Halifax:20230209T154500
DTSTAMP:20260422T193216
CREATED:20230207T002735Z
LAST-MODIFIED:20230207T002737Z
UID:10000155-1675953900-1675957500@hanwell.nbed.ca
SUMMARY:Grade 6 Boys Badminton
DESCRIPTION:
URL:https://hanwell.nbed.ca/calendar/grade-6-boys-badminton-2/
END:VEVENT
END:VCALENDAR