BEGIN:VCALENDAR
VERSION:2.0
PRODID:-//Hanwell Park Academy - ECPv6.15.20//NONSGML v1.0//EN
CALSCALE:GREGORIAN
METHOD:PUBLISH
X-WR-CALNAME:Hanwell Park Academy
X-ORIGINAL-URL:https://hanwell.nbed.ca
X-WR-CALDESC:Events for Hanwell Park Academy
REFRESH-INTERVAL;VALUE=DURATION:PT1H
X-Robots-Tag:noindex
X-PUBLISHED-TTL:PT1H
BEGIN:VTIMEZONE
TZID:America/Halifax
BEGIN:DAYLIGHT
TZOFFSETFROM:-0400
TZOFFSETTO:-0300
TZNAME:ADT
DTSTART:20210314T060000
END:DAYLIGHT
BEGIN:STANDARD
TZOFFSETFROM:-0300
TZOFFSETTO:-0400
TZNAME:AST
DTSTART:20211107T050000
END:STANDARD
BEGIN:DAYLIGHT
TZOFFSETFROM:-0400
TZOFFSETTO:-0300
TZNAME:ADT
DTSTART:20220313T060000
END:DAYLIGHT
BEGIN:STANDARD
TZOFFSETFROM:-0300
TZOFFSETTO:-0400
TZNAME:AST
DTSTART:20221106T050000
END:STANDARD
BEGIN:DAYLIGHT
TZOFFSETFROM:-0400
TZOFFSETTO:-0300
TZNAME:ADT
DTSTART:20230312T060000
END:DAYLIGHT
BEGIN:STANDARD
TZOFFSETFROM:-0300
TZOFFSETTO:-0400
TZNAME:AST
DTSTART:20231105T050000
END:STANDARD
END:VTIMEZONE
BEGIN:VEVENT
DTSTART;TZID=America/Halifax:20221027T170000
DTEND;TZID=America/Halifax:20221027T183000
DTSTAMP:20260423T021751
CREATED:20220916T222911Z
LAST-MODIFIED:20221024T191542Z
UID:10000030-1666890000-1666895400@hanwell.nbed.ca
SUMMARY:Girls Soccer game against ELE at ELE
DESCRIPTION:
URL:https://hanwell.nbed.ca/calendar/girls-soccer-game-aginst-stanley/
CATEGORIES:Athletics
END:VEVENT
BEGIN:VEVENT
DTSTART;TZID=America/Halifax:20221026T170000
DTEND;TZID=America/Halifax:20221026T180000
DTSTAMP:20260423T021751
CREATED:20220926T104532Z
LAST-MODIFIED:20221026T153640Z
UID:10000061-1666803600-1666807200@hanwell.nbed.ca
SUMMARY:Cancelled - Boys Soccer Practice
DESCRIPTION:
URL:https://hanwell.nbed.ca/calendar/boys-soccer-practice-6/
END:VEVENT
BEGIN:VEVENT
DTSTART;TZID=America/Halifax:20221026T150000
DTEND;TZID=America/Halifax:20221026T160000
DTSTAMP:20260423T021751
CREATED:20221024T182328Z
LAST-MODIFIED:20221026T153629Z
UID:10000074-1666796400-1666800000@hanwell.nbed.ca
SUMMARY:Cancelled - Girls Soccer Practice
DESCRIPTION:
URL:https://hanwell.nbed.ca/calendar/girls-soccer-practice-13/
END:VEVENT
BEGIN:VEVENT
DTSTART;TZID=America/Halifax:20221024T170000
DTEND;TZID=America/Halifax:20221024T183000
DTSTAMP:20260423T021751
CREATED:20220916T224116Z
LAST-MODIFIED:20220916T224120Z
UID:10000040-1666630800-1666636200@hanwell.nbed.ca
SUMMARY:Boys Soccer Game against McAdam at HPA
DESCRIPTION:
URL:https://hanwell.nbed.ca/calendar/boys-soccer-game-against-mcadam-at-hpa/
END:VEVENT
BEGIN:VEVENT
DTSTART;TZID=America/Halifax:20221021T170000
DTEND;TZID=America/Halifax:20221021T183000
DTSTAMP:20260423T021751
CREATED:20221017T190310Z
LAST-MODIFIED:20221017T190314Z
UID:10000072-1666371600-1666377000@hanwell.nbed.ca
SUMMARY:Girls Soccer Game against Stanley at HPA
DESCRIPTION:
URL:https://hanwell.nbed.ca/calendar/girls-soccer-game-against-stanley-at-hpa-2/
END:VEVENT
BEGIN:VEVENT
DTSTART;TZID=America/Halifax:20221020T170000
DTEND;TZID=America/Halifax:20221020T183000
DTSTAMP:20260423T021751
CREATED:20220916T224021Z
LAST-MODIFIED:20220916T224026Z
UID:10000038-1666285200-1666290600@hanwell.nbed.ca
SUMMARY:Boys Soccer Game against Keswick Valley at HPA
DESCRIPTION:
URL:https://hanwell.nbed.ca/calendar/boys-soccer-game-against-keswick-valley-at-hpa/
END:VEVENT
BEGIN:VEVENT
DTSTART;TZID=America/Halifax:20221019T170000
DTEND;TZID=America/Halifax:20221019T180000
DTSTAMP:20260423T021751
CREATED:20220926T104452Z
LAST-MODIFIED:20221019T143035Z
UID:10000060-1666198800-1666202400@hanwell.nbed.ca
SUMMARY:CANCELLED - Boys Soccer Practice
DESCRIPTION:
URL:https://hanwell.nbed.ca/calendar/boys-soccer-practice-5/
END:VEVENT
BEGIN:VEVENT
DTSTART;TZID=America/Halifax:20221019T150000
DTEND;TZID=America/Halifax:20221019T160000
DTSTAMP:20260423T021751
CREATED:20221006T111706Z
LAST-MODIFIED:20221019T143105Z
UID:10000069-1666191600-1666195200@hanwell.nbed.ca
SUMMARY:CANCELLED - Girls Soccer Practice
DESCRIPTION:
URL:https://hanwell.nbed.ca/calendar/girls-soccer-practice-12/
END:VEVENT
BEGIN:VEVENT
DTSTART;TZID=America/Halifax:20221018T170000
DTEND;TZID=America/Halifax:20221018T183000
DTSTAMP:20260423T021751
CREATED:20221006T154734Z
LAST-MODIFIED:20221017T190156Z
UID:10000070-1666112400-1666117800@hanwell.nbed.ca
SUMMARY:POSTPONED - Girls Soccer Game against Stanley at HPA
DESCRIPTION:
URL:https://hanwell.nbed.ca/calendar/girls-soccer-game-against-stanley-at-hpa/
END:VEVENT
BEGIN:VEVENT
DTSTART;TZID=America/Halifax:20221017T170000
DTEND;TZID=America/Halifax:20221017T183000
DTSTAMP:20260423T021751
CREATED:20220916T223926Z
LAST-MODIFIED:20220916T223929Z
UID:10000036-1666026000-1666031400@hanwell.nbed.ca
SUMMARY:Boys Soccer Game against Harvey at Harvey High School
DESCRIPTION:
URL:https://hanwell.nbed.ca/calendar/boys-soccer-game-against-harvey-at-harvey-high-school/
END:VEVENT
BEGIN:VEVENT
DTSTART;TZID=America/Halifax:20221017T150000
DTEND;TZID=America/Halifax:20221017T160000
DTSTAMP:20260423T021751
CREATED:20221006T111621Z
LAST-MODIFIED:20221006T111624Z
UID:10000068-1666018800-1666022400@hanwell.nbed.ca
SUMMARY:Girls Soccer Practice
DESCRIPTION:
URL:https://hanwell.nbed.ca/calendar/girls-soccer-practice-11/
END:VEVENT
BEGIN:VEVENT
DTSTART;TZID=America/Halifax:20221014T160000
DTEND;TZID=America/Halifax:20221014T173000
DTSTAMP:20260423T021751
CREATED:20220916T222620Z
LAST-MODIFIED:20220916T222624Z
UID:10000029-1665763200-1665768600@hanwell.nbed.ca
SUMMARY:Girls Soccer game against FCA at Barker's St. Pitch
DESCRIPTION:
URL:https://hanwell.nbed.ca/calendar/girls-soccer-game-against-fca-at-barkers-st-pitch/
END:VEVENT
BEGIN:VEVENT
DTSTART;TZID=America/Halifax:20221013T170000
DTEND;TZID=America/Halifax:20221013T180000
DTSTAMP:20260423T021751
CREATED:20220926T104416Z
LAST-MODIFIED:20220926T104419Z
UID:10000059-1665680400-1665684000@hanwell.nbed.ca
SUMMARY:Boys Soccer Practice
DESCRIPTION:
URL:https://hanwell.nbed.ca/calendar/boys-soccer-practice-4/
END:VEVENT
BEGIN:VEVENT
DTSTART;TZID=America/Halifax:20221013T160000
DTEND;TZID=America/Halifax:20221013T180000
DTSTAMP:20260423T021751
CREATED:20220913T144035Z
LAST-MODIFIED:20220920T154718Z
UID:10000022-1665676800-1665684000@hanwell.nbed.ca
SUMMARY:Cross Country District Finals (grades 6-8) at Hanwell Park Academy
DESCRIPTION:District Final event at Hanwell Park Academy for all district middle schools.
URL:https://hanwell.nbed.ca/calendar/cross-country-district-finals-at-hanwell-park-academy/
END:VEVENT
BEGIN:VEVENT
DTSTART;TZID=America/Halifax:20221013T150000
DTEND;TZID=America/Halifax:20221013T160000
DTSTAMP:20260423T021751
CREATED:20221006T111544Z
LAST-MODIFIED:20221006T111547Z
UID:10000067-1665673200-1665676800@hanwell.nbed.ca
SUMMARY:Girls Soccer Practice
DESCRIPTION:
URL:https://hanwell.nbed.ca/calendar/girls-soccer-practice-10/
END:VEVENT
BEGIN:VEVENT
DTSTART;TZID=America/Halifax:20221012T131500
DTEND;TZID=America/Halifax:20221012T153000
DTSTAMP:20260423T021751
CREATED:20220921T161121Z
LAST-MODIFIED:20220921T161124Z
UID:10000056-1665580500-1665588600@hanwell.nbed.ca
SUMMARY:Elementary Cross-country (grades 3-5) Districts at Nasis Middle School
DESCRIPTION:
URL:https://hanwell.nbed.ca/calendar/elementary-cross-country-grades-3-5-districts-at-nasis-middle-school/
END:VEVENT
BEGIN:VEVENT
DTSTART;TZID=America/Halifax:20221011T170000
DTEND;TZID=America/Halifax:20221011T180000
DTSTAMP:20260423T021751
CREATED:20220926T104344Z
LAST-MODIFIED:20220926T104347Z
UID:10000058-1665507600-1665511200@hanwell.nbed.ca
SUMMARY:Boys Soccer Practice
DESCRIPTION:
URL:https://hanwell.nbed.ca/calendar/boys-soccer-practice-3/
END:VEVENT
BEGIN:VEVENT
DTSTART;TZID=America/Halifax:20221011T150000
DTEND;TZID=America/Halifax:20221011T160000
DTSTAMP:20260423T021751
CREATED:20221006T111458Z
LAST-MODIFIED:20221006T111510Z
UID:10000066-1665500400-1665504000@hanwell.nbed.ca
SUMMARY:Girls Soccer Practice
DESCRIPTION:
URL:https://hanwell.nbed.ca/calendar/girls-soccer-practice-9/
END:VEVENT
BEGIN:VEVENT
DTSTART;TZID=America/Halifax:20221011T144500
DTEND;TZID=America/Halifax:20221011T154500
DTSTAMP:20260423T021751
CREATED:20221006T181400Z
LAST-MODIFIED:20221006T181405Z
UID:10000071-1665499500-1665503100@hanwell.nbed.ca
SUMMARY:Cross Country Practice (Middle School)
DESCRIPTION:
URL:https://hanwell.nbed.ca/calendar/cross-country-practice-middle-school-3/
END:VEVENT
BEGIN:VEVENT
DTSTART;TZID=America/Halifax:20221006T170000
DTEND;TZID=America/Halifax:20221006T180000
DTSTAMP:20260423T021751
CREATED:20220926T104228Z
LAST-MODIFIED:20220926T104242Z
UID:10000057-1665075600-1665079200@hanwell.nbed.ca
SUMMARY:Boys Soccer Practice
DESCRIPTION:
URL:https://hanwell.nbed.ca/calendar/boys-soccer-practice-2/
END:VEVENT
BEGIN:VEVENT
DTSTART;TZID=America/Halifax:20221006T160000
DTEND;TZID=America/Halifax:20221006T183000
DTSTAMP:20260423T021751
CREATED:20220920T154929Z
LAST-MODIFIED:20220920T155000Z
UID:10000049-1665072000-1665081000@hanwell.nbed.ca
SUMMARY:Middle School Cross Country Mini-meet at Bliss Carman (Make-up date)
DESCRIPTION:
URL:https://hanwell.nbed.ca/calendar/middle-school-cross-country-mini-meet-at-bliss-carman-make-up-date/
END:VEVENT
BEGIN:VEVENT
DTSTART;TZID=America/Halifax:20221005T150000
DTEND;TZID=America/Halifax:20221005T160000
DTSTAMP:20260423T021751
CREATED:20220928T154633Z
LAST-MODIFIED:20220928T154637Z
UID:10000064-1664982000-1664985600@hanwell.nbed.ca
SUMMARY:Girls Soccer Practice
DESCRIPTION:
URL:https://hanwell.nbed.ca/calendar/girls-soccer-practice-8/
END:VEVENT
BEGIN:VEVENT
DTSTART;TZID=America/Halifax:20221005T131500
DTEND;TZID=America/Halifax:20221005T150000
DTSTAMP:20260423T021751
CREATED:20220921T160857Z
LAST-MODIFIED:20220921T160901Z
UID:10000055-1664975700-1664982000@hanwell.nbed.ca
SUMMARY:Cross-Country Meet (grades 3-5) at New Maryland Elementary School
DESCRIPTION:
URL:https://hanwell.nbed.ca/calendar/cross-country-meet-grades-3-5-at-new-maryland-elementary-school/
END:VEVENT
BEGIN:VEVENT
DTSTART;TZID=America/Halifax:20221004T170000
DTEND;TZID=America/Halifax:20221004T183000
DTSTAMP:20260423T021751
CREATED:20220916T223759Z
LAST-MODIFIED:20220916T223804Z
UID:10000034-1664902800-1664908200@hanwell.nbed.ca
SUMMARY:Boys Soccer game against ELE at ELE
DESCRIPTION:
URL:https://hanwell.nbed.ca/calendar/boys-soccer-game-against-ele-at-ele/
END:VEVENT
BEGIN:VEVENT
DTSTART;TZID=America/Halifax:20221004T170000
DTEND;TZID=America/Halifax:20221004T183000
DTSTAMP:20260423T021751
CREATED:20220916T222459Z
LAST-MODIFIED:20220916T222503Z
UID:10000028-1664902800-1664908200@hanwell.nbed.ca
SUMMARY:Girls Soccer game against Harvey at HPA
DESCRIPTION:
URL:https://hanwell.nbed.ca/calendar/girls-soccer-game-against-harvey-at-hpa/
END:VEVENT
BEGIN:VEVENT
DTSTART;TZID=America/Halifax:20221004T144500
DTEND;TZID=America/Halifax:20221004T154500
DTSTAMP:20260423T021751
CREATED:20221003T181004Z
LAST-MODIFIED:20221003T181009Z
UID:10000065-1664894700-1664898300@hanwell.nbed.ca
SUMMARY:Middle School Cross Country Practice
DESCRIPTION:
URL:https://hanwell.nbed.ca/calendar/middle-school-cross-country-practice/
END:VEVENT
BEGIN:VEVENT
DTSTART;TZID=America/Halifax:20221003T150000
DTEND;TZID=America/Halifax:20221003T160000
DTSTAMP:20260423T021751
CREATED:20220928T154547Z
LAST-MODIFIED:20220928T154553Z
UID:10000063-1664809200-1664812800@hanwell.nbed.ca
SUMMARY:Girls Soccer Practice
DESCRIPTION:
URL:https://hanwell.nbed.ca/calendar/girls-soccer-practice-7/
END:VEVENT
BEGIN:VEVENT
DTSTART;TZID=America/Halifax:20220929T160000
DTEND;TZID=America/Halifax:20220929T180000
DTSTAMP:20260423T021751
CREATED:20220913T143832Z
LAST-MODIFIED:20220917T223225Z
UID:10000021-1664467200-1664474400@hanwell.nbed.ca
SUMMARY:Cross Country Meet at Nasis Middle School (grades 6-8)
DESCRIPTION:District mini-meet for middle school cross country participants
URL:https://hanwell.nbed.ca/calendar/cross-country-meet-at-nasis-middle-school/
END:VEVENT
BEGIN:VEVENT
DTSTART;TZID=America/Halifax:20220929T153000
DTEND;TZID=America/Halifax:20220929T163000
DTSTAMP:20260423T021751
CREATED:20220921T160522Z
LAST-MODIFIED:20220921T160525Z
UID:10000053-1664465400-1664469000@hanwell.nbed.ca
SUMMARY:Girls Soccer Practice
DESCRIPTION:
URL:https://hanwell.nbed.ca/calendar/girls-soccer-practice-6/
END:VEVENT
BEGIN:VEVENT
DTSTART;TZID=America/Halifax:20220928T131500
DTEND;TZID=America/Halifax:20220928T153000
DTSTAMP:20260423T021751
CREATED:20220921T160738Z
LAST-MODIFIED:20220921T161006Z
UID:10000054-1664370900-1664379000@hanwell.nbed.ca
SUMMARY:Elementary Cross-Country Meet (grades 3-5) at O'Dell Park
DESCRIPTION:
URL:https://hanwell.nbed.ca/calendar/elementary-cross-country-meet-at-odell-park/
END:VEVENT
END:VCALENDAR