BEGIN:VCALENDAR
VERSION:2.0
PRODID:-//Hanwell Park Academy - ECPv6.15.20//NONSGML v1.0//EN
CALSCALE:GREGORIAN
METHOD:PUBLISH
X-WR-CALNAME:Hanwell Park Academy
X-ORIGINAL-URL:https://hanwell.nbed.ca
X-WR-CALDESC:Events for Hanwell Park Academy
REFRESH-INTERVAL;VALUE=DURATION:PT1H
X-Robots-Tag:noindex
X-PUBLISHED-TTL:PT1H
BEGIN:VTIMEZONE
TZID:America/Halifax
BEGIN:DAYLIGHT
TZOFFSETFROM:-0400
TZOFFSETTO:-0300
TZNAME:ADT
DTSTART:20210314T060000
END:DAYLIGHT
BEGIN:STANDARD
TZOFFSETFROM:-0300
TZOFFSETTO:-0400
TZNAME:AST
DTSTART:20211107T050000
END:STANDARD
BEGIN:DAYLIGHT
TZOFFSETFROM:-0400
TZOFFSETTO:-0300
TZNAME:ADT
DTSTART:20220313T060000
END:DAYLIGHT
BEGIN:STANDARD
TZOFFSETFROM:-0300
TZOFFSETTO:-0400
TZNAME:AST
DTSTART:20221106T050000
END:STANDARD
BEGIN:DAYLIGHT
TZOFFSETFROM:-0400
TZOFFSETTO:-0300
TZNAME:ADT
DTSTART:20230312T060000
END:DAYLIGHT
BEGIN:STANDARD
TZOFFSETFROM:-0300
TZOFFSETTO:-0400
TZNAME:AST
DTSTART:20231105T050000
END:STANDARD
END:VTIMEZONE
BEGIN:VTIMEZONE
TZID:America/Toronto
BEGIN:DAYLIGHT
TZOFFSETFROM:-0500
TZOFFSETTO:-0400
TZNAME:EDT
DTSTART:20210314T070000
END:DAYLIGHT
BEGIN:STANDARD
TZOFFSETFROM:-0400
TZOFFSETTO:-0500
TZNAME:EST
DTSTART:20211107T060000
END:STANDARD
BEGIN:DAYLIGHT
TZOFFSETFROM:-0500
TZOFFSETTO:-0400
TZNAME:EDT
DTSTART:20220313T070000
END:DAYLIGHT
BEGIN:STANDARD
TZOFFSETFROM:-0400
TZOFFSETTO:-0500
TZNAME:EST
DTSTART:20221106T060000
END:STANDARD
BEGIN:DAYLIGHT
TZOFFSETFROM:-0500
TZOFFSETTO:-0400
TZNAME:EDT
DTSTART:20230312T070000
END:DAYLIGHT
BEGIN:STANDARD
TZOFFSETFROM:-0400
TZOFFSETTO:-0500
TZNAME:EST
DTSTART:20231105T060000
END:STANDARD
END:VTIMEZONE
BEGIN:VEVENT
DTSTART;TZID=America/Halifax:20220922T160000
DTEND;TZID=America/Halifax:20220922T180000
DTSTAMP:20260423T065922
CREATED:20220913T143709Z
LAST-MODIFIED:20220920T154345Z
UID:10000020-1663862400-1663869600@hanwell.nbed.ca
SUMMARY:Postponed!! Cross Country Meet at Bliss Carman - Middle School (grades 6-8) team only
DESCRIPTION:District Mini-meet for middle school cross country participants
URL:https://hanwell.nbed.ca/calendar/cross-country-meet-at-bliss-carman/
END:VEVENT
BEGIN:VEVENT
DTSTART;TZID=America/Halifax:20220922T153000
DTEND;TZID=America/Halifax:20220922T163000
DTSTAMP:20260423T065922
CREATED:20220918T155357Z
LAST-MODIFIED:20220922T162924Z
UID:10000046-1663860600-1663864200@hanwell.nbed.ca
SUMMARY:Girls Soccer Practice - Cancelled
DESCRIPTION:
URL:https://hanwell.nbed.ca/calendar/girls-soccer-practice-4/
END:VEVENT
BEGIN:VEVENT
DTSTART;TZID=America/Halifax:20220921T170000
DTEND;TZID=America/Halifax:20220921T183000
DTSTAMP:20260423T065922
CREATED:20220916T222220Z
LAST-MODIFIED:20220916T222227Z
UID:10000026-1663779600-1663785000@hanwell.nbed.ca
SUMMARY:Girls Soccer Game at Stanley Consolidated School
DESCRIPTION:
URL:https://hanwell.nbed.ca/calendar/girls-soccer-game-at-stanley-consolidated-school/
END:VEVENT
BEGIN:VEVENT
DTSTART;TZID=America/Halifax:20220921T170000
DTEND;TZID=America/Halifax:20220921T180000
DTSTAMP:20260423T065922
CREATED:20220920T155112Z
LAST-MODIFIED:20220920T155115Z
UID:10000050-1663779600-1663783200@hanwell.nbed.ca
SUMMARY:Boys Soccer Practice
DESCRIPTION:
URL:https://hanwell.nbed.ca/calendar/boys-soccer-practice/
END:VEVENT
BEGIN:VEVENT
DTSTART;TZID=America/Halifax:20220921T131500
DTEND;TZID=America/Halifax:20220921T153000
DTSTAMP:20260423T065922
CREATED:20220916T224843Z
LAST-MODIFIED:20220920T220246Z
UID:10000042-1663766100-1663774200@hanwell.nbed.ca
SUMMARY:Cancelled - Elementary (grades 3-5) Cross-country District Meet at Morell Park
DESCRIPTION:This event has been cancelled due to inclement weather. There will be other events posted in the future for elementary cross-country.
URL:https://hanwell.nbed.ca/calendar/elementary-grades-3-5-cross-country-district-meet-at-morell-park/
END:VEVENT
BEGIN:VEVENT
DTSTART;TZID=America/Halifax:20220920T170000
DTEND;TZID=America/Halifax:20220920T180000
DTSTAMP:20260423T065922
CREATED:20220915T154945Z
LAST-MODIFIED:20220920T154628Z
UID:10000024-1663693200-1663696800@hanwell.nbed.ca
SUMMARY:Cancelled Boy Soccer Practice (Middle School)
DESCRIPTION:
URL:https://hanwell.nbed.ca/calendar/boy-soccer-practice-middle-school/
END:VEVENT
BEGIN:VEVENT
DTSTART;TZID=America/Halifax:20220920T153000
DTEND;TZID=America/Halifax:20220920T163000
DTSTAMP:20260423T065922
CREATED:20220918T155300Z
LAST-MODIFIED:20220920T154451Z
UID:10000044-1663687800-1663691400@hanwell.nbed.ca
SUMMARY:Cancelled Girls Soccer Practice
DESCRIPTION:
URL:https://hanwell.nbed.ca/calendar/girls-soccer-practice-3/
END:VEVENT
BEGIN:VEVENT
DTSTART;TZID=America/Halifax:20220920T144500
DTEND;TZID=America/Halifax:20220920T154500
DTSTAMP:20260423T065922
CREATED:20220914T221141Z
LAST-MODIFIED:20220920T154231Z
UID:10000023-1663685100-1663688700@hanwell.nbed.ca
SUMMARY:Cancelled Cross Country Practice - Middle School
DESCRIPTION:
URL:https://hanwell.nbed.ca/calendar/cross-country-practice-middle-school/
END:VEVENT
BEGIN:VEVENT
DTSTART;TZID=America/Halifax:20220915T150000
DTEND;TZID=America/Halifax:20220915T160000
DTSTAMP:20260423T065922
CREATED:20220913T143517Z
LAST-MODIFIED:20220913T143522Z
UID:10000019-1663254000-1663257600@hanwell.nbed.ca
SUMMARY:Girls Soccer Practice
DESCRIPTION:Middle school girls
URL:https://hanwell.nbed.ca/calendar/girls-soccer-practice-2/
END:VEVENT
BEGIN:VEVENT
DTSTART;TZID=America/Halifax:20220915T144500
DTEND;TZID=America/Halifax:20220915T154500
DTSTAMP:20260423T065922
CREATED:20220913T143427Z
LAST-MODIFIED:20220913T143431Z
UID:10000018-1663253100-1663256700@hanwell.nbed.ca
SUMMARY:Cross Country Practice - Grades 6-8
DESCRIPTION:Middle school students
URL:https://hanwell.nbed.ca/calendar/cross-country-practice-grades-6-8/
END:VEVENT
BEGIN:VEVENT
DTSTART;TZID=America/Halifax:20220914T163000
DTEND;TZID=America/Halifax:20220914T180000
DTSTAMP:20260423T065922
CREATED:20220913T143240Z
LAST-MODIFIED:20220913T143245Z
UID:10000017-1663173000-1663178400@hanwell.nbed.ca
SUMMARY:Boys Soccer Tryout 2
DESCRIPTION:Middle school boys soccer
URL:https://hanwell.nbed.ca/calendar/boys-soccer-tryout-2/
END:VEVENT
BEGIN:VEVENT
DTSTART;TZID=America/Halifax:20220913T163000
DTEND;TZID=America/Halifax:20220913T180000
DTSTAMP:20260423T065922
CREATED:20220913T143126Z
LAST-MODIFIED:20220913T143130Z
UID:10000016-1663086600-1663092000@hanwell.nbed.ca
SUMMARY:Boys Soccer Tryout 1
DESCRIPTION:For middle school students
URL:https://hanwell.nbed.ca/calendar/boys-soccer-tryout-1/
END:VEVENT
BEGIN:VEVENT
DTSTART;TZID=America/Halifax:20220913T150000
DTEND;TZID=America/Halifax:20220913T160000
DTSTAMP:20260423T065922
CREATED:20220913T143004Z
LAST-MODIFIED:20220913T143009Z
UID:10000015-1663081200-1663084800@hanwell.nbed.ca
SUMMARY:Girls Soccer Practice
DESCRIPTION:Meet on the soccer field
URL:https://hanwell.nbed.ca/calendar/girls-soccer-practice/
END:VEVENT
BEGIN:VEVENT
DTSTART;TZID=America/Halifax:20220913T144500
DTEND;TZID=America/Halifax:20220913T154500
DTSTAMP:20260423T065922
CREATED:20220913T141147Z
LAST-MODIFIED:20220913T141152Z
UID:10000014-1663080300-1663083900@hanwell.nbed.ca
SUMMARY:Cross Country Practice
DESCRIPTION:Meet Mr. Lynch if you’re interested in participating in cross country this season.
URL:https://hanwell.nbed.ca/calendar/cross-country-practice/
END:VEVENT
BEGIN:VEVENT
DTSTART;TZID=America/Toronto:20220908T081000
DTEND;TZID=America/Toronto:20220908T150000
DTSTAMP:20260423T065922
CREATED:20220609T130124Z
LAST-MODIFIED:20220609T130127Z
UID:10000010-1662624600-1662649200@hanwell.nbed.ca
SUMMARY:Whole School Entry
DESCRIPTION:Today will be our first day with all our students at Hanwell Park Academy!
URL:https://hanwell.nbed.ca/calendar/whole-school-entry/
END:VEVENT
BEGIN:VEVENT
DTSTART;TZID=America/Halifax:20220907T080000
DTEND;TZID=America/Halifax:20220907T143000
DTSTAMP:20260423T065922
CREATED:20220811T171349Z
LAST-MODIFIED:20220811T171503Z
UID:10000013-1662537600-1662561000@hanwell.nbed.ca
SUMMARY:First Day Grade 3-8
DESCRIPTION:Grades 3 – 8 Have a Regular School Day – Parents can drop in for a brief Orientation from 8 to 9:45 am.  No school for Grades K-2
URL:https://hanwell.nbed.ca/calendar/first-day-grade-3-8/
END:VEVENT
BEGIN:VEVENT
DTSTART;TZID=America/Halifax:20220906T090000
DTEND;TZID=America/Halifax:20220906T110000
DTSTAMP:20260423T065922
CREATED:20220811T115117Z
LAST-MODIFIED:20220811T115636Z
UID:10000011-1662454800-1662462000@hanwell.nbed.ca
SUMMARY:Kindergarten First Day
DESCRIPTION:Parents: bring your child and see their classroom – meet their teacher – see the building and have a great orientation with admin. Plus the kids will ride the bus!
URL:https://hanwell.nbed.ca/calendar/kindergarten-first-day/
END:VEVENT
BEGIN:VEVENT
DTSTART;TZID=America/Halifax:20220906T080000
DTEND;TZID=America/Halifax:20220906T134000
DTSTAMP:20260423T065922
CREATED:20220811T171112Z
LAST-MODIFIED:20220811T171633Z
UID:10000012-1662451200-1662471600@hanwell.nbed.ca
SUMMARY:First Day Grades 1-2
DESCRIPTION:Parents can come by between 8 and 8:45 am to have a brief Orientation. Students full day! No School for Grades 3-8.
URL:https://hanwell.nbed.ca/calendar/first-day-grades-1-2/
END:VEVENT
BEGIN:VEVENT
DTSTART;TZID=America/Toronto:20220829T080000
DTEND;TZID=America/Toronto:20220829T160000
DTSTAMP:20260423T065922
CREATED:20220609T122824Z
LAST-MODIFIED:20220609T122828Z
UID:10000009-1661760000-1661788800@hanwell.nbed.ca
SUMMARY:New to Hanwell Registration Day
DESCRIPTION:Please come to the office to register your child. Bring all information – birth certificate and proof of immunization.
URL:https://hanwell.nbed.ca/calendar/new-to-hanwell-registration-day/
END:VEVENT
END:VCALENDAR