BEGIN:VCALENDAR
VERSION:2.0
PRODID:-//Hanwell Park Academy - ECPv6.15.20//NONSGML v1.0//EN
CALSCALE:GREGORIAN
METHOD:PUBLISH
X-WR-CALNAME:Hanwell Park Academy
X-ORIGINAL-URL:https://hanwell.nbed.ca
X-WR-CALDESC:Events for Hanwell Park Academy
REFRESH-INTERVAL;VALUE=DURATION:PT1H
X-Robots-Tag:noindex
X-PUBLISHED-TTL:PT1H
BEGIN:VTIMEZONE
TZID:America/Halifax
BEGIN:DAYLIGHT
TZOFFSETFROM:-0400
TZOFFSETTO:-0300
TZNAME:ADT
DTSTART:20230312T060000
END:DAYLIGHT
BEGIN:STANDARD
TZOFFSETFROM:-0300
TZOFFSETTO:-0400
TZNAME:AST
DTSTART:20231105T050000
END:STANDARD
BEGIN:DAYLIGHT
TZOFFSETFROM:-0400
TZOFFSETTO:-0300
TZNAME:ADT
DTSTART:20240310T060000
END:DAYLIGHT
BEGIN:STANDARD
TZOFFSETFROM:-0300
TZOFFSETTO:-0400
TZNAME:AST
DTSTART:20241103T050000
END:STANDARD
BEGIN:DAYLIGHT
TZOFFSETFROM:-0400
TZOFFSETTO:-0300
TZNAME:ADT
DTSTART:20250309T060000
END:DAYLIGHT
BEGIN:STANDARD
TZOFFSETFROM:-0300
TZOFFSETTO:-0400
TZNAME:AST
DTSTART:20251102T050000
END:STANDARD
END:VTIMEZONE
BEGIN:VTIMEZONE
TZID:America/Moncton
BEGIN:DAYLIGHT
TZOFFSETFROM:-0400
TZOFFSETTO:-0300
TZNAME:ADT
DTSTART:20230312T060000
END:DAYLIGHT
BEGIN:STANDARD
TZOFFSETFROM:-0300
TZOFFSETTO:-0400
TZNAME:AST
DTSTART:20231105T050000
END:STANDARD
BEGIN:DAYLIGHT
TZOFFSETFROM:-0400
TZOFFSETTO:-0300
TZNAME:ADT
DTSTART:20240310T060000
END:DAYLIGHT
BEGIN:STANDARD
TZOFFSETFROM:-0300
TZOFFSETTO:-0400
TZNAME:AST
DTSTART:20241103T050000
END:STANDARD
BEGIN:DAYLIGHT
TZOFFSETFROM:-0400
TZOFFSETTO:-0300
TZNAME:ADT
DTSTART:20250309T060000
END:DAYLIGHT
BEGIN:STANDARD
TZOFFSETFROM:-0300
TZOFFSETTO:-0400
TZNAME:AST
DTSTART:20251102T050000
END:STANDARD
END:VTIMEZONE
BEGIN:VEVENT
DTSTART;TZID=America/Halifax:20240123T170000
DTEND;TZID=America/Halifax:20240123T183000
DTSTAMP:20260421T173923
CREATED:20240119T183905Z
LAST-MODIFIED:20240119T183906Z
UID:10000387-1706029200-1706034600@hanwell.nbed.ca
SUMMARY:Boys Basketball District Semi-final at HPA
DESCRIPTION:
URL:https://hanwell.nbed.ca/calendar/boys-basketball-district-semi-final-at-hpa/
CATEGORIES:Athletics
END:VEVENT
BEGIN:VEVENT
DTSTART;TZID=America/Halifax:20240124T144500
DTEND;TZID=America/Halifax:20240124T161500
DTSTAMP:20260421T173923
CREATED:20240124T131858Z
LAST-MODIFIED:20240124T131859Z
UID:10000390-1706107500-1706112900@hanwell.nbed.ca
SUMMARY:Boys Basketball Practice
DESCRIPTION:
URL:https://hanwell.nbed.ca/calendar/boys-basketball-practice-30/
CATEGORIES:Athletics
END:VEVENT
BEGIN:VEVENT
DTSTART;TZID=America/Halifax:20240125T070000
DTEND;TZID=America/Halifax:20240125T080000
DTSTAMP:20260421T173923
CREATED:20240111T142812Z
LAST-MODIFIED:20240111T142813Z
UID:10000367-1706166000-1706169600@hanwell.nbed.ca
SUMMARY:Middle School Girls Volleyball Skills and Drills
DESCRIPTION:
URL:https://hanwell.nbed.ca/calendar/middle-school-girls-volleyball-skills-and-drills-15/2024-01-25/
CATEGORIES:Athletics
END:VEVENT
BEGIN:VEVENT
DTSTART;TZID=America/Halifax:20240125T144500
DTEND;TZID=America/Halifax:20240125T161500
DTSTAMP:20260421T173923
CREATED:20240117T164514Z
LAST-MODIFIED:20240125T141925Z
UID:10000385-1706193900-1706199300@hanwell.nbed.ca
SUMMARY:Cancelled - Girls Basketball Practice
DESCRIPTION:
URL:https://hanwell.nbed.ca/calendar/girls-basketball-practice-32/
END:VEVENT
BEGIN:VEVENT
DTSTART;TZID=America/Halifax:20240125T163000
DTEND;TZID=America/Halifax:20240125T180000
DTSTAMP:20260421T173923
CREATED:20240122T120357Z
LAST-MODIFIED:20240122T120358Z
UID:10000388-1706200200-1706205600@hanwell.nbed.ca
SUMMARY:Tier 2 B Boys Basketball Final
DESCRIPTION:
URL:https://hanwell.nbed.ca/calendar/tier-2-b-boys-basketball-final/
CATEGORIES:Athletics
END:VEVENT
BEGIN:VEVENT
DTSTART;TZID=America/Moncton:20240126T081500
DTEND;TZID=America/Moncton:20240126T163000
DTSTAMP:20260421T173923
CREATED:20230616T122152Z
LAST-MODIFIED:20230620T120132Z
UID:10000149-1706256900-1706286600@hanwell.nbed.ca
SUMMARY:Last Day of First Semester
DESCRIPTION:
URL:https://hanwell.nbed.ca/calendar/last-day-of-1st-semester-2/
CATEGORIES:Current Students
END:VEVENT
BEGIN:VEVENT
DTSTART;TZID=America/Halifax:20240126T160000
DTEND;TZID=America/Halifax:20240128T170000
DTSTAMP:20260421T173923
CREATED:20240112T113912Z
LAST-MODIFIED:20240112T113913Z
UID:10000373-1706284800-1706461200@hanwell.nbed.ca
SUMMARY:Boys Basketball Tournament at Keswick Valley - Schedule TBD
DESCRIPTION:
URL:https://hanwell.nbed.ca/calendar/boys-basketball-tournament-at-keswick-valley-schedule-tbd/
CATEGORIES:Athletics
END:VEVENT
BEGIN:VEVENT
DTSTART;TZID=America/Halifax:20240129T144500
DTEND;TZID=America/Halifax:20240129T160000
DTSTAMP:20260421T173923
CREATED:20240124T154812Z
LAST-MODIFIED:20240129T100347Z
UID:10000391-1706539500-1706544000@hanwell.nbed.ca
SUMMARY:Cancelled - Middle School Girls and Boys Badminton Open Gym
DESCRIPTION:
URL:https://hanwell.nbed.ca/calendar/middle-school-girls-and-boys-badminton-open-gym/
CATEGORIES:Athletics
END:VEVENT
BEGIN:VEVENT
DTSTART;TZID=America/Halifax:20240130T144500
DTEND;TZID=America/Halifax:20240130T161500
DTSTAMP:20260421T173923
CREATED:20231201T121518Z
LAST-MODIFIED:20231201T121518Z
UID:10000360-1706625900-1706631300@hanwell.nbed.ca
SUMMARY:Girls Basketball Practice
DESCRIPTION:
URL:https://hanwell.nbed.ca/calendar/girls-basketball-practice-29/
CATEGORIES:Athletics
END:VEVENT
BEGIN:VEVENT
DTSTART;TZID=America/Moncton:20240131T081500
DTEND;TZID=America/Moncton:20240131T163000
DTSTAMP:20260421T173923
CREATED:20230616T122312Z
LAST-MODIFIED:20230620T120159Z
UID:10000150-1706688900-1706718600@hanwell.nbed.ca
SUMMARY:First Day of Second Semester
DESCRIPTION:
URL:https://hanwell.nbed.ca/calendar/first-day-of-second-semester/
CATEGORIES:Current Students
END:VEVENT
BEGIN:VEVENT
DTSTART;TZID=America/Halifax:20240131T144500
DTEND;TZID=America/Halifax:20240131T160000
DTSTAMP:20260421T173923
CREATED:20240129T100449Z
LAST-MODIFIED:20240129T100450Z
UID:10000392-1706712300-1706716800@hanwell.nbed.ca
SUMMARY:Middle School Badminton Open Gym
DESCRIPTION:
URL:https://hanwell.nbed.ca/calendar/middle-school-badminton-open-gym/
CATEGORIES:Athletics
END:VEVENT
BEGIN:VEVENT
DTSTART;TZID=America/Halifax:20240201T070000
DTEND;TZID=America/Halifax:20240201T080000
DTSTAMP:20260421T173923
CREATED:20240111T142812Z
LAST-MODIFIED:20240111T142813Z
UID:10000368-1706770800-1706774400@hanwell.nbed.ca
SUMMARY:Middle School Girls Volleyball Skills and Drills
DESCRIPTION:
URL:https://hanwell.nbed.ca/calendar/middle-school-girls-volleyball-skills-and-drills-15/2024-02-01/
CATEGORIES:Athletics
END:VEVENT
BEGIN:VEVENT
DTSTART;TZID=America/Halifax:20240201T144500
DTEND;TZID=America/Halifax:20240201T161500
DTSTAMP:20260421T173923
CREATED:20240123T113011Z
LAST-MODIFIED:20240201T122449Z
UID:10000389-1706798700-1706804100@hanwell.nbed.ca
SUMMARY:Cancelled - Girls Basketball Practice
DESCRIPTION:
URL:https://hanwell.nbed.ca/calendar/girls-basketball-practice-33/
CATEGORIES:Athletics
END:VEVENT
BEGIN:VEVENT
DTSTART;TZID=America/Halifax:20240205T144500
DTEND;TZID=America/Halifax:20240205T160000
DTSTAMP:20260421T173923
CREATED:20240203T114652Z
LAST-MODIFIED:20240203T114653Z
UID:10000395-1707144300-1707148800@hanwell.nbed.ca
SUMMARY:Girls Badminton
DESCRIPTION:
URL:https://hanwell.nbed.ca/calendar/girls-badminton-3/
CATEGORIES:Athletics
END:VEVENT
BEGIN:VEVENT
DTSTART;TZID=America/Halifax:20240206T144500
DTEND;TZID=America/Halifax:20240206T160000
DTSTAMP:20260421T173923
CREATED:20240203T114519Z
LAST-MODIFIED:20240203T114520Z
UID:10000393-1707230700-1707235200@hanwell.nbed.ca
SUMMARY:Girls Basketball Practice
DESCRIPTION:
URL:https://hanwell.nbed.ca/calendar/girls-basketball-practice-34/2024-02-06/
CATEGORIES:Athletics
END:VEVENT
BEGIN:VEVENT
DTSTART;TZID=America/Halifax:20240206T144500
DTEND;TZID=America/Halifax:20240206T160000
DTSTAMP:20260421T173923
CREATED:20240204T185452Z
LAST-MODIFIED:20240204T185452Z
UID:10000398-1707230700-1707235200@hanwell.nbed.ca
SUMMARY:Boys Badminton Practice
DESCRIPTION:
URL:https://hanwell.nbed.ca/calendar/boys-badminton-practice-8/
CATEGORIES:Athletics
END:VEVENT
BEGIN:VEVENT
DTSTART;TZID=America/Halifax:20240207T144500
DTEND;TZID=America/Halifax:20240207T160000
DTSTAMP:20260421T173923
CREATED:20240203T114731Z
LAST-MODIFIED:20240203T114732Z
UID:10000396-1707317100-1707321600@hanwell.nbed.ca
SUMMARY:Girls Badminton
DESCRIPTION:
URL:https://hanwell.nbed.ca/calendar/girls-badminton-4/
CATEGORIES:Athletics
END:VEVENT
BEGIN:VEVENT
DTSTART;TZID=America/Halifax:20240208T070000
DTEND;TZID=America/Halifax:20240208T080000
DTSTAMP:20260421T173923
CREATED:20240111T142812Z
LAST-MODIFIED:20240111T142813Z
UID:10000369-1707375600-1707379200@hanwell.nbed.ca
SUMMARY:Middle School Girls Volleyball Skills and Drills
DESCRIPTION:
URL:https://hanwell.nbed.ca/calendar/middle-school-girls-volleyball-skills-and-drills-15/2024-02-08/
CATEGORIES:Athletics
END:VEVENT
BEGIN:VEVENT
DTSTART;TZID=America/Halifax:20240208T144500
DTEND;TZID=America/Halifax:20240208T160000
DTSTAMP:20260421T173924
CREATED:20240203T114611Z
LAST-MODIFIED:20240203T114612Z
UID:10000394-1707403500-1707408000@hanwell.nbed.ca
SUMMARY:Girls Basketball Practice
DESCRIPTION:
URL:https://hanwell.nbed.ca/calendar/girls-basketball-practice-35/
CATEGORIES:Athletics
END:VEVENT
BEGIN:VEVENT
DTSTART;TZID=America/Halifax:20240212T144500
DTEND;TZID=America/Halifax:20240212T160000
DTSTAMP:20260421T173924
CREATED:20240208T152225Z
LAST-MODIFIED:20240211T190455Z
UID:10000402-1707749100-1707753600@hanwell.nbed.ca
SUMMARY:Boys Badminton Practice Gym 1
DESCRIPTION:
URL:https://hanwell.nbed.ca/calendar/boys-badminton-practice-9/
CATEGORIES:Athletics
END:VEVENT
BEGIN:VEVENT
DTSTART;TZID=America/Halifax:20240212T144500
DTEND;TZID=America/Halifax:20240212T160000
DTSTAMP:20260421T173924
CREATED:20240211T190551Z
LAST-MODIFIED:20240211T190552Z
UID:10000403-1707749100-1707753600@hanwell.nbed.ca
SUMMARY:Girls Badminton Practice Gym 2
DESCRIPTION:
URL:https://hanwell.nbed.ca/calendar/girls-badminton-practice-gym-2/
CATEGORIES:Athletics
END:VEVENT
BEGIN:VEVENT
DTSTART;TZID=America/Halifax:20240213T163000
DTEND;TZID=America/Halifax:20240213T180000
DTSTAMP:20260421T173924
CREATED:20240206T182959Z
LAST-MODIFIED:20240206T183000Z
UID:10000399-1707841800-1707847200@hanwell.nbed.ca
SUMMARY:Girls Basketball Game against FCA at HPA
DESCRIPTION:
URL:https://hanwell.nbed.ca/calendar/girls-basketball-game-against-fca-at-hpa/
CATEGORIES:Athletics
END:VEVENT
BEGIN:VEVENT
DTSTART;TZID=America/Halifax:20240214T144500
DTEND;TZID=America/Halifax:20240214T160000
DTSTAMP:20260421T173924
CREATED:20240211T190633Z
LAST-MODIFIED:20240211T190634Z
UID:10000404-1707921900-1707926400@hanwell.nbed.ca
SUMMARY:Girls Badminton Practice
DESCRIPTION:
URL:https://hanwell.nbed.ca/calendar/girls-badminton-practice-8/
CATEGORIES:Athletics
END:VEVENT
BEGIN:VEVENT
DTSTART;TZID=America/Halifax:20240215T070000
DTEND;TZID=America/Halifax:20240215T080000
DTSTAMP:20260421T173924
CREATED:20240111T142812Z
LAST-MODIFIED:20240111T142813Z
UID:10000370-1707980400-1707984000@hanwell.nbed.ca
SUMMARY:Middle School Girls Volleyball Skills and Drills
DESCRIPTION:
URL:https://hanwell.nbed.ca/calendar/middle-school-girls-volleyball-skills-and-drills-15/2024-02-15/
CATEGORIES:Athletics
END:VEVENT
BEGIN:VEVENT
DTSTART;TZID=America/Halifax:20240215T144500
DTEND;TZID=America/Halifax:20240215T160000
DTSTAMP:20260421T173924
CREATED:20240206T190215Z
LAST-MODIFIED:20240206T190216Z
UID:10000401-1708008300-1708012800@hanwell.nbed.ca
SUMMARY:Girls Basketball Practice
DESCRIPTION:
URL:https://hanwell.nbed.ca/calendar/girls-basketball-practice-36/
CATEGORIES:Athletics
END:VEVENT
BEGIN:VEVENT
DTSTART;TZID=America/Halifax:20240217T080000
DTEND;TZID=America/Halifax:20240218T170000
DTSTAMP:20260421T173924
CREATED:20240203T115052Z
LAST-MODIFIED:20240203T115053Z
UID:10000397-1708156800-1708275600@hanwell.nbed.ca
SUMMARY:Girls Basketball Provincials at Perth Andover
DESCRIPTION:
URL:https://hanwell.nbed.ca/calendar/girls-basketball-provincials-at-perth-andover/
CATEGORIES:Athletics
END:VEVENT
BEGIN:VEVENT
DTSTART;TZID=America/Moncton:20240219T000000
DTEND;TZID=America/Moncton:20240219T235900
DTSTAMP:20260421T173924
CREATED:20230616T122458Z
LAST-MODIFIED:20230620T120142Z
UID:10000152-1708300800-1708387140@hanwell.nbed.ca
SUMMARY:Family Day
DESCRIPTION:Schools closed.
URL:https://hanwell.nbed.ca/calendar/family-day-2/
CATEGORIES:Current Students
END:VEVENT
BEGIN:VEVENT
DTSTART;TZID=America/Halifax:20240220T144500
DTEND;TZID=America/Halifax:20240220T160000
DTSTAMP:20260421T173924
CREATED:20240215T143239Z
LAST-MODIFIED:20240215T143240Z
UID:10000405-1708440300-1708444800@hanwell.nbed.ca
SUMMARY:Girls Badminton Practice
DESCRIPTION:
URL:https://hanwell.nbed.ca/calendar/girls-badminton-practice-9/
CATEGORIES:Athletics
END:VEVENT
BEGIN:VEVENT
DTSTART;TZID=America/Halifax:20240220T144500
DTEND;TZID=America/Halifax:20240220T160000
DTSTAMP:20260421T173924
CREATED:20240215T160410Z
LAST-MODIFIED:20240215T160411Z
UID:10000407-1708440300-1708444800@hanwell.nbed.ca
SUMMARY:Boys Badminton Practice
DESCRIPTION:
URL:https://hanwell.nbed.ca/calendar/boys-badminton-practice-10/
CATEGORIES:Athletics
END:VEVENT
BEGIN:VEVENT
DTSTART;TZID=America/Halifax:20240221T144500
DTEND;TZID=America/Halifax:20240221T154500
DTSTAMP:20260421T173924
CREATED:20240215T160458Z
LAST-MODIFIED:20240220T130056Z
UID:10000408-1708526700-1708530300@hanwell.nbed.ca
SUMMARY:Cancelled - Middle School Girls Volleyball Skills & Drills
DESCRIPTION:
URL:https://hanwell.nbed.ca/calendar/middle-school-girls-volleyball-skills-drills/
CATEGORIES:Athletics
END:VEVENT
END:VCALENDAR