BEGIN:VCALENDAR
VERSION:2.0
PRODID:-//Hanwell Park Academy - ECPv6.15.20//NONSGML v1.0//EN
CALSCALE:GREGORIAN
METHOD:PUBLISH
X-WR-CALNAME:Hanwell Park Academy
X-ORIGINAL-URL:https://hanwell.nbed.ca
X-WR-CALDESC:Events for Hanwell Park Academy
REFRESH-INTERVAL;VALUE=DURATION:PT1H
X-Robots-Tag:noindex
X-PUBLISHED-TTL:PT1H
BEGIN:VTIMEZONE
TZID:America/Halifax
BEGIN:DAYLIGHT
TZOFFSETFROM:-0400
TZOFFSETTO:-0300
TZNAME:ADT
DTSTART:20240310T060000
END:DAYLIGHT
BEGIN:STANDARD
TZOFFSETFROM:-0300
TZOFFSETTO:-0400
TZNAME:AST
DTSTART:20241103T050000
END:STANDARD
BEGIN:DAYLIGHT
TZOFFSETFROM:-0400
TZOFFSETTO:-0300
TZNAME:ADT
DTSTART:20250309T060000
END:DAYLIGHT
BEGIN:STANDARD
TZOFFSETFROM:-0300
TZOFFSETTO:-0400
TZNAME:AST
DTSTART:20251102T050000
END:STANDARD
BEGIN:DAYLIGHT
TZOFFSETFROM:-0400
TZOFFSETTO:-0300
TZNAME:ADT
DTSTART:20260308T060000
END:DAYLIGHT
BEGIN:STANDARD
TZOFFSETFROM:-0300
TZOFFSETTO:-0400
TZNAME:AST
DTSTART:20261101T050000
END:STANDARD
END:VTIMEZONE
BEGIN:VEVENT
DTSTART;TZID=America/Halifax:20251010T143000
DTEND;TZID=America/Halifax:20251010T163000
DTSTAMP:20260420T044623
CREATED:20251007T111430Z
LAST-MODIFIED:20251007T111434Z
UID:10000877-1760106600-1760113800@hanwell.nbed.ca
SUMMARY:Basketball Skills and Drills (Middle Level)
DESCRIPTION:
URL:https://hanwell.nbed.ca/calendar/basketball-skills-and-drills-middle-level-5/
END:VEVENT
BEGIN:VEVENT
DTSTART;TZID=America/Halifax:20251010T144500
DTEND;TZID=America/Halifax:20251010T160000
DTSTAMP:20260420T044623
CREATED:20251009T102334Z
LAST-MODIFIED:20251009T102336Z
UID:10000879-1760107500-1760112000@hanwell.nbed.ca
SUMMARY:Girls Soccer Practice
DESCRIPTION:
URL:https://hanwell.nbed.ca/calendar/girls-soccer-practice-30/
END:VEVENT
BEGIN:VEVENT
DTSTART;TZID=America/Halifax:20251013T080000
DTEND;TZID=America/Halifax:20251013T143000
DTSTAMP:20260420T044623
CREATED:20250904T201030Z
LAST-MODIFIED:20250904T201032Z
UID:10000815-1760342400-1760365800@hanwell.nbed.ca
SUMMARY:Thanksgiving Day (No School for Students & Staff)
DESCRIPTION:
URL:https://hanwell.nbed.ca/calendar/thanksgiving-day-no-school-for-students-staff/
END:VEVENT
BEGIN:VEVENT
DTSTART;TZID=America/Halifax:20251014T080000
DTEND;TZID=America/Halifax:20251017T143000
DTSTAMP:20260420T044623
CREATED:20250904T201142Z
LAST-MODIFIED:20250904T201622Z
UID:10000816-1760428800-1760711400@hanwell.nbed.ca
SUMMARY:Registration for Students Entering Kindergarten in 2026-2027
DESCRIPTION:
URL:https://hanwell.nbed.ca/calendar/kindergarten-registration-for-2026-2027-school-year/
END:VEVENT
BEGIN:VEVENT
DTSTART;TZID=America/Halifax:20251014T163000
DTEND;TZID=America/Halifax:20251014T183000
DTSTAMP:20260420T044623
CREATED:20250909T154204Z
LAST-MODIFIED:20250909T154207Z
UID:10000834-1760459400-1760466600@hanwell.nbed.ca
SUMMARY:Cross Country Districts (Middle Level) at HPA
DESCRIPTION:
URL:https://hanwell.nbed.ca/calendar/cross-country-districts-middle-level-at-hpa/
END:VEVENT
BEGIN:VEVENT
DTSTART;TZID=America/Halifax:20251015T160000
DTEND;TZID=America/Halifax:20251015T173000
DTSTAMP:20260420T044623
CREATED:20251008T162913Z
LAST-MODIFIED:20251008T162915Z
UID:10000878-1760544000-1760549400@hanwell.nbed.ca
SUMMARY:Girls Soccer Match vs ELE at HPA
DESCRIPTION:
URL:https://hanwell.nbed.ca/calendar/girls-soccer-match-vs-ele-at-hpa-2/
END:VEVENT
BEGIN:VEVENT
DTSTART;TZID=America/Halifax:20251017T143000
DTEND;TZID=America/Halifax:20251017T163000
DTSTAMP:20260420T044623
CREATED:20251014T111843Z
LAST-MODIFIED:20251014T111846Z
UID:10000880-1760711400-1760718600@hanwell.nbed.ca
SUMMARY:Basketball Skills and Drills (Middle Level)
DESCRIPTION:
URL:https://hanwell.nbed.ca/calendar/basketball-skills-and-drills-middle-level-6/
END:VEVENT
BEGIN:VEVENT
DTSTART;TZID=America/Halifax:20251017T170000
DTEND;TZID=America/Halifax:20251017T183000
DTSTAMP:20260420T044623
CREATED:20250912T154859Z
LAST-MODIFIED:20250912T154904Z
UID:10000853-1760720400-1760725800@hanwell.nbed.ca
SUMMARY:Girls Soccer Match vs FCA at HPA
DESCRIPTION:
URL:https://hanwell.nbed.ca/calendar/girls-soccer-match-vs-fca-at-hpa/
END:VEVENT
BEGIN:VEVENT
DTSTART;TZID=America/Halifax:20251017T170000
DTEND;TZID=America/Halifax:20251017T183000
DTSTAMP:20260420T044623
CREATED:20250912T160625Z
LAST-MODIFIED:20251014T153747Z
UID:10000859-1760720400-1760725800@hanwell.nbed.ca
SUMMARY:Postponed - Boys Soccer Match vs Stanley at Stanley Consolidated School
DESCRIPTION:
URL:https://hanwell.nbed.ca/calendar/boys-soccer-match-vs-stanley-at-stanley-consolidated-school/
END:VEVENT
BEGIN:VEVENT
DTSTART;TZID=America/Halifax:20251020T080000
DTEND;TZID=America/Halifax:20251024T143000
DTSTAMP:20260420T044623
CREATED:20250904T201637Z
LAST-MODIFIED:20250904T201640Z
UID:10000818-1760947200-1761316200@hanwell.nbed.ca
SUMMARY:Safe Schools Week
DESCRIPTION:
URL:https://hanwell.nbed.ca/calendar/safe-schools-week/
END:VEVENT
BEGIN:VEVENT
DTSTART;TZID=America/Halifax:20251020T144500
DTEND;TZID=America/Halifax:20251020T160000
DTSTAMP:20260420T044623
CREATED:20251020T110146Z
LAST-MODIFIED:20251020T110149Z
UID:10000883-1760971500-1760976000@hanwell.nbed.ca
SUMMARY:Girls Soccer Practice
DESCRIPTION:
URL:https://hanwell.nbed.ca/calendar/girls-soccer-practice-31/
END:VEVENT
BEGIN:VEVENT
DTSTART;TZID=America/Halifax:20251020T170000
DTEND;TZID=America/Halifax:20251020T183000
DTSTAMP:20260420T044623
CREATED:20250912T160714Z
LAST-MODIFIED:20250912T160717Z
UID:10000860-1760979600-1760985000@hanwell.nbed.ca
SUMMARY:Boys Soccer Match vs Harvey at Harvey High School
DESCRIPTION:
URL:https://hanwell.nbed.ca/calendar/boys-soccer-match-vs-harvey-at-harvey-high-school-2/
END:VEVENT
BEGIN:VEVENT
DTSTART;TZID=America/Halifax:20251021T173000
DTEND;TZID=America/Halifax:20251021T190000
DTSTAMP:20260420T044623
CREATED:20250912T154956Z
LAST-MODIFIED:20251015T153647Z
UID:10000854-1761067800-1761073200@hanwell.nbed.ca
SUMMARY:Girls Soccer Match vs Harvey at Harvey
DESCRIPTION:
URL:https://hanwell.nbed.ca/calendar/girls-soccer-match-vs-harvey-at-harvey/
END:VEVENT
BEGIN:VEVENT
DTSTART;TZID=America/Halifax:20251022T163000
DTEND;TZID=America/Halifax:20251022T180000
DTSTAMP:20260420T044623
CREATED:20250914T162926Z
LAST-MODIFIED:20251022T122236Z
UID:10000862-1761150600-1761156000@hanwell.nbed.ca
SUMMARY:Girls Soccer Match vs Stanley at Stanley Consolidated School
DESCRIPTION:
URL:https://hanwell.nbed.ca/calendar/girls-soccer-match-vs-stanley-at-stanley-consolidated-school/
END:VEVENT
BEGIN:VEVENT
DTSTART;TZID=America/Halifax:20251023T170000
DTEND;TZID=America/Halifax:20251023T183000
DTSTAMP:20260420T044623
CREATED:20251016T172444Z
LAST-MODIFIED:20251016T172447Z
UID:10000882-1761238800-1761244200@hanwell.nbed.ca
SUMMARY:Boys Soccer Match vs Stanley at Stanley Consolidated School
DESCRIPTION:
URL:https://hanwell.nbed.ca/calendar/boys-soccer-match-vs-stanley-at-stanley-consolidated-school-2/
END:VEVENT
BEGIN:VEVENT
DTSTART;TZID=America/Halifax:20251024T080000
DTEND;TZID=America/Halifax:20251024T083000
DTSTAMP:20260420T044623
CREATED:20251016T113844Z
LAST-MODIFIED:20251016T113845Z
UID:10000881-1761292800-1761294600@hanwell.nbed.ca
SUMMARY:Movie Night
DESCRIPTION:See School Cash Online for Payment
URL:https://hanwell.nbed.ca/calendar/movie-night/
END:VEVENT
BEGIN:VEVENT
DTSTART;TZID=America/Halifax:20251024T144500
DTEND;TZID=America/Halifax:20251024T160000
DTSTAMP:20260420T044623
CREATED:20251023T103152Z
LAST-MODIFIED:20251023T103155Z
UID:10000884-1761317100-1761321600@hanwell.nbed.ca
SUMMARY:Girls Soccer Practice
DESCRIPTION:
URL:https://hanwell.nbed.ca/calendar/girls-soccer-practice-32/
END:VEVENT
BEGIN:VEVENT
DTSTART;TZID=America/Halifax:20251027T163000
DTEND;TZID=America/Halifax:20251027T180000
DTSTAMP:20260420T044623
CREATED:20251023T110844Z
LAST-MODIFIED:20251023T110847Z
UID:10000886-1761582600-1761588000@hanwell.nbed.ca
SUMMARY:Boys Soccer Playoff vs Stanley at Stanley
DESCRIPTION:
URL:https://hanwell.nbed.ca/calendar/boys-soccer-playoff-vs-stanley-at-stanley/
END:VEVENT
BEGIN:VEVENT
DTSTART;TZID=America/Halifax:20251028T163000
DTEND;TZID=America/Halifax:20251028T180000
DTSTAMP:20260420T044623
CREATED:20251023T110617Z
LAST-MODIFIED:20251023T110620Z
UID:10000885-1761669000-1761674400@hanwell.nbed.ca
SUMMARY:Girls Soccer Playoff vs ELE at HPA
DESCRIPTION:
URL:https://hanwell.nbed.ca/calendar/girls-soccer-playoff-vs-ele-at-hpa/
END:VEVENT
BEGIN:VEVENT
DTSTART;TZID=America/Halifax:20251030T163000
DTEND;TZID=America/Halifax:20251030T180000
DTSTAMP:20260420T044623
CREATED:20251028T103204Z
LAST-MODIFIED:20251028T103207Z
UID:10000897-1761841800-1761847200@hanwell.nbed.ca
SUMMARY:Boys Soccer District Final vs FCA at Barkers Point Pitch
DESCRIPTION:
URL:https://hanwell.nbed.ca/calendar/boys-soccer-district-final-vs-fca-at-barkers-point-pitch/
END:VEVENT
BEGIN:VEVENT
DTSTART;TZID=America/Halifax:20251030T163000
DTEND;TZID=America/Halifax:20251030T180000
DTSTAMP:20260420T044623
CREATED:20251029T175902Z
LAST-MODIFIED:20251029T175905Z
UID:10000900-1761841800-1761847200@hanwell.nbed.ca
SUMMARY:Girls Soccer District Finals vs Stanley at Stanley
DESCRIPTION:
URL:https://hanwell.nbed.ca/calendar/girls-soccer-district-finals-vs-stanley-at-stanley/
END:VEVENT
BEGIN:VEVENT
DTSTART;TZID=America/Halifax:20251030T170000
DTEND;TZID=America/Halifax:20251030T183000
DTSTAMP:20260420T044623
CREATED:20251027T162620Z
LAST-MODIFIED:20251027T162621Z
UID:10000887-1761843600-1761849000@hanwell.nbed.ca
SUMMARY:School Dance Grades 3-5
DESCRIPTION:
URL:https://hanwell.nbed.ca/calendar/school-dance-grades-3-5-2/
END:VEVENT
BEGIN:VEVENT
DTSTART;TZID=America/Halifax:20251030T190000
DTEND;TZID=America/Halifax:20251030T203000
DTSTAMP:20260420T044623
CREATED:20251027T162709Z
LAST-MODIFIED:20251027T162711Z
UID:10000888-1761850800-1761856200@hanwell.nbed.ca
SUMMARY:School Dance Grades 6-8
DESCRIPTION:
URL:https://hanwell.nbed.ca/calendar/school-dance-grades-6-8-2/
END:VEVENT
BEGIN:VEVENT
DTSTART;TZID=America/Halifax:20251103T143000
DTEND;TZID=America/Halifax:20251103T153000
DTSTAMP:20260420T044623
CREATED:20251028T132410Z
LAST-MODIFIED:20251028T132413Z
UID:10000898-1762180200-1762183800@hanwell.nbed.ca
SUMMARY:Boys Badminton Tryout 1 (Middle Level)
DESCRIPTION:
URL:https://hanwell.nbed.ca/calendar/boys-badminton-tryout-1-middle-level/
END:VEVENT
BEGIN:VEVENT
DTSTART;TZID=America/Halifax:20251103T163000
DTEND;TZID=America/Halifax:20251103T173000
DTSTAMP:20260420T044623
CREATED:20251027T170550Z
LAST-MODIFIED:20251027T170553Z
UID:10000895-1762187400-1762191000@hanwell.nbed.ca
SUMMARY:Girls Badminton Tryout 1 (Middle Level)
DESCRIPTION:
URL:https://hanwell.nbed.ca/calendar/girls-badminton-tryout-1-middle-level/
END:VEVENT
BEGIN:VEVENT
DTSTART;TZID=America/Halifax:20251104T143000
DTEND;TZID=America/Halifax:20251104T153000
DTSTAMP:20260420T044623
CREATED:20251028T132449Z
LAST-MODIFIED:20251028T132452Z
UID:10000899-1762266600-1762270200@hanwell.nbed.ca
SUMMARY:Boys Badminton Tryout 2 (Middle Level)
DESCRIPTION:
URL:https://hanwell.nbed.ca/calendar/boys-badminton-tryout-2-middle-level/
END:VEVENT
BEGIN:VEVENT
DTSTART;TZID=America/Halifax:20251105T163000
DTEND;TZID=America/Halifax:20251105T173000
DTSTAMP:20260420T044623
CREATED:20251027T170630Z
LAST-MODIFIED:20251027T170633Z
UID:10000896-1762360200-1762363800@hanwell.nbed.ca
SUMMARY:Girls Badminton Tryout 2 (Middle Level)
DESCRIPTION:
URL:https://hanwell.nbed.ca/calendar/girls-badminton-tryout-2-middle-level/
END:VEVENT
BEGIN:VEVENT
DTSTART;TZID=America/Halifax:20251107T143000
DTEND;TZID=America/Halifax:20251107T163000
DTSTAMP:20260420T044623
CREATED:20251104T175010Z
LAST-MODIFIED:20251104T175012Z
UID:10000901-1762525800-1762533000@hanwell.nbed.ca
SUMMARY:Basketball Skills and Drills (Middle Level)
DESCRIPTION:
URL:https://hanwell.nbed.ca/calendar/basketball-skills-and-drills-middle-level-7/
END:VEVENT
BEGIN:VEVENT
DTSTART;TZID=America/Halifax:20251110T080000
DTEND;TZID=America/Halifax:20251110T143000
DTSTAMP:20260420T044623
CREATED:20250904T201725Z
LAST-MODIFIED:20250904T201726Z
UID:10000819-1762761600-1762785000@hanwell.nbed.ca
SUMMARY:School Improvement Planning Day (No School for Students)
DESCRIPTION:
URL:https://hanwell.nbed.ca/calendar/school-improvement-planning-day-no-school-for-students/
END:VEVENT
BEGIN:VEVENT
DTSTART;TZID=America/Halifax:20251111T080000
DTEND;TZID=America/Halifax:20251111T143000
DTSTAMP:20260420T044623
CREATED:20250904T201800Z
LAST-MODIFIED:20250904T201804Z
UID:10000820-1762848000-1762871400@hanwell.nbed.ca
SUMMARY:Remembrance Day (No School for Students or Staff)
DESCRIPTION:
URL:https://hanwell.nbed.ca/calendar/remembrance-day-no-school-for-students-or-staff/
END:VEVENT
END:VCALENDAR