BEGIN:VCALENDAR
VERSION:2.0
PRODID:-//Hanwell Park Academy - ECPv6.15.20//NONSGML v1.0//EN
CALSCALE:GREGORIAN
METHOD:PUBLISH
X-WR-CALNAME:Hanwell Park Academy
X-ORIGINAL-URL:https://hanwell.nbed.ca
X-WR-CALDESC:Events for Hanwell Park Academy
REFRESH-INTERVAL;VALUE=DURATION:PT1H
X-Robots-Tag:noindex
X-PUBLISHED-TTL:PT1H
BEGIN:VTIMEZONE
TZID:America/Halifax
BEGIN:DAYLIGHT
TZOFFSETFROM:-0400
TZOFFSETTO:-0300
TZNAME:ADT
DTSTART:20240310T060000
END:DAYLIGHT
BEGIN:STANDARD
TZOFFSETFROM:-0300
TZOFFSETTO:-0400
TZNAME:AST
DTSTART:20241103T050000
END:STANDARD
BEGIN:DAYLIGHT
TZOFFSETFROM:-0400
TZOFFSETTO:-0300
TZNAME:ADT
DTSTART:20250309T060000
END:DAYLIGHT
BEGIN:STANDARD
TZOFFSETFROM:-0300
TZOFFSETTO:-0400
TZNAME:AST
DTSTART:20251102T050000
END:STANDARD
BEGIN:DAYLIGHT
TZOFFSETFROM:-0400
TZOFFSETTO:-0300
TZNAME:ADT
DTSTART:20260308T060000
END:DAYLIGHT
BEGIN:STANDARD
TZOFFSETFROM:-0300
TZOFFSETTO:-0400
TZNAME:AST
DTSTART:20261101T050000
END:STANDARD
END:VTIMEZONE
BEGIN:VEVENT
DTSTART;TZID=America/Halifax:20251103T163000
DTEND;TZID=America/Halifax:20251103T173000
DTSTAMP:20260420T012001
CREATED:20251027T170550Z
LAST-MODIFIED:20251027T170553Z
UID:10000895-1762187400-1762191000@hanwell.nbed.ca
SUMMARY:Girls Badminton Tryout 1 (Middle Level)
DESCRIPTION:
URL:https://hanwell.nbed.ca/calendar/girls-badminton-tryout-1-middle-level/
END:VEVENT
BEGIN:VEVENT
DTSTART;TZID=America/Halifax:20251104T143000
DTEND;TZID=America/Halifax:20251104T153000
DTSTAMP:20260420T012001
CREATED:20251028T132449Z
LAST-MODIFIED:20251028T132452Z
UID:10000899-1762266600-1762270200@hanwell.nbed.ca
SUMMARY:Boys Badminton Tryout 2 (Middle Level)
DESCRIPTION:
URL:https://hanwell.nbed.ca/calendar/boys-badminton-tryout-2-middle-level/
END:VEVENT
BEGIN:VEVENT
DTSTART;TZID=America/Halifax:20251105T163000
DTEND;TZID=America/Halifax:20251105T173000
DTSTAMP:20260420T012001
CREATED:20251027T170630Z
LAST-MODIFIED:20251027T170633Z
UID:10000896-1762360200-1762363800@hanwell.nbed.ca
SUMMARY:Girls Badminton Tryout 2 (Middle Level)
DESCRIPTION:
URL:https://hanwell.nbed.ca/calendar/girls-badminton-tryout-2-middle-level/
END:VEVENT
BEGIN:VEVENT
DTSTART;TZID=America/Halifax:20251107T143000
DTEND;TZID=America/Halifax:20251107T163000
DTSTAMP:20260420T012001
CREATED:20251104T175010Z
LAST-MODIFIED:20251104T175012Z
UID:10000901-1762525800-1762533000@hanwell.nbed.ca
SUMMARY:Basketball Skills and Drills (Middle Level)
DESCRIPTION:
URL:https://hanwell.nbed.ca/calendar/basketball-skills-and-drills-middle-level-7/
END:VEVENT
BEGIN:VEVENT
DTSTART;TZID=America/Halifax:20251110T080000
DTEND;TZID=America/Halifax:20251110T143000
DTSTAMP:20260420T012001
CREATED:20250904T201725Z
LAST-MODIFIED:20250904T201726Z
UID:10000819-1762761600-1762785000@hanwell.nbed.ca
SUMMARY:School Improvement Planning Day (No School for Students)
DESCRIPTION:
URL:https://hanwell.nbed.ca/calendar/school-improvement-planning-day-no-school-for-students/
END:VEVENT
BEGIN:VEVENT
DTSTART;TZID=America/Halifax:20251111T080000
DTEND;TZID=America/Halifax:20251111T143000
DTSTAMP:20260420T012001
CREATED:20250904T201800Z
LAST-MODIFIED:20250904T201804Z
UID:10000820-1762848000-1762871400@hanwell.nbed.ca
SUMMARY:Remembrance Day (No School for Students or Staff)
DESCRIPTION:
URL:https://hanwell.nbed.ca/calendar/remembrance-day-no-school-for-students-or-staff/
END:VEVENT
BEGIN:VEVENT
DTSTART;TZID=America/Halifax:20251112T143000
DTEND;TZID=America/Halifax:20251112T153000
DTSTAMP:20260420T012001
CREATED:20251106T112426Z
LAST-MODIFIED:20251106T112429Z
UID:10000902-1762957800-1762961400@hanwell.nbed.ca
SUMMARY:Boys Badminton Tryout 3
DESCRIPTION:
URL:https://hanwell.nbed.ca/calendar/boys-badminton-tryout-3/
END:VEVENT
BEGIN:VEVENT
DTSTART;TZID=America/Halifax:20251112T161500
DTEND;TZID=America/Halifax:20251112T173000
DTSTAMP:20260420T012001
CREATED:20251107T131305Z
LAST-MODIFIED:20251107T131308Z
UID:10000904-1762964100-1762968600@hanwell.nbed.ca
SUMMARY:Girls Badminton Practice
DESCRIPTION:
URL:https://hanwell.nbed.ca/calendar/girls-badminton-practice-18/
END:VEVENT
BEGIN:VEVENT
DTSTART;TZID=America/Halifax:20251117T143000
DTEND;TZID=America/Halifax:20251117T153000
DTSTAMP:20260420T012001
CREATED:20251114T113906Z
LAST-MODIFIED:20251114T113909Z
UID:10000971-1763389800-1763393400@hanwell.nbed.ca
SUMMARY:Boys Badminton Practice
DESCRIPTION:
URL:https://hanwell.nbed.ca/calendar/boys-badminton-practice-18/
END:VEVENT
BEGIN:VEVENT
DTSTART;TZID=America/Halifax:20251117T163000
DTEND;TZID=America/Halifax:20251117T173000
DTSTAMP:20260420T012001
CREATED:20251113T180503Z
LAST-MODIFIED:20251113T180507Z
UID:10000963-1763397000-1763400600@hanwell.nbed.ca
SUMMARY:Girls Badminton Practice
DESCRIPTION:
URL:https://hanwell.nbed.ca/calendar/girls-badminton-practice-19/
END:VEVENT
BEGIN:VEVENT
DTSTART;TZID=America/Halifax:20251119T161500
DTEND;TZID=America/Halifax:20251119T173000
DTSTAMP:20260420T012001
CREATED:20251113T180552Z
LAST-MODIFIED:20251113T180555Z
UID:10000964-1763568900-1763573400@hanwell.nbed.ca
SUMMARY:Girls Badminton Practice
DESCRIPTION:
URL:https://hanwell.nbed.ca/calendar/girls-badminton-practice-20/
END:VEVENT
BEGIN:VEVENT
DTSTART;TZID=America/Halifax:20251120T170000
DTEND;TZID=America/Halifax:20251120T183000
DTSTAMP:20260420T012001
CREATED:20251117T120703Z
LAST-MODIFIED:20251117T120707Z
UID:10000972-1763658000-1763663400@hanwell.nbed.ca
SUMMARY:Basketball Skills and Drills
DESCRIPTION:
URL:https://hanwell.nbed.ca/calendar/basketball-skills-and-drills-13/
END:VEVENT
BEGIN:VEVENT
DTSTART;TZID=America/Halifax:20251121T080000
DTEND;TZID=America/Halifax:20251121T143000
DTSTAMP:20260420T012001
CREATED:20250904T201850Z
LAST-MODIFIED:20250904T201852Z
UID:10000821-1763712000-1763735400@hanwell.nbed.ca
SUMMARY:Report Card Writing Day (No School for Students)
DESCRIPTION:
URL:https://hanwell.nbed.ca/calendar/report-card-writing-day-no-school-for-students/
END:VEVENT
BEGIN:VEVENT
DTSTART;TZID=America/Halifax:20251124T143000
DTEND;TZID=America/Halifax:20251124T153000
DTSTAMP:20260420T012001
CREATED:20251118T141023Z
LAST-MODIFIED:20251118T141026Z
UID:10000973-1763994600-1763998200@hanwell.nbed.ca
SUMMARY:Boys Badminton Practice
DESCRIPTION:
URL:https://hanwell.nbed.ca/calendar/boys-badminton-practice-19/
END:VEVENT
BEGIN:VEVENT
DTSTART;TZID=America/Halifax:20251124T161500
DTEND;TZID=America/Halifax:20251124T173000
DTSTAMP:20260420T012001
CREATED:20251113T180637Z
LAST-MODIFIED:20251113T180640Z
UID:10000965-1764000900-1764005400@hanwell.nbed.ca
SUMMARY:Girls Badminton Practice
DESCRIPTION:
URL:https://hanwell.nbed.ca/calendar/girls-badminton-practice-21/
END:VEVENT
BEGIN:VEVENT
DTSTART;TZID=America/Halifax:20251125T163000
DTEND;TZID=America/Halifax:20251125T180000
DTSTAMP:20260420T012001
CREATED:20251107T114709Z
LAST-MODIFIED:20251107T114712Z
UID:10000903-1764088200-1764093600@hanwell.nbed.ca
SUMMARY:Boys Badminton Match vs Harvey at HPA
DESCRIPTION:
URL:https://hanwell.nbed.ca/calendar/boys-badminton-match-vs-harvey-at-hpa/
END:VEVENT
BEGIN:VEVENT
DTSTART;TZID=America/Halifax:20251126T170000
DTEND;TZID=America/Halifax:20251126T183000
DTSTAMP:20260420T012001
CREATED:20251113T180714Z
LAST-MODIFIED:20251118T113607Z
UID:10000966-1764176400-1764181800@hanwell.nbed.ca
SUMMARY:Girls Badminton Match vs Keswick Valley at HPA
DESCRIPTION:
URL:https://hanwell.nbed.ca/calendar/girls-badminton-practice-22/
END:VEVENT
BEGIN:VEVENT
DTSTART;TZID=America/Halifax:20251127T170000
DTEND;TZID=America/Halifax:20251127T183000
DTSTAMP:20260420T012001
CREATED:20251120T113207Z
LAST-MODIFIED:20251120T113209Z
UID:10000974-1764262800-1764268200@hanwell.nbed.ca
SUMMARY:Girls Basketball Skills and Drills
DESCRIPTION:
URL:https://hanwell.nbed.ca/calendar/girls-basketball-skills-and-drills-2/
END:VEVENT
BEGIN:VEVENT
DTSTART;TZID=America/Halifax:20251127T170000
DTEND;TZID=America/Halifax:20251127T183000
DTSTAMP:20260420T012001
CREATED:20251124T125231Z
LAST-MODIFIED:20251124T125234Z
UID:10000975-1764262800-1764268200@hanwell.nbed.ca
SUMMARY:Boys Basketball Skills and Drills (Gym 1)
DESCRIPTION:
URL:https://hanwell.nbed.ca/calendar/boys-basketball-skills-and-drills-gym-1/
END:VEVENT
BEGIN:VEVENT
DTSTART;TZID=America/Halifax:20251201T140000
DTEND;TZID=America/Halifax:20251201T143000
DTSTAMP:20260420T012001
CREATED:20250904T201934Z
LAST-MODIFIED:20250904T201936Z
UID:10000822-1764597600-1764599400@hanwell.nbed.ca
SUMMARY:Report Cards Issued Grades K-8
DESCRIPTION:
URL:https://hanwell.nbed.ca/calendar/report-cards-issued-grades-k-8/
END:VEVENT
BEGIN:VEVENT
DTSTART;TZID=America/Halifax:20251201T143000
DTEND;TZID=America/Halifax:20251201T153000
DTSTAMP:20260420T012001
CREATED:20251127T164119Z
LAST-MODIFIED:20251127T164121Z
UID:10000976-1764599400-1764603000@hanwell.nbed.ca
SUMMARY:Boys Badminton Practice
DESCRIPTION:
URL:https://hanwell.nbed.ca/calendar/boys-badminton-practice-20/
END:VEVENT
BEGIN:VEVENT
DTSTART;TZID=America/Halifax:20251201T161500
DTEND;TZID=America/Halifax:20251201T173000
DTSTAMP:20260420T012001
CREATED:20251113T180805Z
LAST-MODIFIED:20251113T180807Z
UID:10000967-1764605700-1764610200@hanwell.nbed.ca
SUMMARY:Girls Badminton Practice
DESCRIPTION:
URL:https://hanwell.nbed.ca/calendar/girls-badminton-practice-23/
END:VEVENT
BEGIN:VEVENT
DTSTART;TZID=America/Halifax:20251202T143000
DTEND;TZID=America/Halifax:20251202T153000
DTSTAMP:20260420T012001
CREATED:20251127T164149Z
LAST-MODIFIED:20251201T153524Z
UID:10000977-1764685800-1764689400@hanwell.nbed.ca
SUMMARY:Cancelled - Boys Badminton Practice
DESCRIPTION:
URL:https://hanwell.nbed.ca/calendar/boys-badminton-practice-21/
END:VEVENT
BEGIN:VEVENT
DTSTART;TZID=America/Halifax:20251204T170000
DTEND;TZID=America/Halifax:20251204T183000
DTSTAMP:20260420T012001
CREATED:20251201T120417Z
LAST-MODIFIED:20251201T120420Z
UID:10000978-1764867600-1764873000@hanwell.nbed.ca
SUMMARY:Boys Basketball Skills and Drills
DESCRIPTION:
URL:https://hanwell.nbed.ca/calendar/boys-basketball-skills-and-drills/
END:VEVENT
BEGIN:VEVENT
DTSTART;TZID=America/Halifax:20251205T083000
DTEND;TZID=America/Halifax:20251205T113000
DTSTAMP:20260420T012001
CREATED:20250904T202033Z
LAST-MODIFIED:20250904T202442Z
UID:10000823-1764923400-1764934200@hanwell.nbed.ca
SUMMARY:Grades K-8 Parent Teacher Conversations (No School for Students)
DESCRIPTION:
URL:https://hanwell.nbed.ca/calendar/grades-k-8-parent-teacher-conversations-am/
END:VEVENT
BEGIN:VEVENT
DTSTART;TZID=America/Halifax:20251205T113000
DTEND;TZID=America/Halifax:20251205T143000
DTSTAMP:20260420T012001
CREATED:20250904T202129Z
LAST-MODIFIED:20250904T202131Z
UID:10000824-1764934200-1764945000@hanwell.nbed.ca
SUMMARY:Professional Learning Day (No School for Students)
DESCRIPTION:
URL:https://hanwell.nbed.ca/calendar/professional-learning-day-no-school-for-students/
END:VEVENT
BEGIN:VEVENT
DTSTART;TZID=America/Halifax:20251208T143000
DTEND;TZID=America/Halifax:20251208T153000
DTSTAMP:20260420T012001
CREATED:20251204T122640Z
LAST-MODIFIED:20251204T122643Z
UID:10000985-1765204200-1765207800@hanwell.nbed.ca
SUMMARY:Boys Badminton Practice
DESCRIPTION:
URL:https://hanwell.nbed.ca/calendar/boys-badminton-practice-22/2025-12-08/
END:VEVENT
BEGIN:VEVENT
DTSTART;TZID=America/Halifax:20251208T161500
DTEND;TZID=America/Halifax:20251208T173000
DTSTAMP:20260420T012001
CREATED:20251113T180837Z
LAST-MODIFIED:20251113T180840Z
UID:10000968-1765210500-1765215000@hanwell.nbed.ca
SUMMARY:Girls Badminton Practice
DESCRIPTION:
URL:https://hanwell.nbed.ca/calendar/girls-badminton-practice-24/
END:VEVENT
BEGIN:VEVENT
DTSTART;TZID=America/Halifax:20251209T143000
DTEND;TZID=America/Halifax:20251209T153000
DTSTAMP:20260420T012001
CREATED:20251204T122640Z
LAST-MODIFIED:20251204T122643Z
UID:10000986-1765290600-1765294200@hanwell.nbed.ca
SUMMARY:Boys Badminton Practice
DESCRIPTION:
URL:https://hanwell.nbed.ca/calendar/boys-badminton-practice-22/2025-12-09/
END:VEVENT
BEGIN:VEVENT
DTSTART;TZID=America/Halifax:20251210T153000
DTEND;TZID=America/Halifax:20251210T163000
DTSTAMP:20260420T012001
CREATED:20251113T180927Z
LAST-MODIFIED:20251201T142330Z
UID:10000969-1765380600-1765384200@hanwell.nbed.ca
SUMMARY:Cancelled - Girls Badminton Practice
DESCRIPTION:
URL:https://hanwell.nbed.ca/calendar/girls-badminton-practice-25/
END:VEVENT
END:VCALENDAR