BEGIN:VCALENDAR
VERSION:2.0
PRODID:-//Hanwell Park Academy - ECPv6.15.20//NONSGML v1.0//EN
CALSCALE:GREGORIAN
METHOD:PUBLISH
X-WR-CALNAME:Hanwell Park Academy
X-ORIGINAL-URL:https://hanwell.nbed.ca
X-WR-CALDESC:Events for Hanwell Park Academy
REFRESH-INTERVAL;VALUE=DURATION:PT1H
X-Robots-Tag:noindex
X-PUBLISHED-TTL:PT1H
BEGIN:VTIMEZONE
TZID:America/Halifax
BEGIN:DAYLIGHT
TZOFFSETFROM:-0400
TZOFFSETTO:-0300
TZNAME:ADT
DTSTART:20240310T060000
END:DAYLIGHT
BEGIN:STANDARD
TZOFFSETFROM:-0300
TZOFFSETTO:-0400
TZNAME:AST
DTSTART:20241103T050000
END:STANDARD
BEGIN:DAYLIGHT
TZOFFSETFROM:-0400
TZOFFSETTO:-0300
TZNAME:ADT
DTSTART:20250309T060000
END:DAYLIGHT
BEGIN:STANDARD
TZOFFSETFROM:-0300
TZOFFSETTO:-0400
TZNAME:AST
DTSTART:20251102T050000
END:STANDARD
BEGIN:DAYLIGHT
TZOFFSETFROM:-0400
TZOFFSETTO:-0300
TZNAME:ADT
DTSTART:20260308T060000
END:DAYLIGHT
BEGIN:STANDARD
TZOFFSETFROM:-0300
TZOFFSETTO:-0400
TZNAME:AST
DTSTART:20261101T050000
END:STANDARD
END:VTIMEZONE
BEGIN:VEVENT
DTSTART;TZID=America/Halifax:20250513T080000
DTEND;TZID=America/Halifax:20250513T110000
DTSTAMP:20260420T050330
CREATED:20250409T010852Z
LAST-MODIFIED:20250409T010853Z
UID:10000761-1747123200-1747134000@hanwell.nbed.ca
SUMMARY:Grade 4 and Grade 8 Provincial Scientific Literacy Assessments
DESCRIPTION:
URL:https://hanwell.nbed.ca/calendar/grade-4-and-grade-8-provincial-scientific-literacy-assessments/
END:VEVENT
BEGIN:VEVENT
DTSTART;TZID=America/Halifax:20250512T080000
DTEND;TZID=America/Halifax:20250512T150000
DTSTAMP:20260420T050330
CREATED:20250409T010750Z
LAST-MODIFIED:20250409T010752Z
UID:10000760-1747036800-1747062000@hanwell.nbed.ca
SUMMARY:NBTA Branch Day/ No School for Students
DESCRIPTION:
URL:https://hanwell.nbed.ca/calendar/nbta-branch-day-no-school-for-students/
END:VEVENT
BEGIN:VEVENT
DTSTART;TZID=America/Halifax:20250508T173000
DTEND;TZID=America/Halifax:20250508T200000
DTSTAMP:20260420T050330
CREATED:20250505T105918Z
LAST-MODIFIED:20250507T150456Z
UID:10000789-1746725400-1746734400@hanwell.nbed.ca
SUMMARY:Girls Volleyball (Black) Districts at ELE
DESCRIPTION:Our team plays in a semifinal at 5:30pm in gym 2. If they win\, they will play the final at 6:30pm in gym 2.
URL:https://hanwell.nbed.ca/calendar/girls-volleyball-black-districts-at-ele/
CATEGORIES:Athletics
END:VEVENT
BEGIN:VEVENT
DTSTART;TZID=America/Halifax:20250507T183000
DTEND;TZID=America/Halifax:20250507T200000
DTSTAMP:20260420T050330
CREATED:20250404T112834Z
LAST-MODIFIED:20250404T112836Z
UID:10000745-1746642600-1746648000@hanwell.nbed.ca
SUMMARY:Girls Volleyball (Green) Match at CNBA
DESCRIPTION:
URL:https://hanwell.nbed.ca/calendar/girls-volleyball-green-match-at-cnba-2/
CATEGORIES:Athletics
END:VEVENT
BEGIN:VEVENT
DTSTART;TZID=America/Halifax:20250507T170000
DTEND;TZID=America/Halifax:20250507T183000
DTSTAMP:20260420T050330
CREATED:20250404T112658Z
LAST-MODIFIED:20250404T112659Z
UID:10000744-1746637200-1746642600@hanwell.nbed.ca
SUMMARY:Boys Volleyball Match at FCA (Unity Centre)
DESCRIPTION:
URL:https://hanwell.nbed.ca/calendar/boys-volleyball-match-at-fca-unity-centre-2/
CATEGORIES:Athletics
END:VEVENT
BEGIN:VEVENT
DTSTART;TZID=America/Halifax:20250507T163000
DTEND;TZID=America/Halifax:20250507T180000
DTSTAMP:20260420T050330
CREATED:20250506T131355Z
LAST-MODIFIED:20250506T131356Z
UID:10000792-1746635400-1746640800@hanwell.nbed.ca
SUMMARY:Girls Volleyball (Black) Practice
DESCRIPTION:
URL:https://hanwell.nbed.ca/calendar/girls-volleyball-black-practice-11/
CATEGORIES:Athletics
END:VEVENT
BEGIN:VEVENT
DTSTART;TZID=America/Halifax:20250506T180000
DTEND;TZID=America/Halifax:20250506T193000
DTSTAMP:20260420T050330
CREATED:20250401T130646Z
LAST-MODIFIED:20250401T130648Z
UID:10000740-1746554400-1746559800@hanwell.nbed.ca
SUMMARY:Girls Volleyball (Green) Match at ELE
DESCRIPTION:
URL:https://hanwell.nbed.ca/calendar/girls-volleyball-green-match-at-ele-2/
CATEGORIES:Athletics
END:VEVENT
BEGIN:VEVENT
DTSTART;TZID=America/Halifax:20250506T170000
DTEND;TZID=America/Halifax:20250506T183000
DTSTAMP:20260420T050330
CREATED:20250401T130725Z
LAST-MODIFIED:20250401T130727Z
UID:10000741-1746550800-1746556200@hanwell.nbed.ca
SUMMARY:Boys Volleyball Match vs George St. at HPA
DESCRIPTION:
URL:https://hanwell.nbed.ca/calendar/boys-volleyball-match-vs-george-st-at-hpa-2/
CATEGORIES:Athletics
END:VEVENT
BEGIN:VEVENT
DTSTART;TZID=America/Halifax:20250506T160000
DTEND;TZID=America/Halifax:20250506T174500
DTSTAMP:20260420T050330
CREATED:20250429T162922Z
LAST-MODIFIED:20250429T162924Z
UID:10000783-1746547200-1746553500@hanwell.nbed.ca
SUMMARY:Girls Volleyball (Black) Practice
DESCRIPTION:
URL:https://hanwell.nbed.ca/calendar/girls-volleyball-black-practice-10/
CATEGORIES:Athletics
END:VEVENT
BEGIN:VEVENT
DTSTART;TZID=America/Halifax:20250506T080000
DTEND;TZID=America/Halifax:20250506T110000
DTSTAMP:20260420T050330
CREATED:20250409T010603Z
LAST-MODIFIED:20250409T010604Z
UID:10000758-1746518400-1746529200@hanwell.nbed.ca
SUMMARY:Grade Grade 5 FI and Grade 7 FI/PIF Provincial Reading Assessments
DESCRIPTION:
URL:https://hanwell.nbed.ca/calendar/grade-grade-5-fi-and-grade-7-fi-pif-provincial-reading-assessments/
END:VEVENT
BEGIN:VEVENT
DTSTART;TZID=America/Halifax:20250505T170000
DTEND;TZID=America/Halifax:20250505T183000
DTSTAMP:20260420T050330
CREATED:20250429T162317Z
LAST-MODIFIED:20250429T162318Z
UID:10000781-1746464400-1746469800@hanwell.nbed.ca
SUMMARY:Basketball Skills and Drills
DESCRIPTION:
URL:https://hanwell.nbed.ca/calendar/basketball-skills-and-drills-7/
CATEGORIES:Athletics
END:VEVENT
BEGIN:VEVENT
DTSTART;TZID=America/Halifax:20250505T143000
DTEND;TZID=America/Halifax:20250505T160000
DTSTAMP:20260420T050330
CREATED:20250429T162744Z
LAST-MODIFIED:20250429T162746Z
UID:10000782-1746455400-1746460800@hanwell.nbed.ca
SUMMARY:Boys Volleyball Practice
DESCRIPTION:
URL:https://hanwell.nbed.ca/calendar/boys-volleyball-practice-24/
CATEGORIES:Athletics
END:VEVENT
BEGIN:VEVENT
DTSTART;TZID=America/Halifax:20250502T080000
DTEND;TZID=America/Halifax:20250502T141500
DTSTAMP:20260420T050330
CREATED:20250409T010708Z
LAST-MODIFIED:20250409T010709Z
UID:10000759-1746172800-1746195300@hanwell.nbed.ca
SUMMARY:Subject Council/No School for Students
DESCRIPTION:
URL:https://hanwell.nbed.ca/calendar/subject-council-no-school-for-students/
END:VEVENT
BEGIN:VEVENT
DTSTART;TZID=America/Halifax:20250501T163000
DTEND;TZID=America/Halifax:20250501T180000
DTSTAMP:20260420T050330
CREATED:20250501T153811Z
LAST-MODIFIED:20250501T153915Z
UID:10000784-1746117000-1746122400@hanwell.nbed.ca
SUMMARY:Girls Volleyball (Green) Practice
DESCRIPTION:
URL:https://hanwell.nbed.ca/calendar/girls-volleyball-green-practice-8/
END:VEVENT
BEGIN:VEVENT
DTSTART;TZID=America/Halifax:20250501T160000
DTEND;TZID=America/Halifax:20250501T173000
DTSTAMP:20260420T050330
CREATED:20250410T194311Z
LAST-MODIFIED:20250410T194314Z
UID:10000767-1746115200-1746120600@hanwell.nbed.ca
SUMMARY:Boys Volleyball Practice
DESCRIPTION:
URL:https://hanwell.nbed.ca/calendar/boys-volleyball-practice-23/2025-05-01/
CATEGORIES:Athletics
END:VEVENT
BEGIN:VEVENT
DTSTART;TZID=America/Halifax:20250430T190000
DTEND;TZID=America/Halifax:20250430T203000
DTSTAMP:20260420T050330
CREATED:20250323T180853Z
LAST-MODIFIED:20250323T180854Z
UID:10000719-1746039600-1746045000@hanwell.nbed.ca
SUMMARY:Girls Volleyball (Black) Match at George St.
DESCRIPTION:
URL:https://hanwell.nbed.ca/calendar/girls-volleyball-black-match-at-george-st/
CATEGORIES:Athletics
END:VEVENT
BEGIN:VEVENT
DTSTART;TZID=America/Halifax:20250430T180000
DTEND;TZID=America/Halifax:20250430T190000
DTSTAMP:20260420T050330
CREATED:20250409T005824Z
LAST-MODIFIED:20250409T011344Z
UID:10000754-1746036000-1746039600@hanwell.nbed.ca
SUMMARY:PSSC Meeting
DESCRIPTION:Meeting takes place at the school in Meeting Room #1.
URL:https://hanwell.nbed.ca/calendar/pssc-meeting-2/
END:VEVENT
BEGIN:VEVENT
DTSTART;TZID=America/Halifax:20250429T183000
DTEND;TZID=America/Halifax:20250429T200000
DTSTAMP:20260420T050330
CREATED:20250323T180239Z
LAST-MODIFIED:20250323T180241Z
UID:10000713-1745951400-1745956800@hanwell.nbed.ca
SUMMARY:Girls Volleyball (Green) Match at Harvey
DESCRIPTION:
URL:https://hanwell.nbed.ca/calendar/girls-volleyball-green-match-at-harvey/
CATEGORIES:Athletics
END:VEVENT
BEGIN:VEVENT
DTSTART;TZID=America/Halifax:20250429T160000
DTEND;TZID=America/Halifax:20250429T174500
DTSTAMP:20260420T050330
CREATED:20250425T111646Z
LAST-MODIFIED:20250425T111648Z
UID:10000780-1745942400-1745948700@hanwell.nbed.ca
SUMMARY:Girls Volleyball (Black) Practice
DESCRIPTION:
URL:https://hanwell.nbed.ca/calendar/girls-volleyball-black-practice-9/
CATEGORIES:Athletics
END:VEVENT
BEGIN:VEVENT
DTSTART;TZID=America/Halifax:20250428T170000
DTEND;TZID=America/Halifax:20250428T183000
DTSTAMP:20260420T050330
CREATED:20250425T111451Z
LAST-MODIFIED:20250425T111453Z
UID:10000779-1745859600-1745865000@hanwell.nbed.ca
SUMMARY:Basketball Skills and Drills
DESCRIPTION:
URL:https://hanwell.nbed.ca/calendar/basketball-skills-and-drills-6/
CATEGORIES:Athletics
END:VEVENT
BEGIN:VEVENT
DTSTART;TZID=America/Halifax:20250428T170000
DTEND;TZID=America/Halifax:20250428T183000
DTSTAMP:20260420T050330
CREATED:20250323T181443Z
LAST-MODIFIED:20250323T181445Z
UID:10000725-1745859600-1745865000@hanwell.nbed.ca
SUMMARY:Boys Volleyball Match vs FCA at HPA
DESCRIPTION:
URL:https://hanwell.nbed.ca/calendar/boys-volleyball-match-vs-fca-at-hpa/
CATEGORIES:Athletics
END:VEVENT
BEGIN:VEVENT
DTSTART;TZID=America/Halifax:20250428T103000
DTEND;TZID=America/Halifax:20250430T120000
DTSTAMP:20260420T050330
CREATED:20250409T010509Z
LAST-MODIFIED:20250409T010510Z
UID:10000757-1745836200-1746014400@hanwell.nbed.ca
SUMMARY:Music Festival
DESCRIPTION:Please see the specific times in the School Messenger memos sent home.
URL:https://hanwell.nbed.ca/calendar/music-festival/
END:VEVENT
BEGIN:VEVENT
DTSTART;TZID=America/Halifax:20250428T080000
DTEND;TZID=America/Halifax:20250428T110000
DTSTAMP:20260420T050330
CREATED:20250409T010334Z
LAST-MODIFIED:20250409T010335Z
UID:10000756-1745827200-1745838000@hanwell.nbed.ca
SUMMARY:Grade 4 & Grade 6 English Reading Provincial Assessment
DESCRIPTION:
URL:https://hanwell.nbed.ca/calendar/grade-4-grade-6-english-reading-provincial-assessment/
END:VEVENT
BEGIN:VEVENT
DTSTART;TZID=America/Halifax:20250425T180000
DTEND;TZID=America/Halifax:20250425T200000
DTSTAMP:20260420T050330
CREATED:20250409T011246Z
LAST-MODIFIED:20250409T011247Z
UID:10000765-1745604000-1745611200@hanwell.nbed.ca
SUMMARY:Sensory Friendly Play Group
DESCRIPTION:
URL:https://hanwell.nbed.ca/calendar/sensory-friendly-play-group/
END:VEVENT
BEGIN:VEVENT
DTSTART;TZID=America/Halifax:20250425T080000
DTEND;TZID=America/Halifax:20250427T170000
DTSTAMP:20260420T050330
CREATED:20250414T145517Z
LAST-MODIFIED:20250414T145518Z
UID:10000771-1745568000-1745773200@hanwell.nbed.ca
SUMMARY:STU Middle School Cup Volleyball Tournament
DESCRIPTION:Schedule to be determined
URL:https://hanwell.nbed.ca/calendar/stu-middle-school-cup-volleyball-tournament/
CATEGORIES:Athletics
END:VEVENT
BEGIN:VEVENT
DTSTART;TZID=America/Halifax:20250424T170000
DTEND;TZID=America/Halifax:20250424T183000
DTSTAMP:20260420T050330
CREATED:20250409T005247Z
LAST-MODIFIED:20250409T005249Z
UID:10000748-1745514000-1745519400@hanwell.nbed.ca
SUMMARY:Grades 3-5 and 6-8 School Dance
DESCRIPTION:Grade 3-5 have their dance from 5:00-6:30 PM and Grade 6-8 has their dance from 7:00-8:30 PM
URL:https://hanwell.nbed.ca/calendar/grades-3-5-and-6-8-school-dance/
END:VEVENT
BEGIN:VEVENT
DTSTART;TZID=America/Halifax:20250424T160000
DTEND;TZID=America/Halifax:20250424T173000
DTSTAMP:20260420T050330
CREATED:20250410T194311Z
LAST-MODIFIED:20250410T194314Z
UID:10000766-1745510400-1745515800@hanwell.nbed.ca
SUMMARY:Boys Volleyball Practice
DESCRIPTION:
URL:https://hanwell.nbed.ca/calendar/boys-volleyball-practice-23/2025-04-24/
CATEGORIES:Athletics
END:VEVENT
BEGIN:VEVENT
DTSTART;TZID=America/Halifax:20250424T153000
DTEND;TZID=America/Halifax:20250424T170000
DTSTAMP:20260420T050330
CREATED:20250323T180750Z
LAST-MODIFIED:20250401T130318Z
UID:10000718-1745508600-1745514000@hanwell.nbed.ca
SUMMARY:Girls Volleyball (Black) Match at Harvey
DESCRIPTION:
URL:https://hanwell.nbed.ca/calendar/girls-volleyball-black-match-at-harvey/
CATEGORIES:Athletics
END:VEVENT
BEGIN:VEVENT
DTSTART;TZID=America/Halifax:20250424T143000
DTEND;TZID=America/Halifax:20250424T160000
DTSTAMP:20260420T050330
CREATED:20250416T142844Z
LAST-MODIFIED:20250416T142846Z
UID:10000774-1745505000-1745510400@hanwell.nbed.ca
SUMMARY:Girls Volleyball (Green) Practice
DESCRIPTION:
URL:https://hanwell.nbed.ca/calendar/girls-volleyball-green-practice-7/
CATEGORIES:Athletics
END:VEVENT
BEGIN:VEVENT
DTSTART;TZID=America/Halifax:20250423T190000
DTEND;TZID=America/Halifax:20250423T203000
DTSTAMP:20260420T050330
CREATED:20250323T181340Z
LAST-MODIFIED:20250323T181342Z
UID:10000724-1745434800-1745440200@hanwell.nbed.ca
SUMMARY:Boys Volleyball Match at George St
DESCRIPTION:
URL:https://hanwell.nbed.ca/calendar/boys-volleyball-match-at-george-st/
CATEGORIES:Athletics
END:VEVENT
END:VCALENDAR