BEGIN:VCALENDAR
VERSION:2.0
PRODID:-//Hanwell Park Academy - ECPv6.15.20//NONSGML v1.0//EN
CALSCALE:GREGORIAN
METHOD:PUBLISH
X-WR-CALNAME:Hanwell Park Academy
X-ORIGINAL-URL:https://hanwell.nbed.ca
X-WR-CALDESC:Events for Hanwell Park Academy
REFRESH-INTERVAL;VALUE=DURATION:PT1H
X-Robots-Tag:noindex
X-PUBLISHED-TTL:PT1H
BEGIN:VTIMEZONE
TZID:America/Halifax
BEGIN:DAYLIGHT
TZOFFSETFROM:-0400
TZOFFSETTO:-0300
TZNAME:ADT
DTSTART:20230312T060000
END:DAYLIGHT
BEGIN:STANDARD
TZOFFSETFROM:-0300
TZOFFSETTO:-0400
TZNAME:AST
DTSTART:20231105T050000
END:STANDARD
BEGIN:DAYLIGHT
TZOFFSETFROM:-0400
TZOFFSETTO:-0300
TZNAME:ADT
DTSTART:20240310T060000
END:DAYLIGHT
BEGIN:STANDARD
TZOFFSETFROM:-0300
TZOFFSETTO:-0400
TZNAME:AST
DTSTART:20241103T050000
END:STANDARD
BEGIN:DAYLIGHT
TZOFFSETFROM:-0400
TZOFFSETTO:-0300
TZNAME:ADT
DTSTART:20250309T060000
END:DAYLIGHT
BEGIN:STANDARD
TZOFFSETFROM:-0300
TZOFFSETTO:-0400
TZNAME:AST
DTSTART:20251102T050000
END:STANDARD
END:VTIMEZONE
BEGIN:VEVENT
DTSTART;TZID=America/Halifax:20241017T143000
DTEND;TZID=America/Halifax:20241017T161500
DTSTAMP:20260420T230315
CREATED:20241007T153827Z
LAST-MODIFIED:20241007T153829Z
UID:10000552-1729175400-1729181700@hanwell.nbed.ca
SUMMARY:Girls Basketball Skills and Drills
DESCRIPTION:
URL:https://hanwell.nbed.ca/calendar/girls-basketball-skills-and-drills/2024-10-17/
CATEGORIES:Athletics
END:VEVENT
BEGIN:VEVENT
DTSTART;TZID=America/Halifax:20241017T163000
DTEND;TZID=America/Halifax:20241017T180000
DTSTAMP:20260420T230315
CREATED:20241010T165426Z
LAST-MODIFIED:20241016T102416Z
UID:10000554-1729182600-1729188000@hanwell.nbed.ca
SUMMARY:Boys Soccer District Finals at FCA (Devon Park)
DESCRIPTION:At Devon Park Church Field – HPA will play if they win their game on Tuesday Oct 15.
URL:https://hanwell.nbed.ca/calendar/boys-soccer-district-finals-if-necessary/
CATEGORIES:Athletics
END:VEVENT
BEGIN:VEVENT
DTSTART;TZID=America/Halifax:20241018T142000
DTEND;TZID=America/Halifax:20241018T161000
DTSTAMP:20260420T230315
CREATED:20241017T104111Z
LAST-MODIFIED:20241017T104112Z
UID:10000557-1729261200-1729267800@hanwell.nbed.ca
SUMMARY:Middle Level Boys Basketball Tryouts
DESCRIPTION:
URL:https://hanwell.nbed.ca/calendar/middle-level-boys-basketball-tryouts/
CATEGORIES:Athletics
END:VEVENT
BEGIN:VEVENT
DTSTART;TZID=America/Halifax:20241018T163000
DTEND;TZID=America/Halifax:20241018T180000
DTSTAMP:20260420T230315
CREATED:20241014T120249Z
LAST-MODIFIED:20241018T121152Z
UID:10000556-1729269000-1729274400@hanwell.nbed.ca
SUMMARY:CHANGE OF LOCATION-Girls Soccer District Final at Nasis Middle School (lower field)
DESCRIPTION:
URL:https://hanwell.nbed.ca/calendar/girls-soccer-district-final-if-necessary-at-nackawic/
CATEGORIES:Athletics
END:VEVENT
BEGIN:VEVENT
DTSTART;TZID=America/Halifax:20241022T142000
DTEND;TZID=America/Halifax:20241022T160000
DTSTAMP:20260420T230315
CREATED:20241020T210014Z
LAST-MODIFIED:20241020T210015Z
UID:10000560-1729606800-1729612800@hanwell.nbed.ca
SUMMARY:Boys Basketball Tryout 2
DESCRIPTION:
URL:https://hanwell.nbed.ca/calendar/boys-basketball-tryout-2-2/
CATEGORIES:Athletics
END:VEVENT
BEGIN:VEVENT
DTSTART;TZID=America/Halifax:20241022T143000
DTEND;TZID=America/Halifax:20241022T161500
DTSTAMP:20260420T230315
CREATED:20241017T205953Z
LAST-MODIFIED:20241017T205954Z
UID:10000558-1729607400-1729613700@hanwell.nbed.ca
SUMMARY:Middle Level Girls Basketball Tryout
DESCRIPTION:
URL:https://hanwell.nbed.ca/calendar/middle-level-girls-basketball-tryout/
CATEGORIES:Athletics
END:VEVENT
BEGIN:VEVENT
DTSTART;TZID=America/Halifax:20241023T143000
DTEND;TZID=America/Halifax:20241023T160000
DTSTAMP:20260420T230315
CREATED:20240919T193553Z
LAST-MODIFIED:20240924T105249Z
UID:10000535-1729693800-1729699200@hanwell.nbed.ca
SUMMARY:Girls Volleyball Skills and Drills (Middle Level)
DESCRIPTION:
URL:https://hanwell.nbed.ca/calendar/girls-volleyball-skills-and-drills-middle-level/2024-10-23/
CATEGORIES:Athletics
END:VEVENT
BEGIN:VEVENT
DTSTART;TZID=America/Halifax:20241024T143000
DTEND;TZID=America/Halifax:20241024T161500
DTSTAMP:20260420T230315
CREATED:20241023T103845Z
LAST-MODIFIED:20241023T103847Z
UID:10000559-1729780200-1729786500@hanwell.nbed.ca
SUMMARY:Postponed - Middle Level Girls Basketball Tryout
DESCRIPTION:To be rescheduled for next week
URL:https://hanwell.nbed.ca/calendar/middle-level-girls-basketball-tryout-2/
CATEGORIES:Athletics
END:VEVENT
BEGIN:VEVENT
DTSTART;TZID=America/Halifax:20241025T143000
DTEND;TZID=America/Halifax:20241025T160000
DTSTAMP:20260420T230315
CREATED:20241024T103458Z
LAST-MODIFIED:20241024T103459Z
UID:10000562-1729866600-1729872000@hanwell.nbed.ca
SUMMARY:Girls Basketball Tryout 2
DESCRIPTION:
URL:https://hanwell.nbed.ca/calendar/girls-basketball-tryout-2/
CATEGORIES:Athletics
END:VEVENT
BEGIN:VEVENT
DTSTART;TZID=America/Halifax:20241029T170000
DTEND;TZID=America/Halifax:20241029T183000
DTSTAMP:20260420T230315
CREATED:20241023T103932Z
LAST-MODIFIED:20241023T103934Z
UID:10000561-1730221200-1730226600@hanwell.nbed.ca
SUMMARY:Boys Basketball Final Tryout
DESCRIPTION:
URL:https://hanwell.nbed.ca/calendar/boys-basketball-final-tryout/
CATEGORIES:Athletics
END:VEVENT
BEGIN:VEVENT
DTSTART;TZID=America/Halifax:20241029T170000
DTEND;TZID=America/Halifax:20241029T183000
DTSTAMP:20260420T230315
CREATED:20241028T103318Z
LAST-MODIFIED:20241028T103319Z
UID:10000563-1730221200-1730226600@hanwell.nbed.ca
SUMMARY:Girls Basketball Tryout 3 (Gym 2)
DESCRIPTION:Invite Only – Check if your name is on the list by the Gym 2 entrance
URL:https://hanwell.nbed.ca/calendar/girls-basketball-tryout-3-gym-2/
CATEGORIES:Athletics
END:VEVENT
BEGIN:VEVENT
DTSTART;TZID=America/Halifax:20241030T143000
DTEND;TZID=America/Halifax:20241030T160000
DTSTAMP:20260420T230315
CREATED:20240919T193553Z
LAST-MODIFIED:20240924T105249Z
UID:10000536-1730298600-1730304000@hanwell.nbed.ca
SUMMARY:Girls Volleyball Skills and Drills (Middle Level)
DESCRIPTION:
URL:https://hanwell.nbed.ca/calendar/girls-volleyball-skills-and-drills-middle-level/2024-10-30/
CATEGORIES:Athletics
END:VEVENT
BEGIN:VEVENT
DTSTART;TZID=America/Halifax:20241101T143000
DTEND;TZID=America/Halifax:20241101T160000
DTSTAMP:20260420T230315
CREATED:20241029T110511Z
LAST-MODIFIED:20241029T110513Z
UID:10000564-1730471400-1730476800@hanwell.nbed.ca
SUMMARY:Boys Basketball Practice (Black Team)
DESCRIPTION:
URL:https://hanwell.nbed.ca/calendar/boys-basketball-practice-black-team/
CATEGORIES:Athletics
END:VEVENT
BEGIN:VEVENT
DTSTART;TZID=America/Halifax:20241101T143000
DTEND;TZID=America/Halifax:20241101T161500
DTSTAMP:20260420T230315
CREATED:20241030T131855Z
LAST-MODIFIED:20241030T131857Z
UID:10000565-1730471400-1730477700@hanwell.nbed.ca
SUMMARY:Girls Basketball Practice
DESCRIPTION:
URL:https://hanwell.nbed.ca/calendar/girls-basketball-practice-37/
CATEGORIES:Athletics
END:VEVENT
BEGIN:VEVENT
DTSTART;TZID=America/Halifax:20241101T163000
DTEND;TZID=America/Halifax:20241101T180000
DTSTAMP:20260420T230315
CREATED:20241030T165127Z
LAST-MODIFIED:20241030T165129Z
UID:10000585-1730478600-1730484000@hanwell.nbed.ca
SUMMARY:Boys Basketball (Green) Practice
DESCRIPTION:
URL:https://hanwell.nbed.ca/calendar/boys-basketball-green-practice/
CATEGORIES:Athletics
END:VEVENT
BEGIN:VEVENT
DTSTART;TZID=America/Halifax:20241104T170000
DTEND;TZID=America/Halifax:20241104T183000
DTSTAMP:20260420T230315
CREATED:20241030T160252Z
LAST-MODIFIED:20241030T160253Z
UID:10000567-1730739600-1730745000@hanwell.nbed.ca
SUMMARY:Boys Basketball (Black) Vs. Harvey at HPA
DESCRIPTION:
URL:https://hanwell.nbed.ca/calendar/boys-basketball-black-vs-harvey-at-hpa/
CATEGORIES:Athletics
END:VEVENT
BEGIN:VEVENT
DTSTART;TZID=America/Halifax:20241105T143000
DTEND;TZID=America/Halifax:20241105T161500
DTSTAMP:20260420T230315
CREATED:20241101T170955Z
LAST-MODIFIED:20241101T170956Z
UID:10000587-1730817000-1730823300@hanwell.nbed.ca
SUMMARY:Girls Basketball Practice
DESCRIPTION:
URL:https://hanwell.nbed.ca/calendar/girls-basketball-practice-39/
CATEGORIES:Athletics
END:VEVENT
BEGIN:VEVENT
DTSTART;TZID=America/Halifax:20241105T170000
DTEND;TZID=America/Halifax:20241105T183000
DTSTAMP:20260420T230315
CREATED:20241104T173646Z
LAST-MODIFIED:20241104T173648Z
UID:10000588-1730826000-1730831400@hanwell.nbed.ca
SUMMARY:Boys Basketball Black Practice
DESCRIPTION:
URL:https://hanwell.nbed.ca/calendar/boys-basketball-black-practice/2024-11-05/
CATEGORIES:Athletics
END:VEVENT
BEGIN:VEVENT
DTSTART;TZID=America/Halifax:20241105T183000
DTEND;TZID=America/Halifax:20241105T200000
DTSTAMP:20260420T230315
CREATED:20241030T162502Z
LAST-MODIFIED:20241030T162505Z
UID:10000573-1730831400-1730836800@hanwell.nbed.ca
SUMMARY:Boys Basketball (Green) Vs. Stanley at HPA
DESCRIPTION:
URL:https://hanwell.nbed.ca/calendar/boys-basketball-green-vs-stanley-at-hpa/
CATEGORIES:Athletics
END:VEVENT
BEGIN:VEVENT
DTSTART;TZID=America/Halifax:20241106T143000
DTEND;TZID=America/Halifax:20241106T160000
DTSTAMP:20260420T230315
CREATED:20240919T193553Z
LAST-MODIFIED:20240924T105249Z
UID:10000537-1730903400-1730908800@hanwell.nbed.ca
SUMMARY:Girls Volleyball Skills and Drills (Middle Level)
DESCRIPTION:
URL:https://hanwell.nbed.ca/calendar/girls-volleyball-skills-and-drills-middle-level/2024-11-06/
CATEGORIES:Athletics
END:VEVENT
BEGIN:VEVENT
DTSTART;TZID=America/Halifax:20241107T143000
DTEND;TZID=America/Halifax:20241107T161500
DTSTAMP:20260420T230315
CREATED:20241030T132023Z
LAST-MODIFIED:20241030T132025Z
UID:10000566-1730989800-1730996100@hanwell.nbed.ca
SUMMARY:Girls Basketball Practice
DESCRIPTION:
URL:https://hanwell.nbed.ca/calendar/girls-basketball-practice-38/
CATEGORIES:Athletics
END:VEVENT
BEGIN:VEVENT
DTSTART;TZID=America/Halifax:20241107T163000
DTEND;TZID=America/Halifax:20241107T180000
DTSTAMP:20260420T230315
CREATED:20241030T165233Z
LAST-MODIFIED:20241030T165234Z
UID:10000586-1730997000-1731002400@hanwell.nbed.ca
SUMMARY:Boys Basketball (Green) Practice
DESCRIPTION:
URL:https://hanwell.nbed.ca/calendar/boys-basketball-green-practice-2/
CATEGORIES:Athletics
END:VEVENT
BEGIN:VEVENT
DTSTART;TZID=America/Halifax:20241107T170000
DTEND;TZID=America/Halifax:20241107T183000
DTSTAMP:20260420T230315
CREATED:20241104T173646Z
LAST-MODIFIED:20241104T173648Z
UID:10000589-1730998800-1731004200@hanwell.nbed.ca
SUMMARY:Boys Basketball Black Practice
DESCRIPTION:
URL:https://hanwell.nbed.ca/calendar/boys-basketball-black-practice/2024-11-07/
CATEGORIES:Athletics
END:VEVENT
BEGIN:VEVENT
DTSTART;TZID=America/Halifax:20241112T163000
DTEND;TZID=America/Halifax:20241112T180000
DTSTAMP:20260420T230315
CREATED:20241030T162644Z
LAST-MODIFIED:20241030T162646Z
UID:10000574-1731429000-1731434400@hanwell.nbed.ca
SUMMARY:Boys Basketball (Green) at Ecole Les Eclaireur
DESCRIPTION:
URL:https://hanwell.nbed.ca/calendar/boys-basketball-green-at-ecole-les-eclaireur/
CATEGORIES:Athletics
END:VEVENT
BEGIN:VEVENT
DTSTART;TZID=America/Halifax:20241112T170000
DTEND;TZID=America/Halifax:20241112T183000
DTSTAMP:20260420T230315
CREATED:20241104T173646Z
LAST-MODIFIED:20241104T173648Z
UID:10000590-1731430800-1731436200@hanwell.nbed.ca
SUMMARY:Boys Basketball Black Practice
DESCRIPTION:
URL:https://hanwell.nbed.ca/calendar/boys-basketball-black-practice/2024-11-12/
CATEGORIES:Athletics
END:VEVENT
BEGIN:VEVENT
DTSTART;TZID=America/Halifax:20241113T143000
DTEND;TZID=America/Halifax:20241113T160000
DTSTAMP:20260420T230315
CREATED:20240919T193553Z
LAST-MODIFIED:20240924T105249Z
UID:10000538-1731508200-1731513600@hanwell.nbed.ca
SUMMARY:Girls Volleyball Skills and Drills (Middle Level)
DESCRIPTION:
URL:https://hanwell.nbed.ca/calendar/girls-volleyball-skills-and-drills-middle-level/2024-11-13/
CATEGORIES:Athletics
END:VEVENT
BEGIN:VEVENT
DTSTART;TZID=America/Halifax:20241113T170000
DTEND;TZID=America/Halifax:20241113T183000
DTSTAMP:20260420T230315
CREATED:20241104T173646Z
LAST-MODIFIED:20241104T173648Z
UID:10000591-1731517200-1731522600@hanwell.nbed.ca
SUMMARY:Boys Basketball Black Practice
DESCRIPTION:
URL:https://hanwell.nbed.ca/calendar/boys-basketball-black-practice/2024-11-13/
CATEGORIES:Athletics
END:VEVENT
BEGIN:VEVENT
DTSTART;TZID=America/Halifax:20241114T143000
DTEND;TZID=America/Halifax:20241114T161500
DTSTAMP:20260420T230315
CREATED:20241107T163334Z
LAST-MODIFIED:20241107T163334Z
UID:10000599-1731594600-1731600900@hanwell.nbed.ca
SUMMARY:Girls Basketball Practice
DESCRIPTION:
URL:https://hanwell.nbed.ca/calendar/girls-basketball-practice-40/
CATEGORIES:Athletics
END:VEVENT
BEGIN:VEVENT
DTSTART;TZID=America/Halifax:20241114T163000
DTEND;TZID=America/Halifax:20241114T180000
DTSTAMP:20260420T230315
CREATED:20241108T114344Z
LAST-MODIFIED:20241108T114346Z
UID:10000600-1731601800-1731607200@hanwell.nbed.ca
SUMMARY:Boys Basketball (Green) Practice
DESCRIPTION:
URL:https://hanwell.nbed.ca/calendar/boys-basketball-green-practice-3/
CATEGORIES:Athletics
END:VEVENT
BEGIN:VEVENT
DTSTART;TZID=America/Halifax:20241114T170000
DTEND;TZID=America/Halifax:20241114T183000
DTSTAMP:20260420T230315
CREATED:20241030T160433Z
LAST-MODIFIED:20241030T160435Z
UID:10000568-1731603600-1731609000@hanwell.nbed.ca
SUMMARY:Boys Basketball (Black) at FCA - Unity Centre
DESCRIPTION:241 Canada St. Fredericton
URL:https://hanwell.nbed.ca/calendar/boys-basketball-black-at-fca-unity-centre/
CATEGORIES:Athletics
END:VEVENT
END:VCALENDAR