BEGIN:VCALENDAR
VERSION:2.0
PRODID:-//Hanwell Park Academy - ECPv6.15.20//NONSGML v1.0//EN
CALSCALE:GREGORIAN
METHOD:PUBLISH
X-WR-CALNAME:Hanwell Park Academy
X-ORIGINAL-URL:https://hanwell.nbed.ca
X-WR-CALDESC:Events for Hanwell Park Academy
REFRESH-INTERVAL;VALUE=DURATION:PT1H
X-Robots-Tag:noindex
X-PUBLISHED-TTL:PT1H
BEGIN:VTIMEZONE
TZID:America/Halifax
BEGIN:DAYLIGHT
TZOFFSETFROM:-0400
TZOFFSETTO:-0300
TZNAME:ADT
DTSTART:20220313T060000
END:DAYLIGHT
BEGIN:STANDARD
TZOFFSETFROM:-0300
TZOFFSETTO:-0400
TZNAME:AST
DTSTART:20221106T050000
END:STANDARD
BEGIN:DAYLIGHT
TZOFFSETFROM:-0400
TZOFFSETTO:-0300
TZNAME:ADT
DTSTART:20230312T060000
END:DAYLIGHT
BEGIN:STANDARD
TZOFFSETFROM:-0300
TZOFFSETTO:-0400
TZNAME:AST
DTSTART:20231105T050000
END:STANDARD
BEGIN:DAYLIGHT
TZOFFSETFROM:-0400
TZOFFSETTO:-0300
TZNAME:ADT
DTSTART:20240310T060000
END:DAYLIGHT
BEGIN:STANDARD
TZOFFSETFROM:-0300
TZOFFSETTO:-0400
TZNAME:AST
DTSTART:20241103T050000
END:STANDARD
END:VTIMEZONE
BEGIN:VEVENT
DTSTART;TZID=America/Halifax:20231218T144500
DTEND;TZID=America/Halifax:20231218T161500
DTSTAMP:20260421T125252
CREATED:20231119T191642Z
LAST-MODIFIED:20231119T191643Z
UID:10000351-1702910700-1702916100@hanwell.nbed.ca
SUMMARY:Boys Basketball Practice
DESCRIPTION:
URL:https://hanwell.nbed.ca/calendar/boys-basketball-practice-24/
CATEGORIES:Athletics
END:VEVENT
BEGIN:VEVENT
DTSTART;TZID=America/Halifax:20231214T163000
DTEND;TZID=America/Halifax:20231214T180000
DTSTAMP:20260421T125252
CREATED:20231110T154615Z
LAST-MODIFIED:20231110T154616Z
UID:10000336-1702571400-1702576800@hanwell.nbed.ca
SUMMARY:Girls Basketball Game versus Nackawic at HPA
DESCRIPTION:
URL:https://hanwell.nbed.ca/calendar/girls-basketball-game-versus-nackawic-at-hpa/
CATEGORIES:Athletics
END:VEVENT
BEGIN:VEVENT
DTSTART;TZID=America/Halifax:20231213T144500
DTEND;TZID=America/Halifax:20231213T161500
DTSTAMP:20260421T125252
CREATED:20231119T191559Z
LAST-MODIFIED:20231119T191600Z
UID:10000350-1702478700-1702484100@hanwell.nbed.ca
SUMMARY:Boys Basketball Practice
DESCRIPTION:
URL:https://hanwell.nbed.ca/calendar/boys-basketball-practice-23/
CATEGORIES:Athletics
END:VEVENT
BEGIN:VEVENT
DTSTART;TZID=America/Halifax:20231212T144500
DTEND;TZID=America/Halifax:20231212T161500
DTSTAMP:20260421T125252
CREATED:20231201T121147Z
LAST-MODIFIED:20231201T121148Z
UID:10000355-1702392300-1702397700@hanwell.nbed.ca
SUMMARY:Girls Basketball Practice
DESCRIPTION:
URL:https://hanwell.nbed.ca/calendar/girls-basketball-practice-24/
CATEGORIES:Athletics
END:VEVENT
BEGIN:VEVENT
DTSTART;TZID=America/Halifax:20231212T070000
DTEND;TZID=America/Halifax:20231212T080000
DTSTAMP:20260421T125252
CREATED:20231106T142122Z
LAST-MODIFIED:20231106T142122Z
UID:10000324-1702364400-1702368000@hanwell.nbed.ca
SUMMARY:Middle School Girls Volleyball Skills and Drills
DESCRIPTION:
URL:https://hanwell.nbed.ca/calendar/middle-school-girls-volleyball-skills-and-drills-12/
CATEGORIES:Athletics
END:VEVENT
BEGIN:VEVENT
DTSTART;TZID=America/Halifax:20231211T144500
DTEND;TZID=America/Halifax:20231211T161500
DTSTAMP:20260421T125252
CREATED:20231119T191522Z
LAST-MODIFIED:20231119T191524Z
UID:10000349-1702305900-1702311300@hanwell.nbed.ca
SUMMARY:Boys Basketball Practice
DESCRIPTION:
URL:https://hanwell.nbed.ca/calendar/boys-basketball-practice-22/
CATEGORIES:Athletics
END:VEVENT
BEGIN:VEVENT
DTSTART;TZID=America/Halifax:20231207T180000
DTEND;TZID=America/Halifax:20231207T193000
DTSTAMP:20260421T125252
CREATED:20231110T154413Z
LAST-MODIFIED:20231110T154414Z
UID:10000335-1701972000-1701977400@hanwell.nbed.ca
SUMMARY:Girls Basketball Game versus McAdam at HPA
DESCRIPTION:
URL:https://hanwell.nbed.ca/calendar/girls-basketball-game-versus-mcadam-at-hpa/
CATEGORIES:Athletics
END:VEVENT
BEGIN:VEVENT
DTSTART;TZID=America/Halifax:20231207T163000
DTEND;TZID=America/Halifax:20231207T180000
DTSTAMP:20260421T125252
CREATED:20231110T154055Z
LAST-MODIFIED:20231110T154056Z
UID:10000331-1701966600-1701972000@hanwell.nbed.ca
SUMMARY:Boys Basketball Game versus ELE at HPA
DESCRIPTION:
URL:https://hanwell.nbed.ca/calendar/boys-basketball-game-versus-ele-at-hpa/
CATEGORIES:Athletics
END:VEVENT
BEGIN:VEVENT
DTSTART;TZID=America/Halifax:20231206T144500
DTEND;TZID=America/Halifax:20231206T161500
DTSTAMP:20260421T125252
CREATED:20231119T191402Z
LAST-MODIFIED:20231119T191403Z
UID:10000348-1701873900-1701879300@hanwell.nbed.ca
SUMMARY:Boys Basketball Practice
DESCRIPTION:
URL:https://hanwell.nbed.ca/calendar/boys-basketball-practice-21/
CATEGORIES:Athletics
END:VEVENT
BEGIN:VEVENT
DTSTART;TZID=America/Halifax:20231205T144500
DTEND;TZID=America/Halifax:20231205T161500
DTSTAMP:20260421T125252
CREATED:20231201T121058Z
LAST-MODIFIED:20231201T121058Z
UID:10000354-1701787500-1701792900@hanwell.nbed.ca
SUMMARY:Girls Basketball Practice
DESCRIPTION:
URL:https://hanwell.nbed.ca/calendar/girls-basketball-practice-23/
CATEGORIES:Athletics
END:VEVENT
BEGIN:VEVENT
DTSTART;TZID=America/Halifax:20231205T070000
DTEND;TZID=America/Halifax:20231205T080000
DTSTAMP:20260421T125252
CREATED:20231106T142059Z
LAST-MODIFIED:20231106T142100Z
UID:10000323-1701759600-1701763200@hanwell.nbed.ca
SUMMARY:Middle School Girls Volleyball Skills and Drills
DESCRIPTION:
URL:https://hanwell.nbed.ca/calendar/middle-school-girls-volleyball-skills-and-drills-11/
CATEGORIES:Athletics
END:VEVENT
BEGIN:VEVENT
DTSTART;TZID=America/Halifax:20231204T144500
DTEND;TZID=America/Halifax:20231204T161500
DTSTAMP:20260421T125252
CREATED:20231119T191312Z
LAST-MODIFIED:20231119T191313Z
UID:10000347-1701701100-1701706500@hanwell.nbed.ca
SUMMARY:Boys Basketball Practice
DESCRIPTION:
URL:https://hanwell.nbed.ca/calendar/boys-basketball-practice-20/
CATEGORIES:Athletics
END:VEVENT
BEGIN:VEVENT
DTSTART;TZID=America/Halifax:20231130T170000
DTEND;TZID=America/Halifax:20231130T183000
DTSTAMP:20260421T125252
CREATED:20231110T154325Z
LAST-MODIFIED:20231110T154326Z
UID:10000334-1701363600-1701369000@hanwell.nbed.ca
SUMMARY:Girls Basketball Game at Bliss Carman
DESCRIPTION:
URL:https://hanwell.nbed.ca/calendar/girls-basketball-game-at-bliss-carman/
CATEGORIES:Athletics
END:VEVENT
BEGIN:VEVENT
DTSTART;TZID=America/Halifax:20231130T160000
DTEND;TZID=America/Halifax:20231130T173000
DTSTAMP:20260421T125252
CREATED:20231110T153959Z
LAST-MODIFIED:20231110T154000Z
UID:10000330-1701360000-1701365400@hanwell.nbed.ca
SUMMARY:Boys Basketball Game versus FCA at FCA
DESCRIPTION:At Devon Park Baptist Church 145 Clark St. Fredericton
URL:https://hanwell.nbed.ca/calendar/boys-basketball-game-versus-fca-at-fca/
CATEGORIES:Athletics
END:VEVENT
BEGIN:VEVENT
DTSTART;TZID=America/Halifax:20231129T144500
DTEND;TZID=America/Halifax:20231129T161500
DTSTAMP:20260421T125252
CREATED:20231119T191139Z
LAST-MODIFIED:20231119T191140Z
UID:10000346-1701269100-1701274500@hanwell.nbed.ca
SUMMARY:Boys Basketball Practice
DESCRIPTION:
URL:https://hanwell.nbed.ca/calendar/boys-basketball-practice-19/
CATEGORIES:Athletics
END:VEVENT
BEGIN:VEVENT
DTSTART;TZID=America/Halifax:20231128T144500
DTEND;TZID=America/Halifax:20231128T161500
DTSTAMP:20260421T125252
CREATED:20231125T161052Z
LAST-MODIFIED:20231125T161137Z
UID:10000353-1701182700-1701188100@hanwell.nbed.ca
SUMMARY:Girls Basketball Practice
DESCRIPTION:
URL:https://hanwell.nbed.ca/calendar/girls-basketball-practice-22/
CATEGORIES:Athletics
END:VEVENT
BEGIN:VEVENT
DTSTART;TZID=America/Halifax:20231128T070000
DTEND;TZID=America/Halifax:20231128T080000
DTSTAMP:20260421T125252
CREATED:20231106T142036Z
LAST-MODIFIED:20231106T142037Z
UID:10000322-1701154800-1701158400@hanwell.nbed.ca
SUMMARY:Middle School Girls Volleyball Skills and Drills
DESCRIPTION:
URL:https://hanwell.nbed.ca/calendar/middle-school-girls-volleyball-skills-and-drills-10/
CATEGORIES:Athletics
END:VEVENT
BEGIN:VEVENT
DTSTART;TZID=America/Halifax:20231127T144500
DTEND;TZID=America/Halifax:20231127T161500
DTSTAMP:20260421T125252
CREATED:20231119T191058Z
LAST-MODIFIED:20231119T191059Z
UID:10000345-1701096300-1701101700@hanwell.nbed.ca
SUMMARY:Boys Basketball Practice
DESCRIPTION:
URL:https://hanwell.nbed.ca/calendar/boys-basketball-practice-18/
CATEGORIES:Athletics
END:VEVENT
BEGIN:VEVENT
DTSTART;TZID=America/Halifax:20231123T163000
DTEND;TZID=America/Halifax:20231123T180000
DTSTAMP:20260421T125252
CREATED:20231110T153800Z
LAST-MODIFIED:20231123T170754Z
UID:10000329-1700757000-1700762400@hanwell.nbed.ca
SUMMARY:Cancelled Boys Basketball Game versus Stanley at HPA
DESCRIPTION:Cancelled due to power outage
URL:https://hanwell.nbed.ca/calendar/boys-basketball-game-versus-stanley-at-hpa/
CATEGORIES:Athletics
END:VEVENT
BEGIN:VEVENT
DTSTART;TZID=America/Halifax:20231123T144500
DTEND;TZID=America/Halifax:20231123T160000
DTSTAMP:20260421T125252
CREATED:20231115T112038Z
LAST-MODIFIED:20231115T112039Z
UID:10000342-1700750700-1700755200@hanwell.nbed.ca
SUMMARY:Girls Basketball Practice
DESCRIPTION:
URL:https://hanwell.nbed.ca/calendar/girls-basketball-practice-21/
CATEGORIES:Athletics
END:VEVENT
BEGIN:VEVENT
DTSTART;TZID=America/Halifax:20231122T144500
DTEND;TZID=America/Halifax:20231122T161500
DTSTAMP:20260421T125252
CREATED:20231119T191017Z
LAST-MODIFIED:20231122T162125Z
UID:10000344-1700664300-1700669700@hanwell.nbed.ca
SUMMARY:Cancelled: Boys Basketball Practice
DESCRIPTION:Cancelled due to the weather.
URL:https://hanwell.nbed.ca/calendar/boys-basketball-practice-17/
CATEGORIES:Athletics
END:VEVENT
BEGIN:VEVENT
DTSTART;TZID=America/Halifax:20231121T144500
DTEND;TZID=America/Halifax:20231121T161500
DTSTAMP:20260421T125252
CREATED:20231119T190929Z
LAST-MODIFIED:20231119T190930Z
UID:10000343-1700577900-1700583300@hanwell.nbed.ca
SUMMARY:Boys Basketball Practice
DESCRIPTION:Gym 1  – Elementary Gym
URL:https://hanwell.nbed.ca/calendar/boys-basketball-practice-16/
CATEGORIES:Athletics
END:VEVENT
BEGIN:VEVENT
DTSTART;TZID=America/Halifax:20231121T144500
DTEND;TZID=America/Halifax:20231121T161500
DTSTAMP:20260421T125252
CREATED:20231114T184147Z
LAST-MODIFIED:20231114T184147Z
UID:10000341-1700577900-1700583300@hanwell.nbed.ca
SUMMARY:Girls Basketball Practice
DESCRIPTION:
URL:https://hanwell.nbed.ca/calendar/girls-basketball-practice-20/
CATEGORIES:Athletics
END:VEVENT
BEGIN:VEVENT
DTSTART;TZID=America/Halifax:20231121T070000
DTEND;TZID=America/Halifax:20231121T080000
DTSTAMP:20260421T125252
CREATED:20231106T142015Z
LAST-MODIFIED:20231106T142016Z
UID:10000321-1700550000-1700553600@hanwell.nbed.ca
SUMMARY:Middle School Girls Volleyball Skills and Drills
DESCRIPTION:
URL:https://hanwell.nbed.ca/calendar/middle-school-girls-volleyball-skills-and-drills-9/
CATEGORIES:Athletics
END:VEVENT
BEGIN:VEVENT
DTSTART;TZID=America/Halifax:20231117T144500
DTEND;TZID=America/Halifax:20231117T161500
DTSTAMP:20260421T125252
CREATED:20231110T161604Z
LAST-MODIFIED:20231110T161605Z
UID:10000340-1700232300-1700237700@hanwell.nbed.ca
SUMMARY:Boys Basketball Practice
DESCRIPTION:
URL:https://hanwell.nbed.ca/calendar/boys-basketball-practice-15/
CATEGORIES:Athletics
END:VEVENT
BEGIN:VEVENT
DTSTART;TZID=America/Halifax:20231115T144500
DTEND;TZID=America/Halifax:20231115T161500
DTSTAMP:20260421T125252
CREATED:20231110T161523Z
LAST-MODIFIED:20231110T161524Z
UID:10000339-1700059500-1700064900@hanwell.nbed.ca
SUMMARY:Boys Basketball Practice
DESCRIPTION:
URL:https://hanwell.nbed.ca/calendar/boys-basketball-practice-14/
CATEGORIES:Athletics
END:VEVENT
BEGIN:VEVENT
DTSTART;TZID=America/Halifax:20231114T183000
DTEND;TZID=America/Halifax:20231114T200000
DTSTAMP:20260421T125252
CREATED:20231110T121239Z
LAST-MODIFIED:20231110T121240Z
UID:10000327-1699986600-1699992000@hanwell.nbed.ca
SUMMARY:Boys Basketball Game at Keswick Valley
DESCRIPTION:
URL:https://hanwell.nbed.ca/calendar/boys-basketball-game-at-keswick-valley/
CATEGORIES:Athletics
END:VEVENT
BEGIN:VEVENT
DTSTART;TZID=America/Halifax:20231114T170000
DTEND;TZID=America/Halifax:20231114T183000
DTSTAMP:20260421T125252
CREATED:20231110T121205Z
LAST-MODIFIED:20231110T121205Z
UID:10000326-1699981200-1699986600@hanwell.nbed.ca
SUMMARY:Girls Basketball Game at Keswick Valley
DESCRIPTION:
URL:https://hanwell.nbed.ca/calendar/girls-basketball-game-at-keswick-valley/
CATEGORIES:Athletics
END:VEVENT
BEGIN:VEVENT
DTSTART;TZID=America/Halifax:20231114T144500
DTEND;TZID=America/Halifax:20231114T160000
DTSTAMP:20260421T125252
CREATED:20231110T121313Z
LAST-MODIFIED:20231110T121314Z
UID:10000328-1699973100-1699977600@hanwell.nbed.ca
SUMMARY:Girls Basketball Practice
DESCRIPTION:
URL:https://hanwell.nbed.ca/calendar/girls-basketball-practice-19/
CATEGORIES:Athletics
END:VEVENT
BEGIN:VEVENT
DTSTART;TZID=America/Halifax:20231114T070000
DTEND;TZID=America/Halifax:20231114T080000
DTSTAMP:20260421T125252
CREATED:20231106T141953Z
LAST-MODIFIED:20231106T141954Z
UID:10000320-1699945200-1699948800@hanwell.nbed.ca
SUMMARY:Middle School Girls Volleyball Skills and Drills
DESCRIPTION:
URL:https://hanwell.nbed.ca/calendar/middle-school-girls-volleyball-skills-and-drills-8/
CATEGORIES:Athletics
END:VEVENT
END:VCALENDAR