BEGIN:VCALENDAR
VERSION:2.0
PRODID:-//Hanwell Park Academy - ECPv6.15.20//NONSGML v1.0//EN
CALSCALE:GREGORIAN
METHOD:PUBLISH
X-WR-CALNAME:Hanwell Park Academy
X-ORIGINAL-URL:https://hanwell.nbed.ca
X-WR-CALDESC:Events for Hanwell Park Academy
REFRESH-INTERVAL;VALUE=DURATION:PT1H
X-Robots-Tag:noindex
X-PUBLISHED-TTL:PT1H
BEGIN:VTIMEZONE
TZID:America/Halifax
BEGIN:DAYLIGHT
TZOFFSETFROM:-0400
TZOFFSETTO:-0300
TZNAME:ADT
DTSTART:20240310T060000
END:DAYLIGHT
BEGIN:STANDARD
TZOFFSETFROM:-0300
TZOFFSETTO:-0400
TZNAME:AST
DTSTART:20241103T050000
END:STANDARD
BEGIN:DAYLIGHT
TZOFFSETFROM:-0400
TZOFFSETTO:-0300
TZNAME:ADT
DTSTART:20250309T060000
END:DAYLIGHT
BEGIN:STANDARD
TZOFFSETFROM:-0300
TZOFFSETTO:-0400
TZNAME:AST
DTSTART:20251102T050000
END:STANDARD
BEGIN:DAYLIGHT
TZOFFSETFROM:-0400
TZOFFSETTO:-0300
TZNAME:ADT
DTSTART:20260308T060000
END:DAYLIGHT
BEGIN:STANDARD
TZOFFSETFROM:-0300
TZOFFSETTO:-0400
TZNAME:AST
DTSTART:20261101T050000
END:STANDARD
END:VTIMEZONE
BEGIN:VEVENT
DTSTART;TZID=America/Halifax:20250924T160000
DTEND;TZID=America/Halifax:20250924T173000
DTSTAMP:20260420T032241
CREATED:20250912T154419Z
LAST-MODIFIED:20250912T154423Z
UID:10000851-1758729600-1758735000@hanwell.nbed.ca
SUMMARY:Girls Soccer Match vs Harvey at HPA
DESCRIPTION:
URL:https://hanwell.nbed.ca/calendar/girls-soccer-match-vs-harvey-at-hpa-2/
END:VEVENT
BEGIN:VEVENT
DTSTART;TZID=America/Halifax:20250924T090000
DTEND;TZID=America/Halifax:20250924T130000
DTSTAMP:20260420T032241
CREATED:20250904T201436Z
LAST-MODIFIED:20250904T201439Z
UID:10000817-1758704400-1758718800@hanwell.nbed.ca
SUMMARY:School Immunization Clinic for Grade 7 Students
DESCRIPTION:
URL:https://hanwell.nbed.ca/calendar/school-immunization-clinic-for-grade-7-students/
END:VEVENT
BEGIN:VEVENT
DTSTART;TZID=America/Halifax:20250923T163000
DTEND;TZID=America/Halifax:20250923T183000
DTSTAMP:20260420T032241
CREATED:20250909T135703Z
LAST-MODIFIED:20250909T135706Z
UID:10000831-1758645000-1758652200@hanwell.nbed.ca
SUMMARY:Cross Country Meet (Middle Level) at Bliss Carman
DESCRIPTION:
URL:https://hanwell.nbed.ca/calendar/cross-country-meet-middle-level-at-bliss-carman/
END:VEVENT
BEGIN:VEVENT
DTSTART;TZID=America/Halifax:20250922T144500
DTEND;TZID=America/Halifax:20250922T160000
DTSTAMP:20260420T032241
CREATED:20250918T160644Z
LAST-MODIFIED:20250918T160647Z
UID:10000868-1758552300-1758556800@hanwell.nbed.ca
SUMMARY:Girls Soccer Practice
DESCRIPTION:
URL:https://hanwell.nbed.ca/calendar/girls-soccer-practice-27/
END:VEVENT
BEGIN:VEVENT
DTSTART;TZID=America/Halifax:20250919T170000
DTEND;TZID=America/Halifax:20250919T183000
DTSTAMP:20260420T032241
CREATED:20250912T160255Z
LAST-MODIFIED:20250912T160258Z
UID:10000855-1758301200-1758306600@hanwell.nbed.ca
SUMMARY:Boys Soccer Match vs FCA at HPA
DESCRIPTION:
URL:https://hanwell.nbed.ca/calendar/boys-soccer-match-vs-fca-at-hpa-2/
END:VEVENT
BEGIN:VEVENT
DTSTART;TZID=America/Halifax:20250919T170000
DTEND;TZID=America/Halifax:20250919T183000
DTSTAMP:20260420T032241
CREATED:20250912T154321Z
LAST-MODIFIED:20250917T103112Z
UID:10000850-1758301200-1758306600@hanwell.nbed.ca
SUMMARY:POSTPONED - Girls Soccer match vs ELE at ELE
DESCRIPTION:
URL:https://hanwell.nbed.ca/calendar/girls-soccer-match-vs-ele-at-ele/
END:VEVENT
BEGIN:VEVENT
DTSTART;TZID=America/Halifax:20250919T144500
DTEND;TZID=America/Halifax:20250919T160000
DTSTAMP:20260420T032241
CREATED:20250917T142239Z
LAST-MODIFIED:20250917T142242Z
UID:10000867-1758293100-1758297600@hanwell.nbed.ca
SUMMARY:Girls Soccer Practice
DESCRIPTION:
URL:https://hanwell.nbed.ca/calendar/girls-soccer-practice-26/
END:VEVENT
BEGIN:VEVENT
DTSTART;TZID=America/Halifax:20250919T143000
DTEND;TZID=America/Halifax:20250919T153000
DTSTAMP:20260420T032241
CREATED:20250916T105153Z
LAST-MODIFIED:20250916T105155Z
UID:10000866-1758292200-1758295800@hanwell.nbed.ca
SUMMARY:Cross Country Practice (Middle Level)
DESCRIPTION:
URL:https://hanwell.nbed.ca/calendar/cross-country-practice-middle-level/
END:VEVENT
BEGIN:VEVENT
DTSTART;TZID=America/Halifax:20250917T144500
DTEND;TZID=America/Halifax:20250917T160000
DTSTAMP:20260420T032241
CREATED:20250911T153641Z
LAST-MODIFIED:20250911T153644Z
UID:10000837-1758120300-1758124800@hanwell.nbed.ca
SUMMARY:Girls Soccer Practice
DESCRIPTION:
URL:https://hanwell.nbed.ca/calendar/girls-soccer-practice-25/2025-09-17/
END:VEVENT
BEGIN:VEVENT
DTSTART;TZID=America/Halifax:20250917T120000
DTEND;TZID=America/Halifax:20250917T133000
DTSTAMP:20260420T032241
CREATED:20250909T155341Z
LAST-MODIFIED:20250909T155344Z
UID:10000835-1758110400-1758115800@hanwell.nbed.ca
SUMMARY:Cross Country Meet (Grades 3-5) at New Maryland Elementary School
DESCRIPTION:
URL:https://hanwell.nbed.ca/calendar/cross-country-meet-grades-3-5-at-new-maryland-elementary-school-2/
END:VEVENT
BEGIN:VEVENT
DTSTART;TZID=America/Halifax:20250915T161500
DTEND;TZID=America/Halifax:20250915T171500
DTSTAMP:20260420T032241
CREATED:20250911T161443Z
LAST-MODIFIED:20250911T161446Z
UID:10000838-1757952900-1757956500@hanwell.nbed.ca
SUMMARY:Boys Soccer Tryout 3
DESCRIPTION:
URL:https://hanwell.nbed.ca/calendar/boys-soccer-tryout-3/
END:VEVENT
BEGIN:VEVENT
DTSTART;TZID=America/Halifax:20250915T144500
DTEND;TZID=America/Halifax:20250915T160000
DTSTAMP:20260420T032241
CREATED:20250911T153641Z
LAST-MODIFIED:20250911T153644Z
UID:10000836-1757947500-1757952000@hanwell.nbed.ca
SUMMARY:Girls Soccer Practice
DESCRIPTION:
URL:https://hanwell.nbed.ca/calendar/girls-soccer-practice-25/2025-09-15/
END:VEVENT
BEGIN:VEVENT
DTSTART;TZID=America/Halifax:20250912T143000
DTEND;TZID=America/Halifax:20250912T163000
DTSTAMP:20260420T032241
CREATED:20250909T103412Z
LAST-MODIFIED:20250909T103414Z
UID:10000830-1757687400-1757694600@hanwell.nbed.ca
SUMMARY:Boys Basketball 3 on 3 (Middle Level)
DESCRIPTION:
URL:https://hanwell.nbed.ca/calendar/boys-basketball-3-on-3-middle-level/
END:VEVENT
BEGIN:VEVENT
DTSTART;TZID=America/Halifax:20250912T143000
DTEND;TZID=America/Halifax:20250912T153000
DTSTAMP:20260420T032241
CREATED:20250905T102806Z
LAST-MODIFIED:20250909T103132Z
UID:10000829-1757687400-1757691000@hanwell.nbed.ca
SUMMARY:Cross Country (Middle Level)
DESCRIPTION:
URL:https://hanwell.nbed.ca/calendar/cross-country-middle-level/
END:VEVENT
BEGIN:VEVENT
DTSTART;TZID=America/Halifax:20250911T161500
DTEND;TZID=America/Halifax:20250911T171500
DTSTAMP:20260420T032241
CREATED:20250903T110431Z
LAST-MODIFIED:20250903T110435Z
UID:10000811-1757607300-1757610900@hanwell.nbed.ca
SUMMARY:Boys Soccer Tryout 2 (Middle Level)
DESCRIPTION:
URL:https://hanwell.nbed.ca/calendar/boys-soccer-tryout-2-middle-level/
END:VEVENT
BEGIN:VEVENT
DTSTART;TZID=America/Halifax:20250910T143000
DTEND;TZID=America/Halifax:20250910T153000
DTSTAMP:20260420T032241
CREATED:20250903T103329Z
LAST-MODIFIED:20250903T110504Z
UID:10000809-1757514600-1757518200@hanwell.nbed.ca
SUMMARY:Girls Soccer Tryout 2 (Middle Level)
DESCRIPTION:
URL:https://hanwell.nbed.ca/calendar/girls-soccer-tryout-2-2/
END:VEVENT
BEGIN:VEVENT
DTSTART;TZID=America/Halifax:20250909T161500
DTEND;TZID=America/Halifax:20250909T171500
DTSTAMP:20260420T032241
CREATED:20250903T110338Z
LAST-MODIFIED:20250903T110340Z
UID:10000810-1757434500-1757438100@hanwell.nbed.ca
SUMMARY:Boys Soccer Tryout 1 (Middle Level)
DESCRIPTION:
URL:https://hanwell.nbed.ca/calendar/boys-soccer-tryout-1-middle-level/
END:VEVENT
BEGIN:VEVENT
DTSTART;TZID=America/Halifax:20250908T143000
DTEND;TZID=America/Halifax:20250908T153000
DTSTAMP:20260420T032241
CREATED:20250903T103145Z
LAST-MODIFIED:20250903T103148Z
UID:10000808-1757341800-1757345400@hanwell.nbed.ca
SUMMARY:Girls Soccer Tryout 1 (Middle Level)
DESCRIPTION:
URL:https://hanwell.nbed.ca/calendar/girls-soccer-tryout-1-middle-level/
END:VEVENT
BEGIN:VEVENT
DTSTART;TZID=America/Halifax:20250908T090000
DTEND;TZID=America/Halifax:20250908T094500
DTSTAMP:20260420T032241
CREATED:20250904T200938Z
LAST-MODIFIED:20250904T200940Z
UID:10000814-1757322000-1757324700@hanwell.nbed.ca
SUMMARY:Blues in the Schools Presentation
DESCRIPTION:
URL:https://hanwell.nbed.ca/calendar/blues-in-the-schools-presentation/
END:VEVENT
BEGIN:VEVENT
DTSTART;TZID=America/Halifax:20250620T080000
DTEND;TZID=America/Halifax:20250620T141500
DTSTAMP:20260420T032241
CREATED:20250502T192753Z
LAST-MODIFIED:20250502T192754Z
UID:10000786-1750406400-1750428900@hanwell.nbed.ca
SUMMARY:Last Day of School
DESCRIPTION:
URL:https://hanwell.nbed.ca/calendar/last-day-of-school-2/
END:VEVENT
BEGIN:VEVENT
DTSTART;TZID=America/Halifax:20250616T170000
DTEND;TZID=America/Halifax:20250616T183000
DTSTAMP:20260420T032241
CREATED:20250616T095404Z
LAST-MODIFIED:20250616T095406Z
UID:10000807-1750093200-1750098600@hanwell.nbed.ca
SUMMARY:Basketball Skills & Drills - Final Session
DESCRIPTION:
URL:https://hanwell.nbed.ca/calendar/basketball-skills-drills-final-session/
END:VEVENT
BEGIN:VEVENT
DTSTART;TZID=America/Halifax:20250613T120000
DTEND;TZID=America/Halifax:20250613T130000
DTSTAMP:20260420T032241
CREATED:20250502T192938Z
LAST-MODIFIED:20250609T170032Z
UID:10000787-1749816000-1749819600@hanwell.nbed.ca
SUMMARY:Cancelled - Family Picnic (Rain or Shine)
DESCRIPTION:Families are welcome to come to the school to have lunch with their children.
URL:https://hanwell.nbed.ca/calendar/family-picnic-rain-or-shine/
END:VEVENT
BEGIN:VEVENT
DTSTART;TZID=America/Halifax:20250609T170000
DTEND;TZID=America/Halifax:20250609T183000
DTSTAMP:20260420T032241
CREATED:20250609T101944Z
LAST-MODIFIED:20250609T101946Z
UID:10000806-1749488400-1749493800@hanwell.nbed.ca
SUMMARY:Basketball Skills and Drills
DESCRIPTION:
URL:https://hanwell.nbed.ca/calendar/basketball-skills-and-drills-11/
CATEGORIES:Athletics
END:VEVENT
BEGIN:VEVENT
DTSTART;TZID=America/Halifax:20250605T170000
DTEND;TZID=America/Halifax:20250605T203000
DTSTAMP:20260420T032241
CREATED:20250502T193131Z
LAST-MODIFIED:20250515T235036Z
UID:10000788-1749142800-1749155400@hanwell.nbed.ca
SUMMARY:School Dance
DESCRIPTION:Students in Graded 3-5 have their dance from 5:00 PM – 6:30 PM and students in Grades 6-8 have their dance from 7:00 PM-8:30 PM
URL:https://hanwell.nbed.ca/calendar/school-dance-2/
END:VEVENT
BEGIN:VEVENT
DTSTART;TZID=America/Halifax:20250604T093000
DTEND;TZID=America/Halifax:20250604T173000
DTSTAMP:20260420T032241
CREATED:20250507T165047Z
LAST-MODIFIED:20250507T165048Z
UID:10000794-1749029400-1749058200@hanwell.nbed.ca
SUMMARY:Track & Field Districts (Middle Level) at Nasis Middle School
DESCRIPTION:
URL:https://hanwell.nbed.ca/calendar/track-field-districts-middle-level-at-nasis-middle-school/
CATEGORIES:Athletics
END:VEVENT
BEGIN:VEVENT
DTSTART;TZID=America/Halifax:20250604T090000
DTEND;TZID=America/Halifax:20250604T170000
DTSTAMP:20260420T032241
CREATED:20250416T150451Z
LAST-MODIFIED:20250416T150453Z
UID:10000775-1749027600-1749056400@hanwell.nbed.ca
SUMMARY:Track and Field Districts (Middle Level) at Nasis Middle School
DESCRIPTION:
URL:https://hanwell.nbed.ca/calendar/track-and-field-districts-middle-level-at-nasis-middle-school/
END:VEVENT
BEGIN:VEVENT
DTSTART;TZID=America/Halifax:20250602T170000
DTEND;TZID=America/Halifax:20250602T183000
DTSTAMP:20260420T032241
CREATED:20250529T111831Z
LAST-MODIFIED:20250529T111833Z
UID:10000805-1748883600-1748889000@hanwell.nbed.ca
SUMMARY:Basketball Skills and Drills
DESCRIPTION:
URL:https://hanwell.nbed.ca/calendar/basketball-skills-and-drills-10/
CATEGORIES:Athletics
END:VEVENT
BEGIN:VEVENT
DTSTART;TZID=America/Halifax:20250531T100000
DTEND;TZID=America/Halifax:20250531T100000
DTSTAMP:20260420T032241
CREATED:20250502T192634Z
LAST-MODIFIED:20250502T192635Z
UID:10000785-1748685600-1748685600@hanwell.nbed.ca
SUMMARY:Friends of Hanwell Spring Fling
DESCRIPTION:Join us for a fun-filled day at the school.  All funds raised will go directly back to the school.
URL:https://hanwell.nbed.ca/calendar/friends-of-hanwell-spring-fling/
END:VEVENT
BEGIN:VEVENT
DTSTART;TZID=America/Halifax:20250529T123000
DTEND;TZID=America/Halifax:20250529T133000
DTSTAMP:20260420T032241
CREATED:20250509T225441Z
LAST-MODIFIED:20250509T225442Z
UID:10000799-1748521800-1748525400@hanwell.nbed.ca
SUMMARY:Kindergarten Orientation 2025-2026
DESCRIPTION:
URL:https://hanwell.nbed.ca/calendar/kindergarten-orientation-2025-2026/
END:VEVENT
BEGIN:VEVENT
DTSTART;TZID=America/Halifax:20250528T143000
DTEND;TZID=America/Halifax:20250528T154500
DTSTAMP:20260420T032241
CREATED:20250522T103715Z
LAST-MODIFIED:20250522T103717Z
UID:10000803-1748442600-1748447100@hanwell.nbed.ca
SUMMARY:Track and Field (Middle Level)
DESCRIPTION:
URL:https://hanwell.nbed.ca/calendar/track-and-field-middle-level/
CATEGORIES:Athletics
END:VEVENT
END:VCALENDAR