BEGIN:VCALENDAR
VERSION:2.0
PRODID:-//Hanwell Park Academy - ECPv6.15.20//NONSGML v1.0//EN
CALSCALE:GREGORIAN
METHOD:PUBLISH
X-WR-CALNAME:Hanwell Park Academy
X-ORIGINAL-URL:https://hanwell.nbed.ca
X-WR-CALDESC:Events for Hanwell Park Academy
REFRESH-INTERVAL;VALUE=DURATION:PT1H
X-Robots-Tag:noindex
X-PUBLISHED-TTL:PT1H
BEGIN:VTIMEZONE
TZID:America/Halifax
BEGIN:DAYLIGHT
TZOFFSETFROM:-0400
TZOFFSETTO:-0300
TZNAME:ADT
DTSTART:20230312T060000
END:DAYLIGHT
BEGIN:STANDARD
TZOFFSETFROM:-0300
TZOFFSETTO:-0400
TZNAME:AST
DTSTART:20231105T050000
END:STANDARD
BEGIN:DAYLIGHT
TZOFFSETFROM:-0400
TZOFFSETTO:-0300
TZNAME:ADT
DTSTART:20240310T060000
END:DAYLIGHT
BEGIN:STANDARD
TZOFFSETFROM:-0300
TZOFFSETTO:-0400
TZNAME:AST
DTSTART:20241103T050000
END:STANDARD
BEGIN:DAYLIGHT
TZOFFSETFROM:-0400
TZOFFSETTO:-0300
TZNAME:ADT
DTSTART:20250309T060000
END:DAYLIGHT
BEGIN:STANDARD
TZOFFSETFROM:-0300
TZOFFSETTO:-0400
TZNAME:AST
DTSTART:20251102T050000
END:STANDARD
END:VTIMEZONE
BEGIN:VEVENT
DTSTART;TZID=America/Halifax:20241127T143000
DTEND;TZID=America/Halifax:20241127T160000
DTSTAMP:20260420T230220
CREATED:20240919T193553Z
LAST-MODIFIED:20240924T105249Z
UID:10000540-1732717800-1732723200@hanwell.nbed.ca
SUMMARY:Girls Volleyball Skills and Drills (Middle Level)
DESCRIPTION:
URL:https://hanwell.nbed.ca/calendar/girls-volleyball-skills-and-drills-middle-level/2024-11-27/
CATEGORIES:Athletics
END:VEVENT
BEGIN:VEVENT
DTSTART;TZID=America/Halifax:20241127T170000
DTEND;TZID=America/Halifax:20241127T183000
DTSTAMP:20260420T230220
CREATED:20241030T160614Z
LAST-MODIFIED:20241121T121024Z
UID:10000570-1732726800-1732732200@hanwell.nbed.ca
SUMMARY:Boys Basketball (Black) Vs. FCA (N) at HPA
DESCRIPTION:
URL:https://hanwell.nbed.ca/calendar/boys-basketball-black-vs-fca-at-hpa/
CATEGORIES:Athletics
END:VEVENT
BEGIN:VEVENT
DTSTART;TZID=America/Halifax:20241127T170000
DTEND;TZID=America/Halifax:20241127T183000
DTSTAMP:20260420T230220
CREATED:20241030T164728Z
LAST-MODIFIED:20241030T164730Z
UID:10000583-1732726800-1732732200@hanwell.nbed.ca
SUMMARY:Girls Basketball at FCA (Unity Centre)
DESCRIPTION:Unity Centre is 241 Canada St. Fredericton
URL:https://hanwell.nbed.ca/calendar/girls-basketball-at-fca-unity-centre/
CATEGORIES:Athletics
END:VEVENT
BEGIN:VEVENT
DTSTART;TZID=America/Halifax:20241127T183000
DTEND;TZID=America/Halifax:20241127T200000
DTSTAMP:20260420T230220
CREATED:20241030T162912Z
LAST-MODIFIED:20241114T113441Z
UID:10000576-1732732200-1732737600@hanwell.nbed.ca
SUMMARY:Boys Basketball (Green) Vs. FCA (S) at HPA
DESCRIPTION:
URL:https://hanwell.nbed.ca/calendar/boys-basketball-green-vs-ele-at-hpa/
CATEGORIES:Athletics
END:VEVENT
BEGIN:VEVENT
DTSTART;TZID=America/Halifax:20241128T170000
DTEND;TZID=America/Halifax:20241128T183000
DTSTAMP:20260420T230220
CREATED:20241030T164303Z
LAST-MODIFIED:20241106T114453Z
UID:10000580-1732813200-1732818600@hanwell.nbed.ca
SUMMARY:Girls Basketball Vs. Stanley at HPA
DESCRIPTION:
URL:https://hanwell.nbed.ca/calendar/girls-basketball-vs-cnba-at-hpa/
CATEGORIES:Athletics
END:VEVENT
BEGIN:VEVENT
DTSTART;TZID=America/Halifax:20241128T183000
DTEND;TZID=America/Halifax:20241128T200000
DTSTAMP:20260420T230220
CREATED:20241119T112751Z
LAST-MODIFIED:20241119T112752Z
UID:10000610-1732818600-1732824000@hanwell.nbed.ca
SUMMARY:Basketball Boys (Black) Game Vs. ELE at HPA
DESCRIPTION:
URL:https://hanwell.nbed.ca/calendar/basketball-boys-black-game-vs-ele-at-hpa/
CATEGORIES:Athletics
END:VEVENT
BEGIN:VEVENT
DTSTART;TZID=America/Halifax:20241202T170000
DTEND;TZID=America/Halifax:20241202T183000
DTSTAMP:20260420T230220
CREATED:20241030T163016Z
LAST-MODIFIED:20241119T112833Z
UID:10000577-1733158800-1733164200@hanwell.nbed.ca
SUMMARY:Boys Basketball (Green) Vs. Keswick Valley at HPA
DESCRIPTION:
URL:https://hanwell.nbed.ca/calendar/boys-basketball-green-vs-fca-at-hpa/
CATEGORIES:Athletics
END:VEVENT
BEGIN:VEVENT
DTSTART;TZID=America/Halifax:20241202T170000
DTEND;TZID=America/Halifax:20241202T183000
DTSTAMP:20260420T230220
CREATED:20241104T173646Z
LAST-MODIFIED:20241104T173648Z
UID:10000595-1733158800-1733164200@hanwell.nbed.ca
SUMMARY:Boys Basketball Black Practice
DESCRIPTION:
URL:https://hanwell.nbed.ca/calendar/boys-basketball-black-practice/2024-12-02/
CATEGORIES:Athletics
END:VEVENT
BEGIN:VEVENT
DTSTART;TZID=America/Halifax:20241203T143000
DTEND;TZID=America/Halifax:20241203T161500
DTSTAMP:20260420T230220
CREATED:20241030T164602Z
LAST-MODIFIED:20241203T112754Z
UID:10000582-1733236200-1733242500@hanwell.nbed.ca
SUMMARY:Girls Basketball Practice
DESCRIPTION:
URL:https://hanwell.nbed.ca/calendar/girls-basketball-at-mcadam/
CATEGORIES:Athletics
END:VEVENT
BEGIN:VEVENT
DTSTART;TZID=America/Halifax:20241203T170000
DTEND;TZID=America/Halifax:20241203T183000
DTSTAMP:20260420T230220
CREATED:20241030T160712Z
LAST-MODIFIED:20241030T160714Z
UID:10000571-1733245200-1733250600@hanwell.nbed.ca
SUMMARY:Boys Basketball (Black) at Harvey
DESCRIPTION:
URL:https://hanwell.nbed.ca/calendar/boys-basketball-black-at-harvey/
CATEGORIES:Athletics
END:VEVENT
BEGIN:VEVENT
DTSTART;TZID=America/Halifax:20241204T143000
DTEND;TZID=America/Halifax:20241204T160000
DTSTAMP:20260420T230220
CREATED:20241202T123127Z
LAST-MODIFIED:20241202T123129Z
UID:10000541-1733322600-1733328000@hanwell.nbed.ca
SUMMARY:Cancelled - Girls Volleyball Skills and Drills (Middle Level)
DESCRIPTION:
URL:https://hanwell.nbed.ca/calendar/girls-volleyball-skills-and-drills-middle-level-4/
CATEGORIES:Athletics
END:VEVENT
BEGIN:VEVENT
DTSTART;TZID=America/Halifax:20241204T160000
DTEND;TZID=America/Halifax:20241204T173000
DTSTAMP:20260420T230220
CREATED:20241203T113015Z
LAST-MODIFIED:20241203T113017Z
UID:10000614-1733328000-1733333400@hanwell.nbed.ca
SUMMARY:Girls Basketball Game at McAdam
DESCRIPTION:
URL:https://hanwell.nbed.ca/calendar/girls-basketball-game-at-mcadam/
CATEGORIES:Athletics
END:VEVENT
BEGIN:VEVENT
DTSTART;TZID=America/Halifax:20241204T163000
DTEND;TZID=America/Halifax:20241204T180000
DTSTAMP:20260420T230220
CREATED:20241202T114902Z
LAST-MODIFIED:20241202T114904Z
UID:10000613-1733329800-1733335200@hanwell.nbed.ca
SUMMARY:Boys Basketball Green Practice
DESCRIPTION:
URL:https://hanwell.nbed.ca/calendar/boys-basketball-green-practice-5/
CATEGORIES:Athletics
END:VEVENT
BEGIN:VEVENT
DTSTART;TZID=America/Halifax:20241205T170000
DTEND;TZID=America/Halifax:20241205T183000
DTSTAMP:20260420T230220
CREATED:20241030T161148Z
LAST-MODIFIED:20241205T174819Z
UID:10000572-1733418000-1733423400@hanwell.nbed.ca
SUMMARY:Cancelled - Boys Basketball (Black) Vs. BCMS at HPA
DESCRIPTION:
URL:https://hanwell.nbed.ca/calendar/boys-basketball-black-vs-bcms-at-hpa/
CATEGORIES:Athletics
END:VEVENT
BEGIN:VEVENT
DTSTART;TZID=America/Halifax:20241205T170000
DTEND;TZID=America/Halifax:20241205T183000
DTSTAMP:20260420T230220
CREATED:20241030T163119Z
LAST-MODIFIED:20241205T114656Z
UID:10000578-1733418000-1733423400@hanwell.nbed.ca
SUMMARY:Cancelled - Boys Basketball (Green) at Stanley
DESCRIPTION:
URL:https://hanwell.nbed.ca/calendar/boys-basketball-green-at-stanley/
CATEGORIES:Athletics
END:VEVENT
BEGIN:VEVENT
DTSTART;TZID=America/Halifax:20241205T170000
DTEND;TZID=America/Halifax:20241205T183000
DTSTAMP:20260420T230220
CREATED:20241030T164834Z
LAST-MODIFIED:20241205T114542Z
UID:10000584-1733418000-1733423400@hanwell.nbed.ca
SUMMARY:Cancelled - Girls Basketball at Harvey
DESCRIPTION:
URL:https://hanwell.nbed.ca/calendar/girls-basketball-at-harvey/
CATEGORIES:Athletics
END:VEVENT
BEGIN:VEVENT
DTSTART;TZID=America/Halifax:20241205T170000
DTEND;TZID=America/Halifax:20241205T190000
DTSTAMP:20260420T230220
CREATED:20241118T003141Z
LAST-MODIFIED:20241118T003258Z
UID:10000604-1733418000-1733425200@hanwell.nbed.ca
SUMMARY:Parent Teacher Conversations
DESCRIPTION:
URL:https://hanwell.nbed.ca/calendar/parent-teacher-interviews/
END:VEVENT
BEGIN:VEVENT
DTSTART;TZID=America/Halifax:20241206T074500
DTEND;TZID=America/Halifax:20241206T143000
DTSTAMP:20260420T230220
CREATED:20241118T003333Z
LAST-MODIFIED:20241118T003334Z
UID:10000606-1733471100-1733495400@hanwell.nbed.ca
SUMMARY:No School for Students
DESCRIPTION:
URL:https://hanwell.nbed.ca/calendar/no-school-for-students/
END:VEVENT
BEGIN:VEVENT
DTSTART;TZID=America/Halifax:20241206T083000
DTEND;TZID=America/Halifax:20241206T113000
DTSTAMP:20260420T230220
CREATED:20241118T003224Z
LAST-MODIFIED:20241118T003225Z
UID:10000605-1733473800-1733484600@hanwell.nbed.ca
SUMMARY:Parent Teacher Conversations
DESCRIPTION:
URL:https://hanwell.nbed.ca/calendar/parent-teacher-conversations/
END:VEVENT
BEGIN:VEVENT
DTSTART;TZID=America/Halifax:20241209T163000
DTEND;TZID=America/Halifax:20241209T180000
DTSTAMP:20260420T230220
CREATED:20241205T152846Z
LAST-MODIFIED:20241205T152848Z
UID:10000623-1733761800-1733767200@hanwell.nbed.ca
SUMMARY:Boys Green Basketball Practice
DESCRIPTION:
URL:https://hanwell.nbed.ca/calendar/boys-green-basketball-practice-2/
CATEGORIES:Athletics
END:VEVENT
BEGIN:VEVENT
DTSTART;TZID=America/Halifax:20241209T170000
DTEND;TZID=America/Halifax:20241209T183000
DTSTAMP:20260420T230220
CREATED:20241104T173646Z
LAST-MODIFIED:20241104T173648Z
UID:10000596-1733763600-1733769000@hanwell.nbed.ca
SUMMARY:Boys Basketball Black Practice
DESCRIPTION:
URL:https://hanwell.nbed.ca/calendar/boys-basketball-black-practice/2024-12-09/
CATEGORIES:Athletics
END:VEVENT
BEGIN:VEVENT
DTSTART;TZID=America/Halifax:20241209T170000
DTEND;TZID=America/Halifax:20241209T183000
DTSTAMP:20260420T230220
CREATED:20241205T154814Z
LAST-MODIFIED:20241205T154816Z
UID:10000624-1733763600-1733769000@hanwell.nbed.ca
SUMMARY:Girls Basketball Game Vs Stanley at HPA
DESCRIPTION:
URL:https://hanwell.nbed.ca/calendar/girls-basketball-game-vs-stanley-at-hpa/
CATEGORIES:Athletics
END:VEVENT
BEGIN:VEVENT
DTSTART;TZID=America/Halifax:20241209T183000
DTEND;TZID=America/Halifax:20241209T200000
DTSTAMP:20260420T230220
CREATED:20241206T134818Z
LAST-MODIFIED:20241206T134820Z
UID:10000625-1733769000-1733774400@hanwell.nbed.ca
SUMMARY:Girls Basketball Game Vs. Harvey at HPA
DESCRIPTION:
URL:https://hanwell.nbed.ca/calendar/girls-basketball-game-vs-harvey-at-hpa-2/
CATEGORIES:Athletics
END:VEVENT
BEGIN:VEVENT
DTSTART;TZID=America/Halifax:20241210T163000
DTEND;TZID=America/Halifax:20241210T193000
DTSTAMP:20260420T230220
CREATED:20241204T160203Z
LAST-MODIFIED:20241204T160204Z
UID:10000620-1733848200-1733859000@hanwell.nbed.ca
SUMMARY:Boys Basketball Green Districts at HPA
DESCRIPTION:Schedule will be released once the season is complete. Teams will play two games back-to-back.
URL:https://hanwell.nbed.ca/calendar/boys-basketball-green-districts-at-hpa/
CATEGORIES:Athletics
END:VEVENT
BEGIN:VEVENT
DTSTART;TZID=America/Halifax:20241211T143000
DTEND;TZID=America/Halifax:20241211T160000
DTSTAMP:20260420T230220
CREATED:20241204T181848Z
LAST-MODIFIED:20241204T181849Z
UID:10000542-1733927400-1733932800@hanwell.nbed.ca
SUMMARY:Cancelled - Girls Volleyball Skills and Drills (Middle Level)
DESCRIPTION:
URL:https://hanwell.nbed.ca/calendar/girls-volleyball-skills-and-drills-middle-level-5/
CATEGORIES:Athletics
END:VEVENT
BEGIN:VEVENT
DTSTART;TZID=America/Halifax:20241211T173000
DTEND;TZID=America/Halifax:20241211T193000
DTSTAMP:20260420T230220
CREATED:20241204T160505Z
LAST-MODIFIED:20241212T150004Z
UID:10000621-1733938200-1733945400@hanwell.nbed.ca
SUMMARY:Boys Basketball Black Districts at FCA (Unity Centre)
DESCRIPTION:Schedule will be posted once the season is complete. Game times depend on seeding and results of district games on Dec 11.
URL:https://hanwell.nbed.ca/calendar/boys-basketball-black-districts-at-fca-unity-centre/
CATEGORIES:Athletics
END:VEVENT
BEGIN:VEVENT
DTSTART;TZID=America/Halifax:20241211T180000
DTEND;TZID=America/Halifax:20241211T193000
DTSTAMP:20260420T230220
CREATED:20241204T161045Z
LAST-MODIFIED:20241210T113555Z
UID:10000622-1733940000-1733945400@hanwell.nbed.ca
SUMMARY:Girls Basketball Districts Vs McAdam at Nasis Middle School
DESCRIPTION:Schedule will be posted once the season is completed and rankings are available. Game locations will be finalized then. Should HPA make the final\, it will take place at Stanley on Dec. 16.
URL:https://hanwell.nbed.ca/calendar/girls-basketball-districts-at-stanley-possibly-a-game-at-nasis-middle/
CATEGORIES:Athletics
END:VEVENT
BEGIN:VEVENT
DTSTART;TZID=America/Halifax:20241212T083000
DTEND;TZID=America/Halifax:20241212T091500
DTSTAMP:20260420T230220
CREATED:20241118T004308Z
LAST-MODIFIED:20241118T004530Z
UID:10000607-1733992200-1733994900@hanwell.nbed.ca
SUMMARY:Holiday Concert Grades K-2
DESCRIPTION:
URL:https://hanwell.nbed.ca/calendar/holiday-concert-k-2/
END:VEVENT
BEGIN:VEVENT
DTSTART;TZID=America/Halifax:20241212T100000
DTEND;TZID=America/Halifax:20241212T104500
DTSTAMP:20260420T230220
CREATED:20241118T004354Z
LAST-MODIFIED:20241118T004355Z
UID:10000608-1733997600-1734000300@hanwell.nbed.ca
SUMMARY:Holiday Concert Grades 3-8
DESCRIPTION:
URL:https://hanwell.nbed.ca/calendar/holiday-concert-grades-3-8/
END:VEVENT
BEGIN:VEVENT
DTSTART;TZID=America/Halifax:20241212T170000
DTEND;TZID=America/Halifax:20241212T183000
DTSTAMP:20260420T230220
CREATED:20241204T012205Z
LAST-MODIFIED:20241204T012206Z
UID:10000615-1734022800-1734028200@hanwell.nbed.ca
SUMMARY:School Dance - Grades 3-5
DESCRIPTION:
URL:https://hanwell.nbed.ca/calendar/school-dance-grades-3-5/
END:VEVENT
END:VCALENDAR