BEGIN:VCALENDAR
VERSION:2.0
PRODID:-//Hanwell Park Academy - ECPv6.15.20//NONSGML v1.0//EN
CALSCALE:GREGORIAN
METHOD:PUBLISH
X-WR-CALNAME:Hanwell Park Academy
X-ORIGINAL-URL:https://hanwell.nbed.ca
X-WR-CALDESC:Events for Hanwell Park Academy
REFRESH-INTERVAL;VALUE=DURATION:PT1H
X-Robots-Tag:noindex
X-PUBLISHED-TTL:PT1H
BEGIN:VTIMEZONE
TZID:America/Halifax
BEGIN:DAYLIGHT
TZOFFSETFROM:-0400
TZOFFSETTO:-0300
TZNAME:ADT
DTSTART:20230312T060000
END:DAYLIGHT
BEGIN:STANDARD
TZOFFSETFROM:-0300
TZOFFSETTO:-0400
TZNAME:AST
DTSTART:20231105T050000
END:STANDARD
BEGIN:DAYLIGHT
TZOFFSETFROM:-0400
TZOFFSETTO:-0300
TZNAME:ADT
DTSTART:20240310T060000
END:DAYLIGHT
BEGIN:STANDARD
TZOFFSETFROM:-0300
TZOFFSETTO:-0400
TZNAME:AST
DTSTART:20241103T050000
END:STANDARD
BEGIN:DAYLIGHT
TZOFFSETFROM:-0400
TZOFFSETTO:-0300
TZNAME:ADT
DTSTART:20250309T060000
END:DAYLIGHT
BEGIN:STANDARD
TZOFFSETFROM:-0300
TZOFFSETTO:-0400
TZNAME:AST
DTSTART:20251102T050000
END:STANDARD
END:VTIMEZONE
BEGIN:VTIMEZONE
TZID:America/Moncton
BEGIN:DAYLIGHT
TZOFFSETFROM:-0400
TZOFFSETTO:-0300
TZNAME:ADT
DTSTART:20230312T060000
END:DAYLIGHT
BEGIN:STANDARD
TZOFFSETFROM:-0300
TZOFFSETTO:-0400
TZNAME:AST
DTSTART:20231105T050000
END:STANDARD
BEGIN:DAYLIGHT
TZOFFSETFROM:-0400
TZOFFSETTO:-0300
TZNAME:ADT
DTSTART:20240310T060000
END:DAYLIGHT
BEGIN:STANDARD
TZOFFSETFROM:-0300
TZOFFSETTO:-0400
TZNAME:AST
DTSTART:20241103T050000
END:STANDARD
BEGIN:DAYLIGHT
TZOFFSETFROM:-0400
TZOFFSETTO:-0300
TZNAME:ADT
DTSTART:20250309T060000
END:DAYLIGHT
BEGIN:STANDARD
TZOFFSETFROM:-0300
TZOFFSETTO:-0400
TZNAME:AST
DTSTART:20251102T050000
END:STANDARD
END:VTIMEZONE
BEGIN:VEVENT
DTSTART;TZID=America/Halifax:20240514T170000
DTEND;TZID=America/Halifax:20240514T183000
DTSTAMP:20260421T025218
CREATED:20240511T230415Z
LAST-MODIFIED:20240511T230416Z
UID:10000483-1715706000-1715711400@hanwell.nbed.ca
SUMMARY:Girls Volleyball Practice (Green & Black)
DESCRIPTION:
URL:https://hanwell.nbed.ca/calendar/girls-volleyball-practice-green-black-3/
CATEGORIES:Athletics
END:VEVENT
BEGIN:VEVENT
DTSTART;TZID=America/Halifax:20240514T144500
DTEND;TZID=America/Halifax:20240514T161500
DTSTAMP:20260421T025218
CREATED:20240513T220129Z
LAST-MODIFIED:20240513T220131Z
UID:10000485-1715697900-1715703300@hanwell.nbed.ca
SUMMARY:Boys Volleyball Practice
DESCRIPTION:
URL:https://hanwell.nbed.ca/calendar/boys-volleyball-practice-18/
CATEGORIES:Athletics
END:VEVENT
BEGIN:VEVENT
DTSTART;TZID=America/Halifax:20240509T183000
DTEND;TZID=America/Halifax:20240509T200000
DTSTAMP:20260421T025218
CREATED:20240404T124457Z
LAST-MODIFIED:20240404T124458Z
UID:10000451-1715279400-1715284800@hanwell.nbed.ca
SUMMARY:Girls Volleyball (HPA Green) Match at McAdam School
DESCRIPTION:
URL:https://hanwell.nbed.ca/calendar/girls-volleyball-hpa-green-match-at-mcadam-school/
CATEGORIES:Athletics
END:VEVENT
BEGIN:VEVENT
DTSTART;TZID=America/Halifax:20240509T170000
DTEND;TZID=America/Halifax:20240509T183000
DTSTAMP:20260421T025218
CREATED:20240505T213524Z
LAST-MODIFIED:20240505T213526Z
UID:10000479-1715274000-1715279400@hanwell.nbed.ca
SUMMARY:Girls Volleyball Practice (Black)
DESCRIPTION:
URL:https://hanwell.nbed.ca/calendar/girls-volleyball-practice-black/2024-05-09/
CATEGORIES:Athletics
END:VEVENT
BEGIN:VEVENT
DTSTART;TZID=America/Halifax:20240509T170000
DTEND;TZID=America/Halifax:20240509T183000
DTSTAMP:20260421T025218
CREATED:20240404T122323Z
LAST-MODIFIED:20240404T122324Z
UID:10000439-1715274000-1715279400@hanwell.nbed.ca
SUMMARY:Boys Volleyball Match Against Keswick Ridge at HPA
DESCRIPTION:
URL:https://hanwell.nbed.ca/calendar/boys-volleyball-match-against-keswick-ridge-at-hpa/
CATEGORIES:Athletics
END:VEVENT
BEGIN:VEVENT
DTSTART;TZID=America/Halifax:20240508T170000
DTEND;TZID=America/Halifax:20240508T183000
DTSTAMP:20260421T025218
CREATED:20240506T132141Z
LAST-MODIFIED:20240506T132143Z
UID:10000481-1715187600-1715193000@hanwell.nbed.ca
SUMMARY:Boys Volleyball Practice (Gym 1)
DESCRIPTION:
URL:https://hanwell.nbed.ca/calendar/boys-volleyball-practice-gym-1-3/2024-05-08/
CATEGORIES:Athletics
END:VEVENT
BEGIN:VEVENT
DTSTART;TZID=America/Halifax:20240508T170000
DTEND;TZID=America/Halifax:20240508T183000
DTSTAMP:20260421T025218
CREATED:20240505T213524Z
LAST-MODIFIED:20240505T213526Z
UID:10000478-1715187600-1715193000@hanwell.nbed.ca
SUMMARY:Girls Volleyball Practice (Black)
DESCRIPTION:
URL:https://hanwell.nbed.ca/calendar/girls-volleyball-practice-black/2024-05-08/
CATEGORIES:Athletics
END:VEVENT
BEGIN:VEVENT
DTSTART;TZID=America/Halifax:20240508T170000
DTEND;TZID=America/Halifax:20240508T183000
DTSTAMP:20260421T025218
CREATED:20240429T163850Z
LAST-MODIFIED:20240429T163852Z
UID:10000476-1715187600-1715193000@hanwell.nbed.ca
SUMMARY:Girls Volleyball Practice (Green)
DESCRIPTION:
URL:https://hanwell.nbed.ca/calendar/girls-volleyball-practice-green-2/
CATEGORIES:Athletics
END:VEVENT
BEGIN:VEVENT
DTSTART;TZID=America/Halifax:20240507T170000
DTEND;TZID=America/Halifax:20240507T183000
DTSTAMP:20260421T025218
CREATED:20240506T132141Z
LAST-MODIFIED:20240506T132143Z
UID:10000480-1715101200-1715106600@hanwell.nbed.ca
SUMMARY:Boys Volleyball Practice (Gym 1)
DESCRIPTION:
URL:https://hanwell.nbed.ca/calendar/boys-volleyball-practice-gym-1-3/2024-05-07/
CATEGORIES:Athletics
END:VEVENT
BEGIN:VEVENT
DTSTART;TZID=America/Halifax:20240507T170000
DTEND;TZID=America/Halifax:20240507T183000
DTSTAMP:20260421T025218
CREATED:20240429T163749Z
LAST-MODIFIED:20240429T163751Z
UID:10000475-1715101200-1715106600@hanwell.nbed.ca
SUMMARY:Girls Volleyball Practice (Green)
DESCRIPTION:
URL:https://hanwell.nbed.ca/calendar/girls-volleyball-practice-green/2024-05-07/
CATEGORIES:Athletics
END:VEVENT
BEGIN:VEVENT
DTSTART;TZID=America/Halifax:20240507T163000
DTEND;TZID=America/Halifax:20240507T180000
DTSTAMP:20260421T025218
CREATED:20240404T123833Z
LAST-MODIFIED:20240404T123834Z
UID:10000445-1715099400-1715104800@hanwell.nbed.ca
SUMMARY:Girls Volleyball (HPA Black) Match at Keswick Valley
DESCRIPTION:
URL:https://hanwell.nbed.ca/calendar/girls-volleyball-hpa-black-match-at-keswick-valley/
CATEGORIES:Athletics
END:VEVENT
BEGIN:VEVENT
DTSTART;TZID=America/Moncton:20240503T081500
DTEND;TZID=America/Moncton:20240503T163000
DTSTAMP:20260421T025218
CREATED:20230616T123015Z
LAST-MODIFIED:20230620T120236Z
UID:10000235-1714724100-1714753800@hanwell.nbed.ca
SUMMARY:Council Day
DESCRIPTION:Teachers and administrators ONLY.
URL:https://hanwell.nbed.ca/calendar/council-day-2/
CATEGORIES:Current Students
END:VEVENT
BEGIN:VEVENT
DTSTART;TZID=America/Halifax:20240502T173000
DTEND;TZID=America/Halifax:20240502T190000
DTSTAMP:20260421T025218
CREATED:20240404T123717Z
LAST-MODIFIED:20240404T123755Z
UID:10000444-1714671000-1714676400@hanwell.nbed.ca
SUMMARY:Girls Volleyball (HPA Black) Match Against Nasis at HPA
DESCRIPTION:
URL:https://hanwell.nbed.ca/calendar/girls-volleyball-hpa-black-match-at-nasis-middle-school/
CATEGORIES:Athletics
END:VEVENT
BEGIN:VEVENT
DTSTART;TZID=America/Halifax:20240502T163000
DTEND;TZID=America/Halifax:20240502T180000
DTSTAMP:20260421T025218
CREATED:20240404T122239Z
LAST-MODIFIED:20240404T122240Z
UID:10000438-1714667400-1714672800@hanwell.nbed.ca
SUMMARY:Boys Volleyball Match at Stanley Consolidated School
DESCRIPTION:
URL:https://hanwell.nbed.ca/calendar/boys-volleyball-match-at-stanley-consolidated-school/
CATEGORIES:Athletics
END:VEVENT
BEGIN:VEVENT
DTSTART;TZID=America/Halifax:20240502T160000
DTEND;TZID=America/Halifax:20240502T173000
DTSTAMP:20260421T025218
CREATED:20240404T124400Z
LAST-MODIFIED:20240404T124402Z
UID:10000450-1714665600-1714671000@hanwell.nbed.ca
SUMMARY:Girls Volleyball (HPA Green) Match Against Bliss Carman at HPA
DESCRIPTION:
URL:https://hanwell.nbed.ca/calendar/girls-volleyball-hpa-green-match-against-bliss-carman-at-hpa/
CATEGORIES:Athletics
END:VEVENT
BEGIN:VEVENT
DTSTART;TZID=America/Halifax:20240501T170000
DTEND;TZID=America/Halifax:20240501T183000
DTSTAMP:20260421T025218
CREATED:20240429T163749Z
LAST-MODIFIED:20240429T163751Z
UID:10000474-1714582800-1714588200@hanwell.nbed.ca
SUMMARY:Girls Volleyball Practice (Green)
DESCRIPTION:
URL:https://hanwell.nbed.ca/calendar/girls-volleyball-practice-green/2024-05-01/
CATEGORIES:Athletics
END:VEVENT
BEGIN:VEVENT
DTSTART;TZID=America/Halifax:20240501T150000
DTEND;TZID=America/Halifax:20240501T163000
DTSTAMP:20260421T025218
CREATED:20240428T211228Z
LAST-MODIFIED:20240428T211229Z
UID:10000470-1714575600-1714581000@hanwell.nbed.ca
SUMMARY:Girls (Black) Volleyball Practice
DESCRIPTION:
URL:https://hanwell.nbed.ca/calendar/girls-black-volleyball-practice-2/
CATEGORIES:Athletics
END:VEVENT
BEGIN:VEVENT
DTSTART;TZID=America/Halifax:20240501T144500
DTEND;TZID=America/Halifax:20240501T161500
DTSTAMP:20260421T025218
CREATED:20240429T120651Z
LAST-MODIFIED:20240429T120652Z
UID:10000472-1714574700-1714580100@hanwell.nbed.ca
SUMMARY:Boys Volleyball Practice (Gym 1)
DESCRIPTION:
URL:https://hanwell.nbed.ca/calendar/boys-volleyball-practice-gym-1-2/
CATEGORIES:Athletics
END:VEVENT
BEGIN:VEVENT
DTSTART;TZID=America/Halifax:20240430T170000
DTEND;TZID=America/Halifax:20240430T183000
DTSTAMP:20260421T025218
CREATED:20240430T141242Z
LAST-MODIFIED:20240430T141243Z
UID:10000477-1714496400-1714501800@hanwell.nbed.ca
SUMMARY:Girls Volleyball Practice (Green)
DESCRIPTION:
URL:https://hanwell.nbed.ca/calendar/girls-volleyball-practice-green-3/
CATEGORIES:Athletics
END:VEVENT
BEGIN:VEVENT
DTSTART;TZID=America/Halifax:20240430T170000
DTEND;TZID=America/Halifax:20240430T183000
DTSTAMP:20260421T025218
CREATED:20240429T120613Z
LAST-MODIFIED:20240429T120614Z
UID:10000471-1714496400-1714501800@hanwell.nbed.ca
SUMMARY:Boys Volleyball Practice (Gym 1)
DESCRIPTION:
URL:https://hanwell.nbed.ca/calendar/boys-volleyball-practice-gym-1/
CATEGORIES:Athletics
END:VEVENT
BEGIN:VEVENT
DTSTART;TZID=America/Halifax:20240430T163000
DTEND;TZID=America/Halifax:20240430T180000
DTSTAMP:20260421T025218
CREATED:20240428T211138Z
LAST-MODIFIED:20240428T211140Z
UID:10000469-1714494600-1714500000@hanwell.nbed.ca
SUMMARY:Girls (Black) Volleyball Practice
DESCRIPTION:
URL:https://hanwell.nbed.ca/calendar/girls-black-volleyball-practice/
CATEGORIES:Athletics
END:VEVENT
BEGIN:VEVENT
DTSTART;TZID=America/Halifax:20240427T080000
DTEND;TZID=America/Halifax:20240428T170000
DTSTAMP:20260421T025218
CREATED:20240417T102024Z
LAST-MODIFIED:20240417T102026Z
UID:10000463-1714204800-1714323600@hanwell.nbed.ca
SUMMARY:STU Middle School Cup - Boys and Girls Volleyball
DESCRIPTION:Times and schedule TBD
URL:https://hanwell.nbed.ca/calendar/stu-middle-school-cup-boys-and-girls-volleyball/
CATEGORIES:Athletics
END:VEVENT
BEGIN:VEVENT
DTSTART;TZID=America/Halifax:20240425T180000
DTEND;TZID=America/Halifax:20240425T193000
DTSTAMP:20260421T025218
CREATED:20240404T123621Z
LAST-MODIFIED:20240404T123623Z
UID:10000443-1714068000-1714073400@hanwell.nbed.ca
SUMMARY:Girls Volleyball (HPA Black) Match at Stanley Consolidated School
DESCRIPTION:
URL:https://hanwell.nbed.ca/calendar/girls-volleyball-hpa-black-match-at-stanley-consolidated-school/
CATEGORIES:Athletics
END:VEVENT
BEGIN:VEVENT
DTSTART;TZID=America/Halifax:20240425T170000
DTEND;TZID=America/Halifax:20240425T183000
DTSTAMP:20260421T025218
CREATED:20240404T124241Z
LAST-MODIFIED:20240404T124242Z
UID:10000449-1714064400-1714069800@hanwell.nbed.ca
SUMMARY:Girls Volleyball (HPA Green) Match Against Harvey at HPA
DESCRIPTION:
URL:https://hanwell.nbed.ca/calendar/girls-volleyball-hpa-green-match-against-harvey-at-hpa/
CATEGORIES:Athletics
END:VEVENT
BEGIN:VEVENT
DTSTART;TZID=America/Halifax:20240424T170000
DTEND;TZID=America/Halifax:20240424T183000
DTSTAMP:20260421T025218
CREATED:20240419T113416Z
LAST-MODIFIED:20240419T113417Z
UID:10000468-1713978000-1713983400@hanwell.nbed.ca
SUMMARY:Boys Volleyball Practice
DESCRIPTION:
URL:https://hanwell.nbed.ca/calendar/boys-volleyball-practice-17/2024-04-24/
CATEGORIES:Athletics
END:VEVENT
BEGIN:VEVENT
DTSTART;TZID=America/Halifax:20240424T144500
DTEND;TZID=America/Halifax:20240424T163000
DTSTAMP:20260421T025218
CREATED:20240419T111031Z
LAST-MODIFIED:20240419T111032Z
UID:10000466-1713969900-1713976200@hanwell.nbed.ca
SUMMARY:Girls Volleyball Practice (Green & Black)
DESCRIPTION:
URL:https://hanwell.nbed.ca/calendar/girls-volleyball-practice-green-black-2/2024-04-24/
CATEGORIES:Athletics
END:VEVENT
BEGIN:VEVENT
DTSTART;TZID=America/Halifax:20240423T173000
DTEND;TZID=America/Halifax:20240423T190000
DTSTAMP:20260421T025218
CREATED:20240404T122103Z
LAST-MODIFIED:20240405T102559Z
UID:10000437-1713893400-1713898800@hanwell.nbed.ca
SUMMARY:Boys Volleyball Match at Harvey High School
DESCRIPTION:
URL:https://hanwell.nbed.ca/calendar/boys-volleyball-match-at-harvey-high-school/
CATEGORIES:Athletics
END:VEVENT
BEGIN:VEVENT
DTSTART;TZID=America/Halifax:20240423T144500
DTEND;TZID=America/Halifax:20240423T163000
DTSTAMP:20260421T025219
CREATED:20240419T111031Z
LAST-MODIFIED:20240419T111032Z
UID:10000465-1713883500-1713889800@hanwell.nbed.ca
SUMMARY:Girls Volleyball Practice (Green & Black)
DESCRIPTION:
URL:https://hanwell.nbed.ca/calendar/girls-volleyball-practice-green-black-2/2024-04-23/
CATEGORIES:Athletics
END:VEVENT
BEGIN:VEVENT
DTSTART;TZID=America/Halifax:20240422T170000
DTEND;TZID=America/Halifax:20240422T183000
DTSTAMP:20260421T025219
CREATED:20240419T113416Z
LAST-MODIFIED:20240419T113417Z
UID:10000467-1713805200-1713810600@hanwell.nbed.ca
SUMMARY:Boys Volleyball Practice
DESCRIPTION:
URL:https://hanwell.nbed.ca/calendar/boys-volleyball-practice-17/2024-04-22/
CATEGORIES:Athletics
END:VEVENT
BEGIN:VEVENT
DTSTART;TZID=America/Halifax:20240422T170000
DTEND;TZID=America/Halifax:20240422T183000
DTSTAMP:20260421T025219
CREATED:20240404T123506Z
LAST-MODIFIED:20240404T123507Z
UID:10000442-1713805200-1713810600@hanwell.nbed.ca
SUMMARY:Girls Volleyball (HPA Black) Match Against CNBA at HPA
DESCRIPTION:
URL:https://hanwell.nbed.ca/calendar/girls-volleyball-hpa-black-match-against-cnba-at-hpa/
CATEGORIES:Athletics
END:VEVENT
END:VCALENDAR