BEGIN:VCALENDAR
VERSION:2.0
PRODID:-//Hanwell Park Academy - ECPv6.15.20//NONSGML v1.0//EN
CALSCALE:GREGORIAN
METHOD:PUBLISH
X-WR-CALNAME:Hanwell Park Academy
X-ORIGINAL-URL:https://hanwell.nbed.ca
X-WR-CALDESC:Events for Hanwell Park Academy
REFRESH-INTERVAL;VALUE=DURATION:PT1H
X-Robots-Tag:noindex
X-PUBLISHED-TTL:PT1H
BEGIN:VTIMEZONE
TZID:America/Halifax
BEGIN:DAYLIGHT
TZOFFSETFROM:-0400
TZOFFSETTO:-0300
TZNAME:ADT
DTSTART:20250309T060000
END:DAYLIGHT
BEGIN:STANDARD
TZOFFSETFROM:-0300
TZOFFSETTO:-0400
TZNAME:AST
DTSTART:20251102T050000
END:STANDARD
BEGIN:DAYLIGHT
TZOFFSETFROM:-0400
TZOFFSETTO:-0300
TZNAME:ADT
DTSTART:20260308T060000
END:DAYLIGHT
BEGIN:STANDARD
TZOFFSETFROM:-0300
TZOFFSETTO:-0400
TZNAME:AST
DTSTART:20261101T050000
END:STANDARD
BEGIN:DAYLIGHT
TZOFFSETFROM:-0400
TZOFFSETTO:-0300
TZNAME:ADT
DTSTART:20270314T060000
END:DAYLIGHT
BEGIN:STANDARD
TZOFFSETFROM:-0300
TZOFFSETTO:-0400
TZNAME:AST
DTSTART:20271107T050000
END:STANDARD
END:VTIMEZONE
BEGIN:VEVENT
DTSTART;TZID=America/Halifax:20260211T170000
DTEND;TZID=America/Halifax:20260211T183000
DTSTAMP:20260420T030329
CREATED:20260211T142318Z
LAST-MODIFIED:20260211T142319Z
UID:10001057-1770829200-1770834600@hanwell.nbed.ca
SUMMARY:Girls Basketball Practice (Gym 1)
DESCRIPTION:
URL:https://hanwell.nbed.ca/calendar/girls-basketball-practice-gym-1/
END:VEVENT
BEGIN:VEVENT
DTSTART;TZID=America/Halifax:20260211T183000
DTEND;TZID=America/Halifax:20260211T200000
DTSTAMP:20260420T030329
CREATED:20260113T113638Z
LAST-MODIFIED:20260211T142247Z
UID:10001010-1770834600-1770840000@hanwell.nbed.ca
SUMMARY:Postponed - Girls Basketball Game vs Harvey at Harvey
DESCRIPTION:
URL:https://hanwell.nbed.ca/calendar/girls-basketball-game-vs-harvey-at-harvey/
END:VEVENT
BEGIN:VEVENT
DTSTART;TZID=America/Halifax:20260212T050000
DTEND;TZID=America/Halifax:20260212T183000
DTSTAMP:20260420T030329
CREATED:20251027T163458Z
LAST-MODIFIED:20251027T163502Z
UID:10000890-1770872400-1770921000@hanwell.nbed.ca
SUMMARY:School Dance Grade 3-5
DESCRIPTION:
URL:https://hanwell.nbed.ca/calendar/school-dance-grade-3-5/
END:VEVENT
BEGIN:VEVENT
DTSTART;TZID=America/Halifax:20260212T143000
DTEND;TZID=America/Halifax:20260212T153000
DTSTAMP:20260420T030329
CREATED:20260206T145158Z
LAST-MODIFIED:20260211T142357Z
UID:10001043-1770906600-1770910200@hanwell.nbed.ca
SUMMARY:Cancelled - Grades 6-8 Volleyball Skills and Drills
DESCRIPTION:
URL:https://hanwell.nbed.ca/calendar/grades-6-8-volleyball-skills-and-drills/
END:VEVENT
BEGIN:VEVENT
DTSTART;TZID=America/Halifax:20260212T190000
DTEND;TZID=America/Halifax:20260212T203000
DTSTAMP:20260420T030329
CREATED:20251027T164104Z
LAST-MODIFIED:20251027T164105Z
UID:10000893-1770922800-1770928200@hanwell.nbed.ca
SUMMARY:School Dance Grades 6-8
DESCRIPTION:
URL:https://hanwell.nbed.ca/calendar/school-dance-grades-6-8-3/2026-02-12/
END:VEVENT
BEGIN:VEVENT
DTSTART;TZID=America/Halifax:20260212T190000
DTEND;TZID=America/Halifax:20260212T203000
DTSTAMP:20260420T030329
CREATED:20260206T203514Z
LAST-MODIFIED:20260206T203516Z
UID:10001048-1770922800-1770928200@hanwell.nbed.ca
SUMMARY:School Dance Grades 6-8
DESCRIPTION:
URL:https://hanwell.nbed.ca/calendar/school-dance-grades-6-8-4/
END:VEVENT
BEGIN:VEVENT
DTSTART;TZID=America/Halifax:20260213T170000
DTEND;TZID=America/Halifax:20260213T183000
DTSTAMP:20260420T030329
CREATED:20260206T151244Z
LAST-MODIFIED:20260206T151246Z
UID:10001047-1771002000-1771007400@hanwell.nbed.ca
SUMMARY:Boys Basketball Practice
DESCRIPTION:
URL:https://hanwell.nbed.ca/calendar/boys-basketball-practice-44/
END:VEVENT
BEGIN:VEVENT
DTSTART;TZID=America/Halifax:20260216T080000
DTEND;TZID=America/Halifax:20260216T170000
DTSTAMP:20260420T030329
CREATED:20250912T133253Z
LAST-MODIFIED:20250912T133619Z
UID:10000839-1771228800-1771261200@hanwell.nbed.ca
SUMMARY:Family Day - No School for Staff or Students
DESCRIPTION:
URL:https://hanwell.nbed.ca/calendar/family-day-no-school-for-staff-or-students/
END:VEVENT
BEGIN:VEVENT
DTSTART;TZID=America/Halifax:20260217T080000
DTEND;TZID=America/Halifax:20260220T170000
DTSTAMP:20260420T030329
CREATED:20260206T203711Z
LAST-MODIFIED:20260206T203713Z
UID:10001050-1771315200-1771606800@hanwell.nbed.ca
SUMMARY:Kindness Week at HPA
DESCRIPTION:
URL:https://hanwell.nbed.ca/calendar/kindness-week-at-hpa/
END:VEVENT
BEGIN:VEVENT
DTSTART;TZID=America/Halifax:20260217T143000
DTEND;TZID=America/Halifax:20260217T143000
DTSTAMP:20260420T030329
CREATED:20260213T175927Z
LAST-MODIFIED:20260213T175929Z
UID:10001061-1771338600-1771338600@hanwell.nbed.ca
SUMMARY:6-8 Badminton Skills and Drills
DESCRIPTION:
URL:https://hanwell.nbed.ca/calendar/6-8-badminton-skills-and-drills-2/
END:VEVENT
BEGIN:VEVENT
DTSTART;TZID=America/Halifax:20260217T170000
DTEND;TZID=America/Halifax:20260217T183000
DTSTAMP:20260420T030329
CREATED:20260113T113727Z
LAST-MODIFIED:20260113T113729Z
UID:10001011-1771347600-1771353000@hanwell.nbed.ca
SUMMARY:Girls Basketball Game vs Nackawic at HPA
DESCRIPTION:
URL:https://hanwell.nbed.ca/calendar/girls-basketball-game-vs-nackawic-at-hpa/
END:VEVENT
BEGIN:VEVENT
DTSTART;TZID=America/Halifax:20260217T170000
DTEND;TZID=America/Halifax:20260217T183000
DTSTAMP:20260420T030329
CREATED:20260212T164210Z
LAST-MODIFIED:20260212T164211Z
UID:10001059-1771347600-1771353000@hanwell.nbed.ca
SUMMARY:Boys Basketball Practice
DESCRIPTION:
URL:https://hanwell.nbed.ca/calendar/boys-basketball-practice-45/
END:VEVENT
BEGIN:VEVENT
DTSTART;TZID=America/Halifax:20260218T170000
DTEND;TZID=America/Halifax:20260218T183000
DTSTAMP:20260420T030329
CREATED:20260113T114138Z
LAST-MODIFIED:20260113T114140Z
UID:10001017-1771434000-1771439400@hanwell.nbed.ca
SUMMARY:Boys Basketball Game vs Nackawic at HPA
DESCRIPTION:
URL:https://hanwell.nbed.ca/calendar/boys-basketball-game-vs-nackawic-at-hpa/
END:VEVENT
BEGIN:VEVENT
DTSTART;TZID=America/Halifax:20260218T170000
DTEND;TZID=America/Halifax:20260218T183000
DTSTAMP:20260420T030329
CREATED:20260212T164107Z
LAST-MODIFIED:20260212T164109Z
UID:10001058-1771434000-1771439400@hanwell.nbed.ca
SUMMARY:Girls Basketball Practice
DESCRIPTION:
URL:https://hanwell.nbed.ca/calendar/girls-basketball-practice-56/
END:VEVENT
BEGIN:VEVENT
DTSTART;TZID=America/Halifax:20260220T170000
DTEND;TZID=America/Halifax:20260220T183000
DTSTAMP:20260420T030329
CREATED:20260212T164247Z
LAST-MODIFIED:20260212T164249Z
UID:10001060-1771606800-1771612200@hanwell.nbed.ca
SUMMARY:Boys Basketball Practice
DESCRIPTION:
URL:https://hanwell.nbed.ca/calendar/boys-basketball-practice-46/
END:VEVENT
BEGIN:VEVENT
DTSTART;TZID=America/Halifax:20260223T080000
DTEND;TZID=America/Halifax:20260223T170000
DTSTAMP:20260420T030329
CREATED:20260206T203807Z
LAST-MODIFIED:20260206T203809Z
UID:10001051-1771833600-1771866000@hanwell.nbed.ca
SUMMARY:HPA Winter Carnival
DESCRIPTION:Theme: Tacky Tourist Day
URL:https://hanwell.nbed.ca/calendar/hpa-winter-carnival/
END:VEVENT
BEGIN:VEVENT
DTSTART;TZID=America/Halifax:20260223T170000
DTEND;TZID=America/Halifax:20260223T183000
DTSTAMP:20260420T030329
CREATED:20260219T112620Z
LAST-MODIFIED:20260219T112622Z
UID:10001062-1771866000-1771871400@hanwell.nbed.ca
SUMMARY:Boys Basketball Practice
DESCRIPTION:
URL:https://hanwell.nbed.ca/calendar/boys-basketball-practice-47/
END:VEVENT
BEGIN:VEVENT
DTSTART;TZID=America/Halifax:20260223T170000
DTEND;TZID=America/Halifax:20260223T183000
DTSTAMP:20260420T030329
CREATED:20260220T114112Z
LAST-MODIFIED:20260220T114114Z
UID:10001065-1771866000-1771871400@hanwell.nbed.ca
SUMMARY:Girls Basketball Practice
DESCRIPTION:
URL:https://hanwell.nbed.ca/calendar/girls-basketball-practice-57/
END:VEVENT
BEGIN:VEVENT
DTSTART;TZID=America/Halifax:20260224T080000
DTEND;TZID=America/Halifax:20260224T170000
DTSTAMP:20260420T030329
CREATED:20260206T203854Z
LAST-MODIFIED:20260206T203856Z
UID:10001052-1771920000-1771952400@hanwell.nbed.ca
SUMMARY:HPA Winter Carnival
DESCRIPTION:Theme:  Whoops\, Wrong Event
URL:https://hanwell.nbed.ca/calendar/hpa-winter-carnival-2/
END:VEVENT
BEGIN:VEVENT
DTSTART;TZID=America/Halifax:20260225T080000
DTEND;TZID=America/Halifax:20260225T170000
DTSTAMP:20260420T030329
CREATED:20260206T203933Z
LAST-MODIFIED:20260206T203935Z
UID:10001053-1772006400-1772038800@hanwell.nbed.ca
SUMMARY:HPA Winter Carnival
DESCRIPTION:Theme:  Pink Shirt Day
URL:https://hanwell.nbed.ca/calendar/hpa-winter-carnival-3/
END:VEVENT
BEGIN:VEVENT
DTSTART;TZID=America/Halifax:20260225T170000
DTEND;TZID=America/Halifax:20260225T183000
DTSTAMP:20260420T030329
CREATED:20260113T113804Z
LAST-MODIFIED:20260113T113806Z
UID:10001012-1772038800-1772044200@hanwell.nbed.ca
SUMMARY:Girls Basketball Game vs FCA at FCA
DESCRIPTION:
URL:https://hanwell.nbed.ca/calendar/girls-basketball-game-vs-fca-at-fca/
END:VEVENT
BEGIN:VEVENT
DTSTART;TZID=America/Halifax:20260225T170000
DTEND;TZID=America/Halifax:20260225T183000
DTSTAMP:20260420T030329
CREATED:20260219T112647Z
LAST-MODIFIED:20260219T112649Z
UID:10001063-1772038800-1772044200@hanwell.nbed.ca
SUMMARY:Boys Basketball Practice
DESCRIPTION:
URL:https://hanwell.nbed.ca/calendar/boys-basketball-practice-48/
END:VEVENT
BEGIN:VEVENT
DTSTART;TZID=America/Halifax:20260226T080000
DTEND;TZID=America/Halifax:20260226T170000
DTSTAMP:20260420T030329
CREATED:20260206T204357Z
LAST-MODIFIED:20260206T204359Z
UID:10001054-1772092800-1772125200@hanwell.nbed.ca
SUMMARY:HPA Winter Carnival
DESCRIPTION:Theme: Hat Day (Grades K-2); Anything but a Backpack (Grades 3-8)
URL:https://hanwell.nbed.ca/calendar/hpa-winter-carnival-4/
END:VEVENT
BEGIN:VEVENT
DTSTART;TZID=America/Halifax:20260226T193000
DTEND;TZID=America/Halifax:20260226T210000
DTSTAMP:20260420T030329
CREATED:20260113T114219Z
LAST-MODIFIED:20260113T114221Z
UID:10001018-1772134200-1772139600@hanwell.nbed.ca
SUMMARY:Boys Basketball Game vs George St. at George St.
DESCRIPTION:
URL:https://hanwell.nbed.ca/calendar/boys-basketball-game-vs-george-st-at-george-st/
END:VEVENT
BEGIN:VEVENT
DTSTART;TZID=America/Halifax:20260227T080000
DTEND;TZID=America/Halifax:20260227T170000
DTSTAMP:20260420T030329
CREATED:20260206T204432Z
LAST-MODIFIED:20260206T204434Z
UID:10001055-1772179200-1772211600@hanwell.nbed.ca
SUMMARY:HPA Winter Carnival
DESCRIPTION:Pajama Day and Outdoor Activities
URL:https://hanwell.nbed.ca/calendar/hpa-winter-carnival-5/
END:VEVENT
BEGIN:VEVENT
DTSTART;TZID=America/Halifax:20260227T170000
DTEND;TZID=America/Halifax:20260227T183000
DTSTAMP:20260420T030329
CREATED:20260219T112711Z
LAST-MODIFIED:20260219T112713Z
UID:10001064-1772211600-1772217000@hanwell.nbed.ca
SUMMARY:Boys Basketball Practice
DESCRIPTION:
URL:https://hanwell.nbed.ca/calendar/boys-basketball-practice-49/
END:VEVENT
BEGIN:VEVENT
DTSTART;TZID=America/Halifax:20260228T080000
DTEND;TZID=America/Halifax:20260308T170000
DTSTAMP:20260420T030329
CREATED:20250912T133845Z
LAST-MODIFIED:20250912T133846Z
UID:10000840-1772265600-1772989200@hanwell.nbed.ca
SUMMARY:March Break
DESCRIPTION:
URL:https://hanwell.nbed.ca/calendar/march-break-3/
END:VEVENT
BEGIN:VEVENT
DTSTART;TZID=America/Halifax:20260309T170000
DTEND;TZID=America/Halifax:20260309T183000
DTSTAMP:20260420T030329
CREATED:20260309T102347Z
LAST-MODIFIED:20260309T102349Z
UID:10001066-1773075600-1773081000@hanwell.nbed.ca
SUMMARY:Girls Basketball Practice
DESCRIPTION:
URL:https://hanwell.nbed.ca/calendar/girls-basketball-practice-58/
END:VEVENT
BEGIN:VEVENT
DTSTART;TZID=America/Halifax:20260311T170000
DTEND;TZID=America/Halifax:20260311T183000
DTSTAMP:20260420T030329
CREATED:20260309T152829Z
LAST-MODIFIED:20260311T110141Z
UID:10001068-1773248400-1773253800@hanwell.nbed.ca
SUMMARY:Cancelled - Boys Basketball Practice
DESCRIPTION:
URL:https://hanwell.nbed.ca/calendar/boys-basketball-practice-50/
END:VEVENT
BEGIN:VEVENT
DTSTART;TZID=America/Halifax:20260311T183000
DTEND;TZID=America/Halifax:20260311T200000
DTSTAMP:20260420T030329
CREATED:20260309T102436Z
LAST-MODIFIED:20260311T110205Z
UID:10001067-1773253800-1773259200@hanwell.nbed.ca
SUMMARY:Cancelled - Girls Basketball Game at Harvey
DESCRIPTION:
URL:https://hanwell.nbed.ca/calendar/girls-basketball-game-at-harvey/
END:VEVENT
END:VCALENDAR