BEGIN:VCALENDAR
VERSION:2.0
PRODID:-//Hanwell Park Academy - ECPv6.15.20//NONSGML v1.0//EN
CALSCALE:GREGORIAN
METHOD:PUBLISH
X-WR-CALNAME:Hanwell Park Academy
X-ORIGINAL-URL:https://hanwell.nbed.ca
X-WR-CALDESC:Events for Hanwell Park Academy
REFRESH-INTERVAL;VALUE=DURATION:PT1H
X-Robots-Tag:noindex
X-PUBLISHED-TTL:PT1H
BEGIN:VTIMEZONE
TZID:America/Halifax
BEGIN:DAYLIGHT
TZOFFSETFROM:-0400
TZOFFSETTO:-0300
TZNAME:ADT
DTSTART:20250309T060000
END:DAYLIGHT
BEGIN:STANDARD
TZOFFSETFROM:-0300
TZOFFSETTO:-0400
TZNAME:AST
DTSTART:20251102T050000
END:STANDARD
BEGIN:DAYLIGHT
TZOFFSETFROM:-0400
TZOFFSETTO:-0300
TZNAME:ADT
DTSTART:20260308T060000
END:DAYLIGHT
BEGIN:STANDARD
TZOFFSETFROM:-0300
TZOFFSETTO:-0400
TZNAME:AST
DTSTART:20261101T050000
END:STANDARD
BEGIN:DAYLIGHT
TZOFFSETFROM:-0400
TZOFFSETTO:-0300
TZNAME:ADT
DTSTART:20270314T060000
END:DAYLIGHT
BEGIN:STANDARD
TZOFFSETFROM:-0300
TZOFFSETTO:-0400
TZNAME:AST
DTSTART:20271107T050000
END:STANDARD
END:VTIMEZONE
BEGIN:VEVENT
DTSTART;TZID=America/Halifax:20260317T170000
DTEND;TZID=America/Halifax:20260317T183000
DTSTAMP:20260420T030329
CREATED:20260315T113909Z
LAST-MODIFIED:20260315T113913Z
UID:10001078-1773766800-1773772200@hanwell.nbed.ca
SUMMARY:Boys Basketball Practice
DESCRIPTION:
URL:https://hanwell.nbed.ca/calendar/boys-basketball-practice-53/
END:VEVENT
BEGIN:VEVENT
DTSTART;TZID=America/Halifax:20260318T170000
DTEND;TZID=America/Halifax:20260318T183000
DTSTAMP:20260420T030329
CREATED:20260310T131452Z
LAST-MODIFIED:20260315T113007Z
UID:10001070-1773853200-1773858600@hanwell.nbed.ca
SUMMARY:Boys Basketball Districts vs ELE at Nackawic
DESCRIPTION:If HPA wins this game\, they will advance to a semifinal on Thursday at 5:00pm. If HPA wins the semifinal the district final will be Thursday at 7:30pm.
URL:https://hanwell.nbed.ca/calendar/boys-basketball-districts-at-nackawic-schedule-tbd/
END:VEVENT
BEGIN:VEVENT
DTSTART;TZID=America/Halifax:20260318T170000
DTEND;TZID=America/Halifax:20260318T183000
DTSTAMP:20260420T030329
CREATED:20260315T112503Z
LAST-MODIFIED:20260315T112505Z
UID:10001076-1773853200-1773858600@hanwell.nbed.ca
SUMMARY:Girls Basketball Practice
DESCRIPTION:
URL:https://hanwell.nbed.ca/calendar/girls-basketball-practice-60/
END:VEVENT
BEGIN:VEVENT
DTSTART;TZID=America/Halifax:20260319T160000
DTEND;TZID=America/Halifax:20260319T200000
DTSTAMP:20260420T030329
CREATED:20260310T103534Z
LAST-MODIFIED:20260310T103535Z
UID:10001069-1773936000-1773950400@hanwell.nbed.ca
SUMMARY:Girls Basketball Districts at HPA
DESCRIPTION:HPA vs FCA at 4:00pm – Winner plays Harvey at 5:45pm.
URL:https://hanwell.nbed.ca/calendar/girls-basketball-districts-at-hpa/
END:VEVENT
BEGIN:VEVENT
DTSTART;TZID=America/Halifax:20260320T143000
DTEND;TZID=America/Halifax:20260320T160000
DTSTAMP:20260420T030329
CREATED:20260310T153602Z
LAST-MODIFIED:20260310T153604Z
UID:10001071-1774017000-1774022400@hanwell.nbed.ca
SUMMARY:Girls Volleyball Tryout 1
DESCRIPTION:
URL:https://hanwell.nbed.ca/calendar/girls-volleyball-tryout-1-2/
END:VEVENT
BEGIN:VEVENT
DTSTART;TZID=America/Halifax:20260320T170000
DTEND;TZID=America/Halifax:20260320T183000
DTSTAMP:20260420T030329
CREATED:20260311T131433Z
LAST-MODIFIED:20260311T131435Z
UID:10001072-1774026000-1774031400@hanwell.nbed.ca
SUMMARY:Boys Volleyball Tryout 1
DESCRIPTION:
URL:https://hanwell.nbed.ca/calendar/boys-volleyball-tryout-1-3/
END:VEVENT
BEGIN:VEVENT
DTSTART;TZID=America/Halifax:20260323T143000
DTEND;TZID=America/Halifax:20260323T160000
DTSTAMP:20260420T030329
CREATED:20260316T124701Z
LAST-MODIFIED:20260316T124705Z
UID:10001079-1774276200-1774281600@hanwell.nbed.ca
SUMMARY:Girls Volleyball Tryout 2
DESCRIPTION:
URL:https://hanwell.nbed.ca/calendar/girls-volleyball-tryout-2-2/
END:VEVENT
BEGIN:VEVENT
DTSTART;TZID=America/Halifax:20260323T170000
DTEND;TZID=America/Halifax:20260323T183000
DTSTAMP:20260420T030329
CREATED:20260320T111921Z
LAST-MODIFIED:20260320T111923Z
UID:10001080-1774285200-1774290600@hanwell.nbed.ca
SUMMARY:Boys Volleyball Tryout 2
DESCRIPTION:
URL:https://hanwell.nbed.ca/calendar/boys-volleyball-tryout-2-2/
END:VEVENT
BEGIN:VEVENT
DTSTART;TZID=America/Halifax:20260325T143000
DTEND;TZID=America/Halifax:20260325T160000
DTSTAMP:20260420T030329
CREATED:20260324T103123Z
LAST-MODIFIED:20260324T103125Z
UID:10001081-1774449000-1774454400@hanwell.nbed.ca
SUMMARY:Girls Volleyball Practice
DESCRIPTION:
URL:https://hanwell.nbed.ca/calendar/girls-volleyball-practice-9/
END:VEVENT
BEGIN:VEVENT
DTSTART;TZID=America/Halifax:20260326T170000
DTEND;TZID=America/Halifax:20260326T183000
DTSTAMP:20260420T030329
CREATED:20260325T140019Z
LAST-MODIFIED:20260325T140021Z
UID:10001082-1774544400-1774549800@hanwell.nbed.ca
SUMMARY:Boys Volleyball Practice
DESCRIPTION:
URL:https://hanwell.nbed.ca/calendar/boys-volleyball-practice-26/
END:VEVENT
BEGIN:VEVENT
DTSTART;TZID=America/Halifax:20260330T080000
DTEND;TZID=America/Halifax:20260330T143000
DTSTAMP:20260420T030329
CREATED:20250912T134040Z
LAST-MODIFIED:20250912T134327Z
UID:10000842-1774857600-1774881000@hanwell.nbed.ca
SUMMARY:Report Cards Issued K-12
DESCRIPTION:
URL:https://hanwell.nbed.ca/calendar/report-cards-issued-k-12/
END:VEVENT
BEGIN:VEVENT
DTSTART;TZID=America/Halifax:20260330T143000
DTEND;TZID=America/Halifax:20260330T160000
DTSTAMP:20260420T030329
CREATED:20260326T103120Z
LAST-MODIFIED:20260326T103122Z
UID:10001083-1774881000-1774886400@hanwell.nbed.ca
SUMMARY:Girls Volleyball Practice
DESCRIPTION:
URL:https://hanwell.nbed.ca/calendar/girls-volleyball-practice-10/
END:VEVENT
BEGIN:VEVENT
DTSTART;TZID=America/Halifax:20260330T170000
DTEND;TZID=America/Halifax:20260330T183000
DTSTAMP:20260420T030329
CREATED:20260326T103150Z
LAST-MODIFIED:20260326T103153Z
UID:10001084-1774890000-1774895400@hanwell.nbed.ca
SUMMARY:Boys Volleyball Practice
DESCRIPTION:
URL:https://hanwell.nbed.ca/calendar/boys-volleyball-practice-27/
END:VEVENT
BEGIN:VEVENT
DTSTART;TZID=America/Halifax:20260331T143000
DTEND;TZID=America/Halifax:20260331T153000
DTSTAMP:20260420T030329
CREATED:20260326T103251Z
LAST-MODIFIED:20260331T162805Z
UID:10001085-1774967400-1774971000@hanwell.nbed.ca
SUMMARY:Cancelled - Grade 5 & 6 Girls Volleyball Session
DESCRIPTION:
URL:https://hanwell.nbed.ca/calendar/grade-5-6-girls-volleyball-session/
END:VEVENT
BEGIN:VEVENT
DTSTART;TZID=America/Halifax:20260331T153000
DTEND;TZID=America/Halifax:20260331T170000
DTSTAMP:20260420T030329
CREATED:20260326T103323Z
LAST-MODIFIED:20260331T162835Z
UID:10001086-1774971000-1774976400@hanwell.nbed.ca
SUMMARY:Cancelled - Girls Volleyball Practice
DESCRIPTION:
URL:https://hanwell.nbed.ca/calendar/girls-volleyball-practice-11/
END:VEVENT
BEGIN:VEVENT
DTSTART;TZID=America/Halifax:20260401T143000
DTEND;TZID=America/Halifax:20260401T153000
DTSTAMP:20260420T030329
CREATED:20260327T103204Z
LAST-MODIFIED:20260327T103205Z
UID:10001099-1775053800-1775057400@hanwell.nbed.ca
SUMMARY:Grade 5 & 6 Girls Volleyball Session
DESCRIPTION:
URL:https://hanwell.nbed.ca/calendar/grade-5-6-girls-volleyball-session-2/
END:VEVENT
BEGIN:VEVENT
DTSTART;TZID=America/Halifax:20260401T153000
DTEND;TZID=America/Halifax:20260401T170000
DTSTAMP:20260420T030329
CREATED:20260327T103230Z
LAST-MODIFIED:20260327T103233Z
UID:10001100-1775057400-1775062800@hanwell.nbed.ca
SUMMARY:Girls Volleyball Practice
DESCRIPTION:
URL:https://hanwell.nbed.ca/calendar/girls-volleyball-practice-12/
END:VEVENT
BEGIN:VEVENT
DTSTART;TZID=America/Halifax:20260401T170000
DTEND;TZID=America/Halifax:20260401T190000
DTSTAMP:20260420T030329
CREATED:20260206T204745Z
LAST-MODIFIED:20260206T204747Z
UID:10001056-1775062800-1775070000@hanwell.nbed.ca
SUMMARY:Parent Teacher Conversations
DESCRIPTION:
URL:https://hanwell.nbed.ca/calendar/parent-teacher-conversations-4/
END:VEVENT
BEGIN:VEVENT
DTSTART;TZID=America/Halifax:20260402T083000
DTEND;TZID=America/Halifax:20260402T233000
DTSTAMP:20260420T030329
CREATED:20250912T135057Z
LAST-MODIFIED:20260206T204615Z
UID:10000844-1775118600-1775172600@hanwell.nbed.ca
SUMMARY:Parent Teacher Conversations - No School for Students
DESCRIPTION:
URL:https://hanwell.nbed.ca/calendar/parent-teacher-conversations-no-school-for-students/
END:VEVENT
BEGIN:VEVENT
DTSTART;TZID=America/Halifax:20260403T080000
DTEND;TZID=America/Halifax:20260403T170000
DTSTAMP:20260420T030329
CREATED:20250912T134640Z
LAST-MODIFIED:20250912T134643Z
UID:10000843-1775203200-1775235600@hanwell.nbed.ca
SUMMARY:Good Friday - No School Staff or Students
DESCRIPTION:
URL:https://hanwell.nbed.ca/calendar/good-friday-no-school-staff-or-students/
END:VEVENT
BEGIN:VEVENT
DTSTART;TZID=America/Halifax:20260406T080000
DTEND;TZID=America/Halifax:20260406T143000
DTSTAMP:20260420T030329
CREATED:20250912T135218Z
LAST-MODIFIED:20250912T135220Z
UID:10000845-1775462400-1775485800@hanwell.nbed.ca
SUMMARY:Easter Monday - No School Staff or Students
DESCRIPTION:
URL:https://hanwell.nbed.ca/calendar/easter-monday-no-school-staff-or-students/
END:VEVENT
BEGIN:VEVENT
DTSTART;TZID=America/Halifax:20260407T143000
DTEND;TZID=America/Halifax:20260407T153000
DTSTAMP:20260420T030329
CREATED:20260401T195533Z
LAST-MODIFIED:20260401T195535Z
UID:10001110-1775572200-1775575800@hanwell.nbed.ca
SUMMARY:Grade 5 & 6 Volleyball Session
DESCRIPTION:
URL:https://hanwell.nbed.ca/calendar/grade-5-6-volleyball-session/
END:VEVENT
BEGIN:VEVENT
DTSTART;TZID=America/Halifax:20260407T153000
DTEND;TZID=America/Halifax:20260407T170000
DTSTAMP:20260420T030329
CREATED:20260401T195601Z
LAST-MODIFIED:20260401T195604Z
UID:10001111-1775575800-1775581200@hanwell.nbed.ca
SUMMARY:Girls Volleyball Practice
DESCRIPTION:
URL:https://hanwell.nbed.ca/calendar/girls-volleyball-practice-13/
END:VEVENT
BEGIN:VEVENT
DTSTART;TZID=America/Halifax:20260407T170000
DTEND;TZID=America/Halifax:20260407T183000
DTSTAMP:20260420T030329
CREATED:20260331T131235Z
LAST-MODIFIED:20260331T131237Z
UID:10001101-1775581200-1775586600@hanwell.nbed.ca
SUMMARY:Boys Volleyball Practice
DESCRIPTION:
URL:https://hanwell.nbed.ca/calendar/boys-volleyball-practice-28/
END:VEVENT
BEGIN:VEVENT
DTSTART;TZID=America/Halifax:20260408T180000
DTEND;TZID=America/Halifax:20260408T193000
DTSTAMP:20260420T030329
CREATED:20260108T222032Z
LAST-MODIFIED:20260108T222033Z
UID:10001000-1775671200-1775676600@hanwell.nbed.ca
SUMMARY:PSSC Meeting
DESCRIPTION:
URL:https://hanwell.nbed.ca/calendar/pssc-meeting-5/
END:VEVENT
BEGIN:VEVENT
DTSTART;TZID=America/Halifax:20260408T180000
DTEND;TZID=America/Halifax:20260408T193000
DTSTAMP:20260420T030329
CREATED:20260326T144627Z
LAST-MODIFIED:20260326T144629Z
UID:10001093-1775671200-1775676600@hanwell.nbed.ca
SUMMARY:Girls Volleyball Match vs McAdam at McAdam
DESCRIPTION:
URL:https://hanwell.nbed.ca/calendar/girls-volleyball-match-vs-mcadam-at-mcadam/
END:VEVENT
BEGIN:VEVENT
DTSTART;TZID=America/Halifax:20260409T143000
DTEND;TZID=America/Halifax:20260409T153000
DTSTAMP:20260420T030329
CREATED:20260407T160113Z
LAST-MODIFIED:20260407T160116Z
UID:10001112-1775745000-1775748600@hanwell.nbed.ca
SUMMARY:Grade 5 & 6 Girls Volleyball Session
DESCRIPTION:
URL:https://hanwell.nbed.ca/calendar/grade-5-6-girls-volleyball-session-3/
END:VEVENT
BEGIN:VEVENT
DTSTART;TZID=America/Halifax:20260409T153000
DTEND;TZID=America/Halifax:20260409T170000
DTSTAMP:20260420T030329
CREATED:20260407T160202Z
LAST-MODIFIED:20260409T103206Z
UID:10001113-1775748600-1775754000@hanwell.nbed.ca
SUMMARY:Cancelled - Girls Volleyball Practice
DESCRIPTION:
URL:https://hanwell.nbed.ca/calendar/girls-volleyball-practice-14/
END:VEVENT
BEGIN:VEVENT
DTSTART;TZID=America/Halifax:20260409T180000
DTEND;TZID=America/Halifax:20260409T193000
DTSTAMP:20260420T030329
CREATED:20260326T144052Z
LAST-MODIFIED:20260326T144055Z
UID:10001087-1775757600-1775763000@hanwell.nbed.ca
SUMMARY:Boys Volleyball Game vs CNBA at CNBA
DESCRIPTION:
URL:https://hanwell.nbed.ca/calendar/boys-volleyball-game-vs-cnba-at-cnba/
END:VEVENT
BEGIN:VEVENT
DTSTART;TZID=America/Halifax:20260413T170000
DTEND;TZID=America/Halifax:20260413T183000
DTSTAMP:20260420T030329
CREATED:20260331T131450Z
LAST-MODIFIED:20260331T131453Z
UID:10001102-1776099600-1776105000@hanwell.nbed.ca
SUMMARY:Boys Volleyball Practice
DESCRIPTION:
URL:https://hanwell.nbed.ca/calendar/boys-volleyball-practice-29/
END:VEVENT
END:VCALENDAR