BEGIN:VCALENDAR
VERSION:2.0
PRODID:-//Hanwell Park Academy - ECPv6.15.20//NONSGML v1.0//EN
CALSCALE:GREGORIAN
METHOD:PUBLISH
X-WR-CALNAME:Hanwell Park Academy
X-ORIGINAL-URL:https://hanwell.nbed.ca
X-WR-CALDESC:Events for Hanwell Park Academy
REFRESH-INTERVAL;VALUE=DURATION:PT1H
X-Robots-Tag:noindex
X-PUBLISHED-TTL:PT1H
BEGIN:VTIMEZONE
TZID:America/Halifax
BEGIN:DAYLIGHT
TZOFFSETFROM:-0400
TZOFFSETTO:-0300
TZNAME:ADT
DTSTART:20250309T060000
END:DAYLIGHT
BEGIN:STANDARD
TZOFFSETFROM:-0300
TZOFFSETTO:-0400
TZNAME:AST
DTSTART:20251102T050000
END:STANDARD
BEGIN:DAYLIGHT
TZOFFSETFROM:-0400
TZOFFSETTO:-0300
TZNAME:ADT
DTSTART:20260308T060000
END:DAYLIGHT
BEGIN:STANDARD
TZOFFSETFROM:-0300
TZOFFSETTO:-0400
TZNAME:AST
DTSTART:20261101T050000
END:STANDARD
BEGIN:DAYLIGHT
TZOFFSETFROM:-0400
TZOFFSETTO:-0300
TZNAME:ADT
DTSTART:20270314T060000
END:DAYLIGHT
BEGIN:STANDARD
TZOFFSETFROM:-0300
TZOFFSETTO:-0400
TZNAME:AST
DTSTART:20271107T050000
END:STANDARD
END:VTIMEZONE
BEGIN:VEVENT
DTSTART;TZID=America/Halifax:20260414T153000
DTEND;TZID=America/Halifax:20260414T170000
DTSTAMP:20260420T012001
CREATED:20260410T104135Z
LAST-MODIFIED:20260410T104137Z
UID:10001122-1776180600-1776186000@hanwell.nbed.ca
SUMMARY:Girls Volleyball Practice
DESCRIPTION:
URL:https://hanwell.nbed.ca/calendar/girls-volleyball-practice-15/
END:VEVENT
BEGIN:VEVENT
DTSTART;TZID=America/Halifax:20260415T170000
DTEND;TZID=America/Halifax:20260415T183000
DTSTAMP:20260420T012001
CREATED:20260326T144704Z
LAST-MODIFIED:20260326T144706Z
UID:10001094-1776272400-1776277800@hanwell.nbed.ca
SUMMARY:Girls Volleyball Match vs FCA at HPA
DESCRIPTION:
URL:https://hanwell.nbed.ca/calendar/girls-volleyball-match-vs-fca-at-hpa/
END:VEVENT
BEGIN:VEVENT
DTSTART;TZID=America/Halifax:20260415T173000
DTEND;TZID=America/Halifax:20260415T183000
DTSTAMP:20260420T012001
CREATED:20260409T143129Z
LAST-MODIFIED:20260409T143131Z
UID:10001114-1776274200-1776277800@hanwell.nbed.ca
SUMMARY:HPA Gym Booking
DESCRIPTION:
URL:https://hanwell.nbed.ca/calendar/hpa-gym-booking/
END:VEVENT
BEGIN:VEVENT
DTSTART;TZID=America/Halifax:20260415T180000
DTEND;TZID=America/Halifax:20260415T193000
DTSTAMP:20260420T012001
CREATED:20260326T144217Z
LAST-MODIFIED:20260326T144219Z
UID:10001088-1776276000-1776281400@hanwell.nbed.ca
SUMMARY:Boys Volleyball Match vs FCA at FCA
DESCRIPTION:This game will be played at the Unity Centre
URL:https://hanwell.nbed.ca/calendar/boys-volleyball-match-vs-fca-at-fca/
END:VEVENT
BEGIN:VEVENT
DTSTART;TZID=America/Halifax:20260416T143000
DTEND;TZID=America/Halifax:20260416T153000
DTSTAMP:20260420T012002
CREATED:20260410T104108Z
LAST-MODIFIED:20260410T144159Z
UID:10001121-1776349800-1776353400@hanwell.nbed.ca
SUMMARY:Grade 5 & 6 Girls Volleyball Session
DESCRIPTION:
URL:https://hanwell.nbed.ca/calendar/grade-5-6-girls-volleyball-session-5/
END:VEVENT
BEGIN:VEVENT
DTSTART;TZID=America/Halifax:20260416T153000
DTEND;TZID=America/Halifax:20260416T170000
DTSTAMP:20260420T012002
CREATED:20260410T144304Z
LAST-MODIFIED:20260410T144307Z
UID:10001124-1776353400-1776358800@hanwell.nbed.ca
SUMMARY:Girls Volleyball Practice
DESCRIPTION:
URL:https://hanwell.nbed.ca/calendar/girls-volleyball-practice-16/
END:VEVENT
BEGIN:VEVENT
DTSTART;TZID=America/Halifax:20260421T143000
DTEND;TZID=America/Halifax:20260421T153000
DTSTAMP:20260420T012002
CREATED:20260419T153539Z
LAST-MODIFIED:20260419T153541Z
UID:10001125-1776781800-1776785400@hanwell.nbed.ca
SUMMARY:Grade 5 & 6 Girls Volleyball Session
DESCRIPTION:
URL:https://hanwell.nbed.ca/calendar/grade-5-6-girls-volleyball-session-6/
END:VEVENT
BEGIN:VEVENT
DTSTART;TZID=America/Halifax:20260421T153000
DTEND;TZID=America/Halifax:20260421T170000
DTSTAMP:20260420T012002
CREATED:20260419T153656Z
LAST-MODIFIED:20260419T153658Z
UID:10001127-1776785400-1776790800@hanwell.nbed.ca
SUMMARY:Girls Volleyball Practice
DESCRIPTION:
URL:https://hanwell.nbed.ca/calendar/girls-volleyball-practice-17/
END:VEVENT
BEGIN:VEVENT
DTSTART;TZID=America/Halifax:20260421T170000
DTEND;TZID=America/Halifax:20260421T183000
DTSTAMP:20260420T012002
CREATED:20260331T131527Z
LAST-MODIFIED:20260331T131530Z
UID:10001103-1776790800-1776796200@hanwell.nbed.ca
SUMMARY:Boys Volleyball Practice
DESCRIPTION:
URL:https://hanwell.nbed.ca/calendar/boys-volleyball-practice-30/
END:VEVENT
BEGIN:VEVENT
DTSTART;TZID=America/Halifax:20260422T170000
DTEND;TZID=America/Halifax:20260422T183000
DTSTAMP:20260420T012002
CREATED:20260326T144743Z
LAST-MODIFIED:20260326T144745Z
UID:10001095-1776877200-1776882600@hanwell.nbed.ca
SUMMARY:Girls Volleyball Match vs Harvey at HPA
DESCRIPTION:
URL:https://hanwell.nbed.ca/calendar/girls-volleyball-match-vs-harvey-at-hpa/
END:VEVENT
BEGIN:VEVENT
DTSTART;TZID=America/Halifax:20260422T173000
DTEND;TZID=America/Halifax:20260422T183000
DTSTAMP:20260420T012002
CREATED:20260409T143158Z
LAST-MODIFIED:20260409T143200Z
UID:10001115-1776879000-1776882600@hanwell.nbed.ca
SUMMARY:HPA Gym Booking
DESCRIPTION:
URL:https://hanwell.nbed.ca/calendar/hpa-gym-booking-2/
END:VEVENT
BEGIN:VEVENT
DTSTART;TZID=America/Halifax:20260423T143000
DTEND;TZID=America/Halifax:20260423T153000
DTSTAMP:20260420T012002
CREATED:20260419T153620Z
LAST-MODIFIED:20260419T153622Z
UID:10001126-1776954600-1776958200@hanwell.nbed.ca
SUMMARY:Grade 5 & 6 Girls Volleyball Session
DESCRIPTION:
URL:https://hanwell.nbed.ca/calendar/grade-5-6-girls-volleyball-session-7/
END:VEVENT
BEGIN:VEVENT
DTSTART;TZID=America/Halifax:20260423T153000
DTEND;TZID=America/Halifax:20260423T170000
DTSTAMP:20260420T012002
CREATED:20260419T153724Z
LAST-MODIFIED:20260419T153726Z
UID:10001128-1776958200-1776963600@hanwell.nbed.ca
SUMMARY:Girls Volleyball Practice
DESCRIPTION:
URL:https://hanwell.nbed.ca/calendar/girls-volleyball-practice-18/
END:VEVENT
BEGIN:VEVENT
DTSTART;TZID=America/Halifax:20260423T170000
DTEND;TZID=America/Halifax:20260423T183000
DTSTAMP:20260420T012002
CREATED:20251027T163917Z
LAST-MODIFIED:20251027T163918Z
UID:10000891-1776963600-1776969000@hanwell.nbed.ca
SUMMARY:School Dance Grade 3-5
DESCRIPTION:
URL:https://hanwell.nbed.ca/calendar/school-dance-grade-3-5-2/
END:VEVENT
BEGIN:VEVENT
DTSTART;TZID=America/Halifax:20260423T170000
DTEND;TZID=America/Halifax:20260423T183000
DTSTAMP:20260420T012002
CREATED:20260326T144300Z
LAST-MODIFIED:20260331T145322Z
UID:10001089-1776963600-1776969000@hanwell.nbed.ca
SUMMARY:Boys Volleyball Match vs Harvey at HPA
DESCRIPTION:
URL:https://hanwell.nbed.ca/calendar/boys-volleyball-match-vs-harvey-at-hpa-3/
END:VEVENT
BEGIN:VEVENT
DTSTART;TZID=America/Halifax:20260423T190000
DTEND;TZID=America/Halifax:20260423T203000
DTSTAMP:20260420T012002
CREATED:20251027T164104Z
LAST-MODIFIED:20251027T164105Z
UID:10000894-1776970800-1776976200@hanwell.nbed.ca
SUMMARY:School Dance Grades 6-8
DESCRIPTION:
URL:https://hanwell.nbed.ca/calendar/school-dance-grades-6-8-3/2026-04-23/
END:VEVENT
BEGIN:VEVENT
DTSTART;TZID=America/Halifax:20260424T120000
DTEND;TZID=America/Halifax:20260426T170000
DTSTAMP:20260420T012002
CREATED:20260331T131651Z
LAST-MODIFIED:20260331T131653Z
UID:10001105-1777032000-1777222800@hanwell.nbed.ca
SUMMARY:STU Cup Volleyball Tournament
DESCRIPTION:Schedule TBD
URL:https://hanwell.nbed.ca/calendar/stu-cup-volleyball-tournament/
END:VEVENT
BEGIN:VEVENT
DTSTART;TZID=America/Halifax:20260427T170000
DTEND;TZID=America/Halifax:20260427T183000
DTSTAMP:20260420T012002
CREATED:20260331T131718Z
LAST-MODIFIED:20260331T131720Z
UID:10001106-1777309200-1777314600@hanwell.nbed.ca
SUMMARY:Boys Volleyball Practice
DESCRIPTION:
URL:https://hanwell.nbed.ca/calendar/boys-volleyball-practice-32/
END:VEVENT
BEGIN:VEVENT
DTSTART;TZID=America/Halifax:20260429T173000
DTEND;TZID=America/Halifax:20260429T183000
DTSTAMP:20260420T012002
CREATED:20260409T143220Z
LAST-MODIFIED:20260409T143222Z
UID:10001116-1777483800-1777487400@hanwell.nbed.ca
SUMMARY:HPA Gym Booking
DESCRIPTION:
URL:https://hanwell.nbed.ca/calendar/hpa-gym-booking-3/
END:VEVENT
BEGIN:VEVENT
DTSTART;TZID=America/Halifax:20260429T180000
DTEND;TZID=America/Halifax:20260429T193000
DTSTAMP:20260420T012002
CREATED:20260326T144833Z
LAST-MODIFIED:20260326T144835Z
UID:10001096-1777485600-1777491000@hanwell.nbed.ca
SUMMARY:Girls Volleyball Match vs George St. at George St.
DESCRIPTION:
URL:https://hanwell.nbed.ca/calendar/girls-volleyball-match-vs-george-st-at-george-st/
END:VEVENT
BEGIN:VEVENT
DTSTART;TZID=America/Halifax:20260430T170000
DTEND;TZID=America/Halifax:20260430T183000
DTSTAMP:20260420T012002
CREATED:20260326T144336Z
LAST-MODIFIED:20260326T144338Z
UID:10001090-1777568400-1777573800@hanwell.nbed.ca
SUMMARY:Boys Volleyball Match vs Stanley at HPA
DESCRIPTION:
URL:https://hanwell.nbed.ca/calendar/boys-volleyball-match-vs-stanley-at-hpa/
END:VEVENT
BEGIN:VEVENT
DTSTART;TZID=America/Halifax:20260501T080000
DTEND;TZID=America/Halifax:20260501T170000
DTSTAMP:20260420T012002
CREATED:20250912T135513Z
LAST-MODIFIED:20250912T135515Z
UID:10000846-1777622400-1777654800@hanwell.nbed.ca
SUMMARY:NBTA Council Day - No School for Student
DESCRIPTION:
URL:https://hanwell.nbed.ca/calendar/nbta-council-day-no-school-for-student/
END:VEVENT
BEGIN:VEVENT
DTSTART;TZID=America/Halifax:20260504T170000
DTEND;TZID=America/Halifax:20260504T183000
DTSTAMP:20260420T012002
CREATED:20260331T131752Z
LAST-MODIFIED:20260331T131754Z
UID:10001107-1777914000-1777919400@hanwell.nbed.ca
SUMMARY:Boys Volleyball Practice
DESCRIPTION:
URL:https://hanwell.nbed.ca/calendar/boys-volleyball-practice-33/
END:VEVENT
BEGIN:VEVENT
DTSTART;TZID=America/Halifax:20260505T170000
DTEND;TZID=America/Halifax:20260505T183000
DTSTAMP:20260420T012002
CREATED:20260326T144439Z
LAST-MODIFIED:20260326T144442Z
UID:10001091-1778000400-1778005800@hanwell.nbed.ca
SUMMARY:Boys Volleyball Match vs Harvey at HPA
DESCRIPTION:
URL:https://hanwell.nbed.ca/calendar/boys-volleyball-match-vs-harvey-at-hpa-4/
END:VEVENT
BEGIN:VEVENT
DTSTART;TZID=America/Halifax:20260505T183000
DTEND;TZID=America/Halifax:20260505T200000
DTSTAMP:20260420T012002
CREATED:20260326T144918Z
LAST-MODIFIED:20260326T144920Z
UID:10001097-1778005800-1778011200@hanwell.nbed.ca
SUMMARY:Girls Volleyball Match vs Bliss Carman at Bliss
DESCRIPTION:
URL:https://hanwell.nbed.ca/calendar/girls-volleyball-match-vs-bliss-carman-at-bliss/
END:VEVENT
BEGIN:VEVENT
DTSTART;TZID=America/Halifax:20260506T080000
DTEND;TZID=America/Halifax:20260506T170000
DTSTAMP:20260420T012002
CREATED:20260409T143240Z
LAST-MODIFIED:20260409T143242Z
UID:10001117-1778054400-1778086800@hanwell.nbed.ca
SUMMARY:HPA Gym Booking
DESCRIPTION:
URL:https://hanwell.nbed.ca/calendar/hpa-gym-booking-4/
END:VEVENT
BEGIN:VEVENT
DTSTART;TZID=America/Halifax:20260507T170000
DTEND;TZID=America/Halifax:20260507T183000
DTSTAMP:20260420T012002
CREATED:20260331T131817Z
LAST-MODIFIED:20260331T131819Z
UID:10001108-1778173200-1778178600@hanwell.nbed.ca
SUMMARY:Boys Volleyball Practice
DESCRIPTION:
URL:https://hanwell.nbed.ca/calendar/boys-volleyball-practice-34/
END:VEVENT
BEGIN:VEVENT
DTSTART;TZID=America/Halifax:20260511T080000
DTEND;TZID=America/Halifax:20260511T170000
DTSTAMP:20260420T012002
CREATED:20250912T135628Z
LAST-MODIFIED:20250912T135653Z
UID:10000847-1778486400-1778518800@hanwell.nbed.ca
SUMMARY:NBTA Branch Day - No School for Students
DESCRIPTION:
URL:https://hanwell.nbed.ca/calendar/nbta-branch-day-no-school-students/
END:VEVENT
BEGIN:VEVENT
DTSTART;TZID=America/Halifax:20260512T163000
DTEND;TZID=America/Halifax:20260512T180000
DTSTAMP:20260420T012002
CREATED:20260326T144533Z
LAST-MODIFIED:20260326T144535Z
UID:10001092-1778603400-1778608800@hanwell.nbed.ca
SUMMARY:Boys Volleyball Match vs George St. at GSMS
DESCRIPTION:
URL:https://hanwell.nbed.ca/calendar/boys-volleyball-match-vs-george-st-at-gsms/
END:VEVENT
BEGIN:VEVENT
DTSTART;TZID=America/Halifax:20260513T170000
DTEND;TZID=America/Halifax:20260513T183000
DTSTAMP:20260420T012002
CREATED:20260409T143304Z
LAST-MODIFIED:20260409T143306Z
UID:10001118-1778691600-1778697000@hanwell.nbed.ca
SUMMARY:HPA Gym Booking
DESCRIPTION:
URL:https://hanwell.nbed.ca/calendar/hpa-gym-booking-5/
END:VEVENT
END:VCALENDAR