BEGIN:VCALENDAR
VERSION:2.0
PRODID:-//Hanwell Park Academy - ECPv6.15.20//NONSGML v1.0//EN
CALSCALE:GREGORIAN
METHOD:PUBLISH
X-ORIGINAL-URL:https://hanwell.nbed.ca
X-WR-CALDESC:Events for Hanwell Park Academy
REFRESH-INTERVAL;VALUE=DURATION:PT1H
X-Robots-Tag:noindex
X-PUBLISHED-TTL:PT1H
BEGIN:VTIMEZONE
TZID:America/Halifax
BEGIN:DAYLIGHT
TZOFFSETFROM:-0400
TZOFFSETTO:-0300
TZNAME:ADT
DTSTART:20210314T060000
END:DAYLIGHT
BEGIN:STANDARD
TZOFFSETFROM:-0300
TZOFFSETTO:-0400
TZNAME:AST
DTSTART:20211107T050000
END:STANDARD
BEGIN:DAYLIGHT
TZOFFSETFROM:-0400
TZOFFSETTO:-0300
TZNAME:ADT
DTSTART:20220313T060000
END:DAYLIGHT
BEGIN:STANDARD
TZOFFSETFROM:-0300
TZOFFSETTO:-0400
TZNAME:AST
DTSTART:20221106T050000
END:STANDARD
BEGIN:DAYLIGHT
TZOFFSETFROM:-0400
TZOFFSETTO:-0300
TZNAME:ADT
DTSTART:20230312T060000
END:DAYLIGHT
BEGIN:STANDARD
TZOFFSETFROM:-0300
TZOFFSETTO:-0400
TZNAME:AST
DTSTART:20231105T050000
END:STANDARD
END:VTIMEZONE
BEGIN:VEVENT
DTSTART;TZID=America/Halifax:20221201T144500
DTEND;TZID=America/Halifax:20221201T161500
DTSTAMP:20260424T004125
CREATED:20221124T183420Z
LAST-MODIFIED:20221124T183424Z
UID:10000105-1669905900-1669911300@hanwell.nbed.ca
SUMMARY:Boys Basketball Practice
DESCRIPTION:
URL:https://hanwell.nbed.ca/calendar/boys-basketball-practice-7/
END:VEVENT
BEGIN:VEVENT
DTSTART;TZID=America/Halifax:20221205T144500
DTEND;TZID=America/Halifax:20221205T161500
DTSTAMP:20260424T004125
CREATED:20221130T165937Z
LAST-MODIFIED:20221130T165940Z
UID:10000106-1670251500-1670256900@hanwell.nbed.ca
SUMMARY:Girls Basketball Practice
DESCRIPTION:
URL:https://hanwell.nbed.ca/calendar/girls-basketball-practice-8/
END:VEVENT
BEGIN:VEVENT
DTSTART;TZID=America/Halifax:20221205T180000
DTEND;TZID=America/Halifax:20221205T193000
DTSTAMP:20260424T004125
CREATED:20221116T122453Z
LAST-MODIFIED:20221116T122456Z
UID:10000099-1670263200-1670268600@hanwell.nbed.ca
SUMMARY:Boys Basketball Game against Harvey at HPA
DESCRIPTION:
URL:https://hanwell.nbed.ca/calendar/boys-basketball-game-against-harvey-at-hpa/
END:VEVENT
BEGIN:VEVENT
DTSTART;TZID=America/Halifax:20221206T144500
DTEND;TZID=America/Halifax:20221206T161500
DTSTAMP:20260424T004125
CREATED:20221202T162528Z
LAST-MODIFIED:20221202T162532Z
UID:10000107-1670337900-1670343300@hanwell.nbed.ca
SUMMARY:Boys Basketball Practice
DESCRIPTION:
URL:https://hanwell.nbed.ca/calendar/boys-basketball-practice-8/
END:VEVENT
BEGIN:VEVENT
DTSTART;TZID=America/Halifax:20221208T144500
DTEND;TZID=America/Halifax:20221208T161500
DTSTAMP:20260424T004125
CREATED:20221202T162610Z
LAST-MODIFIED:20221202T162614Z
UID:10000108-1670510700-1670516100@hanwell.nbed.ca
SUMMARY:Boys Basketball Practice
DESCRIPTION:
URL:https://hanwell.nbed.ca/calendar/boys-basketball-practice-9/
END:VEVENT
BEGIN:VEVENT
DTSTART;TZID=America/Halifax:20221208T180000
DTEND;TZID=America/Halifax:20221208T193000
DTSTAMP:20260424T004125
CREATED:20221117T004243Z
LAST-MODIFIED:20221117T004247Z
UID:10000043-1670522400-1670527800@hanwell.nbed.ca
SUMMARY:Girls Basketball Game at FCA
DESCRIPTION:
URL:https://hanwell.nbed.ca/calendar/girls-basketball-game-at-fca/
END:VEVENT
BEGIN:VEVENT
DTSTART;TZID=America/Halifax:20221213T170000
DTEND;TZID=America/Halifax:20221213T183000
DTSTAMP:20260424T004125
CREATED:20221116T122603Z
LAST-MODIFIED:20221116T122607Z
UID:10000100-1670950800-1670956200@hanwell.nbed.ca
SUMMARY:Boys Basketball Game against BCMS at BCMS
DESCRIPTION:
URL:https://hanwell.nbed.ca/calendar/boys-basketball-game-against-bcms-at-bcms/
END:VEVENT
BEGIN:VEVENT
DTSTART;TZID=America/Halifax:20221214T144500
DTEND;TZID=America/Halifax:20221214T161500
DTSTAMP:20260424T004125
CREATED:20221207T190951Z
LAST-MODIFIED:20221207T190954Z
UID:10000111-1671029100-1671034500@hanwell.nbed.ca
SUMMARY:Girls Basketball Practice
DESCRIPTION:
URL:https://hanwell.nbed.ca/calendar/girls-basketball-practice-9/
END:VEVENT
BEGIN:VEVENT
DTSTART;TZID=America/Halifax:20221215T144500
DTEND;TZID=America/Halifax:20221215T161500
DTSTAMP:20260424T004125
CREATED:20221207T191155Z
LAST-MODIFIED:20221207T191158Z
UID:10000113-1671115500-1671120900@hanwell.nbed.ca
SUMMARY:Boys Basketball Practice
DESCRIPTION:
URL:https://hanwell.nbed.ca/calendar/boys-basketball-practice-11/
END:VEVENT
BEGIN:VEVENT
DTSTART;TZID=America/Halifax:20221215T163000
DTEND;TZID=America/Halifax:20221215T180000
DTSTAMP:20260424T004125
CREATED:20221116T123135Z
LAST-MODIFIED:20221116T123137Z
UID:10000037-1671121800-1671127200@hanwell.nbed.ca
SUMMARY:Girls Basketball Game against McAdam at McAdam
DESCRIPTION:
URL:https://hanwell.nbed.ca/calendar/girls-basketball-game-against-mcadam-at-mcadam/
END:VEVENT
BEGIN:VEVENT
DTSTART;TZID=America/Halifax:20221216T144500
DTEND;TZID=America/Halifax:20221216T161500
DTSTAMP:20260424T004125
CREATED:20221207T191032Z
LAST-MODIFIED:20221216T112350Z
UID:10000112-1671201900-1671207300@hanwell.nbed.ca
SUMMARY:CANCELLED - Girls Basketball Practice
DESCRIPTION:
URL:https://hanwell.nbed.ca/calendar/girls-basketball-practice-10/
END:VEVENT
BEGIN:VEVENT
DTSTART;TZID=America/Halifax:20221219T144500
DTEND;TZID=America/Halifax:20221219T161500
DTSTAMP:20260424T004125
CREATED:20221214T153247Z
LAST-MODIFIED:20221219T155540Z
UID:10000114-1671461100-1671466500@hanwell.nbed.ca
SUMMARY:CANCELLED - Girls Basketball Practice
DESCRIPTION:
URL:https://hanwell.nbed.ca/calendar/girls-basketball-practice-11/
END:VEVENT
BEGIN:VEVENT
DTSTART;TZID=America/Halifax:20221219T163000
DTEND;TZID=America/Halifax:20221219T180000
DTSTAMP:20260424T004125
CREATED:20221116T122656Z
LAST-MODIFIED:20221219T142725Z
UID:10000101-1671467400-1671472800@hanwell.nbed.ca
SUMMARY:POSTPONED Boys Basketball Game against Nackawic at Nackawic
DESCRIPTION:
URL:https://hanwell.nbed.ca/calendar/boys-basketball-game-against-nackawic-at-hpa/
END:VEVENT
BEGIN:VEVENT
DTSTART;TZID=America/Halifax:20221221T144500
DTEND;TZID=America/Halifax:20221221T161500
DTSTAMP:20260424T004125
CREATED:20221214T153331Z
LAST-MODIFIED:20221214T153334Z
UID:10000115-1671633900-1671639300@hanwell.nbed.ca
SUMMARY:Girls Basketball Practice
DESCRIPTION:
URL:https://hanwell.nbed.ca/calendar/girls-basketball-practice-12/
END:VEVENT
BEGIN:VEVENT
DTSTART;TZID=America/Halifax:20221222T163000
DTEND;TZID=America/Halifax:20221222T180000
DTSTAMP:20260424T004125
CREATED:20221116T123233Z
LAST-MODIFIED:20221116T123236Z
UID:10000039-1671726600-1671732000@hanwell.nbed.ca
SUMMARY:Girls Basketball Game against Harvey at HPA
DESCRIPTION:
URL:https://hanwell.nbed.ca/calendar/girls-basketball-game-against-harvey-at-hpa/
END:VEVENT
END:VCALENDAR