BEGIN:VCALENDAR
VERSION:2.0
PRODID:-//Hanwell Park Academy - ECPv6.15.20//NONSGML v1.0//EN
CALSCALE:GREGORIAN
METHOD:PUBLISH
X-ORIGINAL-URL:https://hanwell.nbed.ca
X-WR-CALDESC:Events for Hanwell Park Academy
REFRESH-INTERVAL;VALUE=DURATION:PT1H
X-Robots-Tag:noindex
X-PUBLISHED-TTL:PT1H
BEGIN:VTIMEZONE
TZID:America/Moncton
BEGIN:DAYLIGHT
TZOFFSETFROM:-0400
TZOFFSETTO:-0300
TZNAME:ADT
DTSTART:20220313T060000
END:DAYLIGHT
BEGIN:STANDARD
TZOFFSETFROM:-0300
TZOFFSETTO:-0400
TZNAME:AST
DTSTART:20221106T050000
END:STANDARD
BEGIN:DAYLIGHT
TZOFFSETFROM:-0400
TZOFFSETTO:-0300
TZNAME:ADT
DTSTART:20230312T060000
END:DAYLIGHT
BEGIN:STANDARD
TZOFFSETFROM:-0300
TZOFFSETTO:-0400
TZNAME:AST
DTSTART:20231105T050000
END:STANDARD
BEGIN:DAYLIGHT
TZOFFSETFROM:-0400
TZOFFSETTO:-0300
TZNAME:ADT
DTSTART:20240310T060000
END:DAYLIGHT
BEGIN:STANDARD
TZOFFSETFROM:-0300
TZOFFSETTO:-0400
TZNAME:AST
DTSTART:20241103T050000
END:STANDARD
END:VTIMEZONE
BEGIN:VTIMEZONE
TZID:America/Halifax
BEGIN:DAYLIGHT
TZOFFSETFROM:-0400
TZOFFSETTO:-0300
TZNAME:ADT
DTSTART:20220313T060000
END:DAYLIGHT
BEGIN:STANDARD
TZOFFSETFROM:-0300
TZOFFSETTO:-0400
TZNAME:AST
DTSTART:20221106T050000
END:STANDARD
BEGIN:DAYLIGHT
TZOFFSETFROM:-0400
TZOFFSETTO:-0300
TZNAME:ADT
DTSTART:20230312T060000
END:DAYLIGHT
BEGIN:STANDARD
TZOFFSETFROM:-0300
TZOFFSETTO:-0400
TZNAME:AST
DTSTART:20231105T050000
END:STANDARD
BEGIN:DAYLIGHT
TZOFFSETFROM:-0400
TZOFFSETTO:-0300
TZNAME:ADT
DTSTART:20240310T060000
END:DAYLIGHT
BEGIN:STANDARD
TZOFFSETFROM:-0300
TZOFFSETTO:-0400
TZNAME:AST
DTSTART:20241103T050000
END:STANDARD
END:VTIMEZONE
BEGIN:VEVENT
DTSTART;TZID=America/Moncton:20230109T000000
DTEND;TZID=America/Moncton:20230109T235959
DTSTAMP:20260423T231428
CREATED:20220502T161143Z
LAST-MODIFIED:20220921T131619Z
UID:10000002-1673222400-1673308799@hanwell.nbed.ca
SUMMARY:First Day of Classes
DESCRIPTION:
URL:https://hanwell.nbed.ca/calendar/first-day-of-classes-2/
END:VEVENT
BEGIN:VEVENT
DTSTART;TZID=America/Halifax:20230109T170000
DTEND;TZID=America/Halifax:20230109T183000
DTSTAMP:20260423T231428
CREATED:20221116T122816Z
LAST-MODIFIED:20221116T122819Z
UID:10000033-1673283600-1673289000@hanwell.nbed.ca
SUMMARY:Boys Basketball Game against McAdam at HPA
DESCRIPTION:
URL:https://hanwell.nbed.ca/calendar/boys-basketball-game-against-mcadam-at-hpa/
END:VEVENT
BEGIN:VEVENT
DTSTART;TZID=America/Halifax:20230110T144500
DTEND;TZID=America/Halifax:20230110T161500
DTSTAMP:20260423T231428
CREATED:20230105T182128Z
LAST-MODIFIED:20230105T182137Z
UID:10000117-1673361900-1673367300@hanwell.nbed.ca
SUMMARY:Girls Basketball Practice
DESCRIPTION:
URL:https://hanwell.nbed.ca/calendar/girls-basketball-practice-13/
END:VEVENT
BEGIN:VEVENT
DTSTART;TZID=America/Halifax:20230110T144500
DTEND;TZID=America/Halifax:20230110T161500
DTSTAMP:20260423T231428
CREATED:20230110T121330Z
LAST-MODIFIED:20230110T121341Z
UID:10000119-1673361900-1673367300@hanwell.nbed.ca
SUMMARY:Boys Basketball Practice
DESCRIPTION:
URL:https://hanwell.nbed.ca/calendar/boys-basketball-practice-10/
END:VEVENT
BEGIN:VEVENT
DTSTART;TZID=America/Halifax:20230111T144500
DTEND;TZID=America/Halifax:20230111T161500
DTSTAMP:20260423T231428
CREATED:20230105T182308Z
LAST-MODIFIED:20230105T182319Z
UID:10000118-1673448300-1673453700@hanwell.nbed.ca
SUMMARY:Girls Basketball Practice
DESCRIPTION:
URL:https://hanwell.nbed.ca/calendar/girls-basketball-practice-14/
END:VEVENT
BEGIN:VEVENT
DTSTART;TZID=America/Halifax:20230111T163000
DTEND;TZID=America/Halifax:20230111T180000
DTSTAMP:20260423T231428
CREATED:20221206T134628Z
LAST-MODIFIED:20221206T134632Z
UID:10000109-1673454600-1673460000@hanwell.nbed.ca
SUMMARY:Boys Basketball Game at McAdam
DESCRIPTION:
URL:https://hanwell.nbed.ca/calendar/boys-basketball-game-at-mcadam/
END:VEVENT
BEGIN:VEVENT
DTSTART;TZID=America/Halifax:20230116T170000
DTEND;TZID=America/Halifax:20230116T183000
DTSTAMP:20260423T231428
CREATED:20221207T123537Z
LAST-MODIFIED:20230116T114251Z
UID:10000110-1673888400-1673893800@hanwell.nbed.ca
SUMMARY:Girls Basketball Game against Harvey at HPA - POSTPONED
DESCRIPTION:
URL:https://hanwell.nbed.ca/calendar/girls-basketball-game-against-harvey-at-hpa-2/
END:VEVENT
BEGIN:VEVENT
DTSTART;TZID=America/Halifax:20230117T144500
DTEND;TZID=America/Halifax:20230117T161500
DTSTAMP:20260423T231428
CREATED:20230115T151032Z
LAST-MODIFIED:20230115T151044Z
UID:10000124-1673966700-1673972100@hanwell.nbed.ca
SUMMARY:Boys Basketball Practice
DESCRIPTION:
URL:https://hanwell.nbed.ca/calendar/boys-basketball-practice-12/
END:VEVENT
BEGIN:VEVENT
DTSTART;TZID=America/Halifax:20230118T150000
DTEND;TZID=America/Halifax:20230118T163000
DTSTAMP:20260423T231428
CREATED:20230112T002350Z
LAST-MODIFIED:20230112T002400Z
UID:10000122-1674054000-1674059400@hanwell.nbed.ca
SUMMARY:Girls Basketball Practice
DESCRIPTION:
URL:https://hanwell.nbed.ca/calendar/girls-basketball-practice-15/
END:VEVENT
BEGIN:VEVENT
DTSTART;TZID=America/Halifax:20230118T163000
DTEND;TZID=America/Halifax:20230118T180000
DTSTAMP:20260423T231428
CREATED:20221223T134811Z
LAST-MODIFIED:20221223T134827Z
UID:10000116-1674059400-1674064800@hanwell.nbed.ca
SUMMARY:Boys Basketball Game at Nackawic
DESCRIPTION:
URL:https://hanwell.nbed.ca/calendar/boys-basketball-game-at-nackawic/
END:VEVENT
BEGIN:VEVENT
DTSTART;TZID=America/Halifax:20230119T163000
DTEND;TZID=America/Halifax:20230119T180000
DTSTAMP:20260423T231428
CREATED:20230116T161128Z
LAST-MODIFIED:20230116T161132Z
UID:10000126-1674145800-1674151200@hanwell.nbed.ca
SUMMARY:Girls Basketball Game against Harvey at HPA
DESCRIPTION:
URL:https://hanwell.nbed.ca/calendar/girls-basketball-game-against-harvey-at-hpa-3/
END:VEVENT
BEGIN:VEVENT
DTSTART;TZID=America/Halifax:20230123T144500
DTEND;TZID=America/Halifax:20230123T161500
DTSTAMP:20260423T231428
CREATED:20230120T133703Z
LAST-MODIFIED:20230123T124716Z
UID:10000135-1674485100-1674490500@hanwell.nbed.ca
SUMMARY:Boys Basketball Practice - CANCELLED
DESCRIPTION:
URL:https://hanwell.nbed.ca/calendar/boys-basketball-practice-13/
END:VEVENT
BEGIN:VEVENT
DTSTART;TZID=America/Halifax:20230123T150000
DTEND;TZID=America/Halifax:20230123T163000
DTSTAMP:20260423T231428
CREATED:20230120T132255Z
LAST-MODIFIED:20230123T124704Z
UID:10000131-1674486000-1674491400@hanwell.nbed.ca
SUMMARY:Girls Basketball Practice - CANCELLED
DESCRIPTION:
URL:https://hanwell.nbed.ca/calendar/girls-basketball-practice-16/
END:VEVENT
BEGIN:VEVENT
DTSTART;TZID=America/Halifax:20230124T190000
DTEND;TZID=America/Halifax:20230124T203000
DTSTAMP:20260423T231428
CREATED:20230120T132428Z
LAST-MODIFIED:20230120T172353Z
UID:10000133-1674586800-1674592200@hanwell.nbed.ca
SUMMARY:Girls Basketball Districts against Keswick Valley at ELE
DESCRIPTION:
URL:https://hanwell.nbed.ca/calendar/girls-basketball-districts-at-ele-game-time-tbd/
END:VEVENT
BEGIN:VEVENT
DTSTART;TZID=America/Halifax:20230125T160000
DTEND;TZID=America/Halifax:20230125T173000
DTSTAMP:20260423T231428
CREATED:20230119T125626Z
LAST-MODIFIED:20230119T125637Z
UID:10000129-1674662400-1674667800@hanwell.nbed.ca
SUMMARY:Boys Basketball Districts against Stanley at HPA
DESCRIPTION:District Game 1 in Middle School Gym
URL:https://hanwell.nbed.ca/calendar/boys-basketball-districts-against-stanley-at-hpa/
END:VEVENT
BEGIN:VEVENT
DTSTART;TZID=America/Halifax:20230127T145000
DTEND;TZID=America/Halifax:20230127T162000
DTSTAMP:20260423T231428
CREATED:20230125T122102Z
LAST-MODIFIED:20230125T122110Z
UID:10000137-1674831000-1674836400@hanwell.nbed.ca
SUMMARY:Girls Basketball Practice
DESCRIPTION:
URL:https://hanwell.nbed.ca/calendar/girls-basketball-practice-17/
END:VEVENT
BEGIN:VEVENT
DTSTART;TZID=America/Halifax:20230130T145000
DTEND;TZID=America/Halifax:20230130T162000
DTSTAMP:20260423T231428
CREATED:20230125T122150Z
LAST-MODIFIED:20230125T122153Z
UID:10000138-1675090200-1675095600@hanwell.nbed.ca
SUMMARY:Girls Basketball Practice
DESCRIPTION:
URL:https://hanwell.nbed.ca/calendar/girls-basketball-practice-18/
END:VEVENT
END:VCALENDAR