BEGIN:VCALENDAR
VERSION:2.0
PRODID:-//Hanwell Park Academy - ECPv6.15.20//NONSGML v1.0//EN
CALSCALE:GREGORIAN
METHOD:PUBLISH
X-WR-CALNAME:Hanwell Park Academy
X-ORIGINAL-URL:https://hanwell.nbed.ca
X-WR-CALDESC:Events for Hanwell Park Academy
REFRESH-INTERVAL;VALUE=DURATION:PT1H
X-Robots-Tag:noindex
X-PUBLISHED-TTL:PT1H
BEGIN:VTIMEZONE
TZID:America/Moncton
BEGIN:DAYLIGHT
TZOFFSETFROM:-0400
TZOFFSETTO:-0300
TZNAME:ADT
DTSTART:20230312T060000
END:DAYLIGHT
BEGIN:STANDARD
TZOFFSETFROM:-0300
TZOFFSETTO:-0400
TZNAME:AST
DTSTART:20231105T050000
END:STANDARD
BEGIN:DAYLIGHT
TZOFFSETFROM:-0400
TZOFFSETTO:-0300
TZNAME:ADT
DTSTART:20240310T060000
END:DAYLIGHT
BEGIN:STANDARD
TZOFFSETFROM:-0300
TZOFFSETTO:-0400
TZNAME:AST
DTSTART:20241103T050000
END:STANDARD
BEGIN:DAYLIGHT
TZOFFSETFROM:-0400
TZOFFSETTO:-0300
TZNAME:ADT
DTSTART:20250309T060000
END:DAYLIGHT
BEGIN:STANDARD
TZOFFSETFROM:-0300
TZOFFSETTO:-0400
TZNAME:AST
DTSTART:20251102T050000
END:STANDARD
END:VTIMEZONE
BEGIN:VTIMEZONE
TZID:America/Halifax
BEGIN:DAYLIGHT
TZOFFSETFROM:-0400
TZOFFSETTO:-0300
TZNAME:ADT
DTSTART:20230312T060000
END:DAYLIGHT
BEGIN:STANDARD
TZOFFSETFROM:-0300
TZOFFSETTO:-0400
TZNAME:AST
DTSTART:20231105T050000
END:STANDARD
BEGIN:DAYLIGHT
TZOFFSETFROM:-0400
TZOFFSETTO:-0300
TZNAME:ADT
DTSTART:20240310T060000
END:DAYLIGHT
BEGIN:STANDARD
TZOFFSETFROM:-0300
TZOFFSETTO:-0400
TZNAME:AST
DTSTART:20241103T050000
END:STANDARD
BEGIN:DAYLIGHT
TZOFFSETFROM:-0400
TZOFFSETTO:-0300
TZNAME:ADT
DTSTART:20250309T060000
END:DAYLIGHT
BEGIN:STANDARD
TZOFFSETFROM:-0300
TZOFFSETTO:-0400
TZNAME:AST
DTSTART:20251102T050000
END:STANDARD
END:VTIMEZONE
BEGIN:VEVENT
DTSTART;TZID=America/Moncton:20240304T000000
DTEND;TZID=America/Moncton:20240308T235900
DTSTAMP:20260421T020707
CREATED:20230616T122718Z
LAST-MODIFIED:20230620T120217Z
UID:10000154-1709510400-1709942340@hanwell.nbed.ca
SUMMARY:March Break
DESCRIPTION:Schools closed.
URL:https://hanwell.nbed.ca/calendar/march-break-2/
CATEGORIES:Current Students
END:VEVENT
BEGIN:VEVENT
DTSTART;TZID=America/Halifax:20240313T144500
DTEND;TZID=America/Halifax:20240313T160000
DTSTAMP:20260421T020707
CREATED:20240311T174500Z
LAST-MODIFIED:20240311T174502Z
UID:10000414-1710341100-1710345600@hanwell.nbed.ca
SUMMARY:Girls Badminton Practice
DESCRIPTION:
URL:https://hanwell.nbed.ca/calendar/girls-badminton-practice-13/
CATEGORIES:Athletics
END:VEVENT
BEGIN:VEVENT
DTSTART;TZID=America/Halifax:20240314T070000
DTEND;TZID=America/Halifax:20240314T080000
DTSTAMP:20260421T020707
CREATED:20240311T174854Z
LAST-MODIFIED:20240311T174855Z
UID:10000416-1710399600-1710403200@hanwell.nbed.ca
SUMMARY:Middle School Girls Volleyball Skills and Drills
DESCRIPTION:
URL:https://hanwell.nbed.ca/calendar/middle-school-girls-volleyball-skills-and-drills-17/
CATEGORIES:Athletics
END:VEVENT
BEGIN:VEVENT
DTSTART;TZID=America/Halifax:20240314T160000
DTEND;TZID=America/Halifax:20240314T173000
DTSTAMP:20260421T020707
CREATED:20240309T120751Z
LAST-MODIFIED:20240309T120753Z
UID:10000412-1710432000-1710437400@hanwell.nbed.ca
SUMMARY:Girls and Boys Badminton Match against Keswick Valley at HPA
DESCRIPTION:
URL:https://hanwell.nbed.ca/calendar/girls-and-boys-badminton-match-against-keswick-valley-at-hpa/
CATEGORIES:Athletics
END:VEVENT
BEGIN:VEVENT
DTSTART;TZID=America/Halifax:20240315T144500
DTEND;TZID=America/Halifax:20240315T163000
DTSTAMP:20260421T020707
CREATED:20240311T175005Z
LAST-MODIFIED:20240311T175007Z
UID:10000417-1710513900-1710520200@hanwell.nbed.ca
SUMMARY:Middle School Girls Volleyball Skills and Drills
DESCRIPTION:
URL:https://hanwell.nbed.ca/calendar/middle-school-girls-volleyball-skills-and-drills-18/
CATEGORIES:Athletics
END:VEVENT
BEGIN:VEVENT
DTSTART;TZID=America/Halifax:20240318T144500
DTEND;TZID=America/Halifax:20240318T160000
DTSTAMP:20260421T020707
CREATED:20240311T174548Z
LAST-MODIFIED:20240311T174549Z
UID:10000415-1710773100-1710777600@hanwell.nbed.ca
SUMMARY:Girls Badminton Practice
DESCRIPTION:
URL:https://hanwell.nbed.ca/calendar/girls-badminton-practice-14/
CATEGORIES:Athletics
END:VEVENT
BEGIN:VEVENT
DTSTART;TZID=America/Halifax:20240319T144500
DTEND;TZID=America/Halifax:20240319T163000
DTSTAMP:20260421T020707
CREATED:20240317T143706Z
LAST-MODIFIED:20240317T143708Z
UID:10000420-1710859500-1710865800@hanwell.nbed.ca
SUMMARY:Middle School Girls Volleyball Tryouts
DESCRIPTION:
URL:https://hanwell.nbed.ca/calendar/middle-school-girls-volleyball-tryouts/2024-03-19/
CATEGORIES:Athletics
END:VEVENT
BEGIN:VEVENT
DTSTART;TZID=America/Halifax:20240320T160000
DTEND;TZID=America/Halifax:20240320T173000
DTSTAMP:20260421T020707
CREATED:20240311T155027Z
LAST-MODIFIED:20240311T155028Z
UID:10000413-1710950400-1710955800@hanwell.nbed.ca
SUMMARY:Boys and Girls badminton match against Harvey at HPA
DESCRIPTION:
URL:https://hanwell.nbed.ca/calendar/boys-and-girls-badminton-match-against-harvey-at-hpa/
CATEGORIES:Athletics
END:VEVENT
BEGIN:VEVENT
DTSTART;TZID=America/Halifax:20240321T144500
DTEND;TZID=America/Halifax:20240321T163000
DTSTAMP:20260421T020707
CREATED:20240317T143706Z
LAST-MODIFIED:20240317T143708Z
UID:10000421-1711032300-1711038600@hanwell.nbed.ca
SUMMARY:Middle School Girls Volleyball Tryouts
DESCRIPTION:
URL:https://hanwell.nbed.ca/calendar/middle-school-girls-volleyball-tryouts/2024-03-21/
CATEGORIES:Athletics
END:VEVENT
BEGIN:VEVENT
DTSTART;TZID=America/Halifax:20240321T154500
DTEND;TZID=America/Halifax:20240321T183000
DTSTAMP:20260421T020707
CREATED:20240315T111302Z
LAST-MODIFIED:20240315T111304Z
UID:10000418-1711035900-1711045800@hanwell.nbed.ca
SUMMARY:Boys Badminton Districts at CNBA
DESCRIPTION:
URL:https://hanwell.nbed.ca/calendar/boys-badminton-districts-at-cnba/
CATEGORIES:Athletics
END:VEVENT
BEGIN:VEVENT
DTSTART;TZID=America/Halifax:20240326T144500
DTEND;TZID=America/Halifax:20240326T161500
DTSTAMP:20260421T020707
CREATED:20240328T172443Z
LAST-MODIFIED:20240328T172444Z
UID:10000426-1711464300-1711469700@hanwell.nbed.ca
SUMMARY:Girls Volleyball Practice - Team Green and Black
DESCRIPTION:
URL:https://hanwell.nbed.ca/calendar/girls-volleyball-practice-team-green-and-black-2/2024-03-26/
END:VEVENT
BEGIN:VEVENT
DTSTART;TZID=America/Halifax:20240326T160000
DTEND;TZID=America/Halifax:20240326T193000
DTSTAMP:20260421T020707
CREATED:20240315T113912Z
LAST-MODIFIED:20240315T113913Z
UID:10000419-1711468800-1711481400@hanwell.nbed.ca
SUMMARY:Girls Badminton Districts at HPA
DESCRIPTION:
URL:https://hanwell.nbed.ca/calendar/girls-badminton-districts-at-hpa/
CATEGORIES:Athletics
END:VEVENT
BEGIN:VEVENT
DTSTART;TZID=America/Halifax:20240327T144500
DTEND;TZID=America/Halifax:20240327T161500
DTSTAMP:20260421T020707
CREATED:20240322T235148Z
LAST-MODIFIED:20240322T235149Z
UID:10000424-1711550700-1711556100@hanwell.nbed.ca
SUMMARY:Girls Volleyball Practice - Team Green and Black
DESCRIPTION:
URL:https://hanwell.nbed.ca/calendar/girls-volleyball-practice-team-green-and-black/2024-03-27/
END:VEVENT
BEGIN:VEVENT
DTSTART;TZID=America/Halifax:20240327T144500
DTEND;TZID=America/Halifax:20240327T161500
DTSTAMP:20260421T020707
CREATED:20240328T172443Z
LAST-MODIFIED:20240328T172444Z
UID:10000427-1711550700-1711556100@hanwell.nbed.ca
SUMMARY:Girls Volleyball Practice - Team Green and Black
DESCRIPTION:
URL:https://hanwell.nbed.ca/calendar/girls-volleyball-practice-team-green-and-black-2/2024-03-27/
END:VEVENT
BEGIN:VEVENT
DTSTART;TZID=America/Halifax:20240327T170000
DTEND;TZID=America/Halifax:20240327T183000
DTSTAMP:20260421T020707
CREATED:20240321T120316Z
LAST-MODIFIED:20240321T120317Z
UID:10000423-1711558800-1711564200@hanwell.nbed.ca
SUMMARY:Boys Volleyball Tryout 1
DESCRIPTION:
URL:https://hanwell.nbed.ca/calendar/boys-volleyball-tryout-1-2/
CATEGORIES:Athletics
END:VEVENT
BEGIN:VEVENT
DTSTART;TZID=America/Halifax:20240328T144500
DTEND;TZID=America/Halifax:20240328T161500
DTSTAMP:20260421T020707
CREATED:20240322T235148Z
LAST-MODIFIED:20240322T235149Z
UID:10000425-1711637100-1711642500@hanwell.nbed.ca
SUMMARY:Girls Volleyball Practice - Team Green and Black
DESCRIPTION:
URL:https://hanwell.nbed.ca/calendar/girls-volleyball-practice-team-green-and-black/2024-03-28/
END:VEVENT
BEGIN:VEVENT
DTSTART;TZID=America/Halifax:20240328T144500
DTEND;TZID=America/Halifax:20240328T161500
DTSTAMP:20260421T020707
CREATED:20240328T172443Z
LAST-MODIFIED:20240328T172444Z
UID:10000428-1711637100-1711642500@hanwell.nbed.ca
SUMMARY:Girls Volleyball Practice - Team Green and Black
DESCRIPTION:
URL:https://hanwell.nbed.ca/calendar/girls-volleyball-practice-team-green-and-black-2/2024-03-28/
END:VEVENT
BEGIN:VEVENT
DTSTART;TZID=America/Halifax:20240328T170000
DTEND;TZID=America/Halifax:20240328T183000
DTSTAMP:20260421T020707
CREATED:20240321T113654Z
LAST-MODIFIED:20240321T120339Z
UID:10000422-1711645200-1711650600@hanwell.nbed.ca
SUMMARY:Boys Volleyball Tryout 2
DESCRIPTION:
URL:https://hanwell.nbed.ca/calendar/boys-volleyball-tryouts/
CATEGORIES:Athletics
END:VEVENT
BEGIN:VEVENT
DTSTART;TZID=America/Moncton:20240329T000000
DTEND;TZID=America/Moncton:20240329T235900
DTSTAMP:20260421T020707
CREATED:20230616T122805Z
LAST-MODIFIED:20230620T120223Z
UID:10000156-1711670400-1711756740@hanwell.nbed.ca
SUMMARY:Good Friday
DESCRIPTION:Schools closed.
URL:https://hanwell.nbed.ca/calendar/good-friday-2/
CATEGORIES:Current Students
END:VEVENT
END:VCALENDAR