BEGIN:VCALENDAR
VERSION:2.0
PRODID:-//Hanwell Park Academy - ECPv6.15.20//NONSGML v1.0//EN
CALSCALE:GREGORIAN
METHOD:PUBLISH
X-WR-CALNAME:Hanwell Park Academy
X-ORIGINAL-URL:https://hanwell.nbed.ca
X-WR-CALDESC:Events for Hanwell Park Academy
REFRESH-INTERVAL;VALUE=DURATION:PT1H
X-Robots-Tag:noindex
X-PUBLISHED-TTL:PT1H
BEGIN:VTIMEZONE
TZID:America/Halifax
BEGIN:DAYLIGHT
TZOFFSETFROM:-0400
TZOFFSETTO:-0300
TZNAME:ADT
DTSTART:20240310T060000
END:DAYLIGHT
BEGIN:STANDARD
TZOFFSETFROM:-0300
TZOFFSETTO:-0400
TZNAME:AST
DTSTART:20241103T050000
END:STANDARD
BEGIN:DAYLIGHT
TZOFFSETFROM:-0400
TZOFFSETTO:-0300
TZNAME:ADT
DTSTART:20250309T060000
END:DAYLIGHT
BEGIN:STANDARD
TZOFFSETFROM:-0300
TZOFFSETTO:-0400
TZNAME:AST
DTSTART:20251102T050000
END:STANDARD
BEGIN:DAYLIGHT
TZOFFSETFROM:-0400
TZOFFSETTO:-0300
TZNAME:ADT
DTSTART:20260308T060000
END:DAYLIGHT
BEGIN:STANDARD
TZOFFSETFROM:-0300
TZOFFSETTO:-0400
TZNAME:AST
DTSTART:20261101T050000
END:STANDARD
END:VTIMEZONE
BEGIN:VEVENT
DTSTART;TZID=America/Halifax:20250401T143000
DTEND;TZID=America/Halifax:20250401T160000
DTSTAMP:20260420T042132
CREATED:20250328T155641Z
LAST-MODIFIED:20250328T155643Z
UID:10000736-1743517800-1743523200@hanwell.nbed.ca
SUMMARY:Girls Volleyball (Green ) Practice
DESCRIPTION:
URL:https://hanwell.nbed.ca/calendar/girls-volleyball-green-practice-2/
CATEGORIES:Athletics
END:VEVENT
BEGIN:VEVENT
DTSTART;TZID=America/Halifax:20250401T160000
DTEND;TZID=America/Halifax:20250401T174500
DTSTAMP:20260420T042132
CREATED:20250328T155846Z
LAST-MODIFIED:20250328T155847Z
UID:10000738-1743523200-1743529500@hanwell.nbed.ca
SUMMARY:Girls Volleyball (Black) Practice
DESCRIPTION:
URL:https://hanwell.nbed.ca/calendar/girls-volleyball-black-practice-3/
CATEGORIES:Athletics
END:VEVENT
BEGIN:VEVENT
DTSTART;TZID=America/Halifax:20250402T160000
DTEND;TZID=America/Halifax:20250402T173000
DTSTAMP:20260420T042132
CREATED:20250326T162411Z
LAST-MODIFIED:20250326T162413Z
UID:10000727-1743609600-1743615000@hanwell.nbed.ca
SUMMARY:Boys Volleyball Practice
DESCRIPTION:
URL:https://hanwell.nbed.ca/calendar/boys-volleyball-practice-21/2025-04-02/
CATEGORIES:Athletics
END:VEVENT
BEGIN:VEVENT
DTSTART;TZID=America/Halifax:20250402T161500
DTEND;TZID=America/Halifax:20250402T174500
DTSTAMP:20260420T042132
CREATED:20250328T155741Z
LAST-MODIFIED:20250401T102858Z
UID:10000737-1743610500-1743615900@hanwell.nbed.ca
SUMMARY:Cancelled - Girls Volleyball (Green) Practice
DESCRIPTION:
URL:https://hanwell.nbed.ca/calendar/girls-volleyball-green-practice-3/
CATEGORIES:Athletics
END:VEVENT
BEGIN:VEVENT
DTSTART;TZID=America/Halifax:20250402T170000
DTEND;TZID=America/Halifax:20250402T183000
DTSTAMP:20260420T042132
CREATED:20250323T180435Z
LAST-MODIFIED:20250323T180437Z
UID:10000715-1743613200-1743618600@hanwell.nbed.ca
SUMMARY:Girls Volleyball (Black) Match at McAdam
DESCRIPTION:
URL:https://hanwell.nbed.ca/calendar/girls-volleyball-black-match-at-mcadam/
CATEGORIES:Athletics
END:VEVENT
BEGIN:VEVENT
DTSTART;TZID=America/Halifax:20250403T141500
DTEND;TZID=America/Halifax:20250403T160000
DTSTAMP:20260420T042132
CREATED:20250328T155945Z
LAST-MODIFIED:20250401T105051Z
UID:10000739-1743689700-1743696000@hanwell.nbed.ca
SUMMARY:Cancelled - Girls Volleyball (Black) Practice
DESCRIPTION:
URL:https://hanwell.nbed.ca/calendar/girls-volleyball-black-practice-4/
CATEGORIES:Athletics
END:VEVENT
BEGIN:VEVENT
DTSTART;TZID=America/Halifax:20250403T170000
DTEND;TZID=America/Halifax:20250403T183000
DTSTAMP:20260420T042132
CREATED:20250323T181103Z
LAST-MODIFIED:20250403T101443Z
UID:10000721-1743699600-1743705000@hanwell.nbed.ca
SUMMARY:Postponed - Boys Volleyball Match at FCA (Unity Centre)
DESCRIPTION:
URL:https://hanwell.nbed.ca/calendar/boys-volleyball-match-at-fca-unity-centre/
CATEGORIES:Athletics
END:VEVENT
BEGIN:VEVENT
DTSTART;TZID=America/Halifax:20250403T170000
DTEND;TZID=America/Halifax:20250403T183000
DTSTAMP:20260420T042132
CREATED:20250401T163110Z
LAST-MODIFIED:20250403T101522Z
UID:10000742-1743699600-1743705000@hanwell.nbed.ca
SUMMARY:Cancelled -Basketball Skills and Drills
DESCRIPTION:
URL:https://hanwell.nbed.ca/calendar/basketball-skills-and-drills-3/
CATEGORIES:Athletics
END:VEVENT
BEGIN:VEVENT
DTSTART;TZID=America/Halifax:20250403T183000
DTEND;TZID=America/Halifax:20250403T200000
DTSTAMP:20260420T042132
CREATED:20250323T175711Z
LAST-MODIFIED:20250403T101553Z
UID:10000709-1743705000-1743710400@hanwell.nbed.ca
SUMMARY:Postponed - Girls Volleyball (Green) Match at CNBA
DESCRIPTION:
URL:https://hanwell.nbed.ca/calendar/girls-volleyball-green-match-at-cnba/
CATEGORIES:Athletics
END:VEVENT
BEGIN:VEVENT
DTSTART;TZID=America/Halifax:20250407T080000
DTEND;TZID=America/Halifax:20250411T110000
DTSTAMP:20260420T042132
CREATED:20250409T010020Z
LAST-MODIFIED:20250409T010021Z
UID:10000755-1744012800-1744369200@hanwell.nbed.ca
SUMMARY:Book Fair
DESCRIPTION:Book Fair at the school all week.
URL:https://hanwell.nbed.ca/calendar/book-fair/
END:VEVENT
BEGIN:VEVENT
DTSTART;TZID=America/Halifax:20250407T143000
DTEND;TZID=America/Halifax:20250407T160000
DTSTAMP:20260420T042132
CREATED:20250326T162829Z
LAST-MODIFIED:20250326T162831Z
UID:10000733-1744036200-1744041600@hanwell.nbed.ca
SUMMARY:Boys Volleyball Practice
DESCRIPTION:
URL:https://hanwell.nbed.ca/calendar/boys-volleyball-practice-22/2025-04-07/
CATEGORIES:Athletics
END:VEVENT
BEGIN:VEVENT
DTSTART;TZID=America/Halifax:20250407T170000
DTEND;TZID=America/Halifax:20250407T183000
DTSTAMP:20260420T042132
CREATED:20250401T163148Z
LAST-MODIFIED:20250407T102725Z
UID:10000743-1744045200-1744050600@hanwell.nbed.ca
SUMMARY:Cancelled - Basketball Skills and Drills
DESCRIPTION:
URL:https://hanwell.nbed.ca/calendar/basketball-skills-and-drills-4/
CATEGORIES:Athletics
END:VEVENT
BEGIN:VEVENT
DTSTART;TZID=America/Halifax:20250408T160000
DTEND;TZID=America/Halifax:20250408T174500
DTSTAMP:20260420T042132
CREATED:20250407T112410Z
LAST-MODIFIED:20250407T112411Z
UID:10000746-1744128000-1744134300@hanwell.nbed.ca
SUMMARY:Girls Volleyball (Black) Practice
DESCRIPTION:
URL:https://hanwell.nbed.ca/calendar/girls-volleyball-black-practice-5/
CATEGORIES:Athletics
END:VEVENT
BEGIN:VEVENT
DTSTART;TZID=America/Halifax:20250408T170000
DTEND;TZID=America/Halifax:20250408T183000
DTSTAMP:20260420T042132
CREATED:20250323T175826Z
LAST-MODIFIED:20250323T175828Z
UID:10000710-1744131600-1744137000@hanwell.nbed.ca
SUMMARY:Girls Volleyball (Green) Match vs Harvey at HPA
DESCRIPTION:
URL:https://hanwell.nbed.ca/calendar/girls-volleyball-green-match-vs-harvey-at-hpa/
CATEGORIES:Athletics
END:VEVENT
BEGIN:VEVENT
DTSTART;TZID=America/Halifax:20250409T160000
DTEND;TZID=America/Halifax:20250409T173000
DTSTAMP:20260420T042132
CREATED:20250326T162411Z
LAST-MODIFIED:20250326T162413Z
UID:10000728-1744214400-1744219800@hanwell.nbed.ca
SUMMARY:Boys Volleyball Practice
DESCRIPTION:
URL:https://hanwell.nbed.ca/calendar/boys-volleyball-practice-21/2025-04-09/
CATEGORIES:Athletics
END:VEVENT
BEGIN:VEVENT
DTSTART;TZID=America/Halifax:20250409T161500
DTEND;TZID=America/Halifax:20250409T174500
DTSTAMP:20260420T042132
CREATED:20250407T165531Z
LAST-MODIFIED:20250407T165532Z
UID:10000747-1744215300-1744220700@hanwell.nbed.ca
SUMMARY:Girls Volleyball (Green) Practice
DESCRIPTION:
URL:https://hanwell.nbed.ca/calendar/girls-volleyball-green-practice-4/
CATEGORIES:Athletics
END:VEVENT
BEGIN:VEVENT
DTSTART;TZID=America/Halifax:20250409T170000
DTEND;TZID=America/Halifax:20250409T183000
DTSTAMP:20260420T042132
CREATED:20250323T180538Z
LAST-MODIFIED:20250323T180539Z
UID:10000716-1744218000-1744223400@hanwell.nbed.ca
SUMMARY:Girls Volleyball (Black) Match vs FCA at HPA
DESCRIPTION:
URL:https://hanwell.nbed.ca/calendar/girls-volleyball-black-match-vs-fca-at-hpa/
CATEGORIES:Athletics
END:VEVENT
BEGIN:VEVENT
DTSTART;TZID=America/Halifax:20250410T170000
DTEND;TZID=America/Halifax:20250410T183000
DTSTAMP:20260420T042132
CREATED:20250323T181145Z
LAST-MODIFIED:20250323T181147Z
UID:10000722-1744304400-1744309800@hanwell.nbed.ca
SUMMARY:Boys Volleyball Match vs Harvey at HPA
DESCRIPTION:
URL:https://hanwell.nbed.ca/calendar/boys-volleyball-match-vs-harvey-at-hpa-2/
CATEGORIES:Athletics
END:VEVENT
BEGIN:VEVENT
DTSTART;TZID=America/Halifax:20250410T170000
DTEND;TZID=America/Halifax:20250410T190000
DTSTAMP:20260420T042132
CREATED:20250409T005522Z
LAST-MODIFIED:20250409T005523Z
UID:10000750-1744304400-1744311600@hanwell.nbed.ca
SUMMARY:Parent Teacher Conversations
DESCRIPTION:
URL:https://hanwell.nbed.ca/calendar/parent-teacher-conversations-3/
END:VEVENT
BEGIN:VEVENT
DTSTART;TZID=America/Halifax:20250411T080000
DTEND;TZID=America/Halifax:20250411T141500
DTSTAMP:20260420T042132
CREATED:20250409T005550Z
LAST-MODIFIED:20250409T010115Z
UID:10000751-1744358400-1744380900@hanwell.nbed.ca
SUMMARY:Easter Monday/No School for Students
DESCRIPTION:
URL:https://hanwell.nbed.ca/calendar/no-school-for-students-2/
END:VEVENT
BEGIN:VEVENT
DTSTART;TZID=America/Halifax:20250411T083000
DTEND;TZID=America/Halifax:20250411T113000
DTSTAMP:20260420T042132
CREATED:20250409T005443Z
LAST-MODIFIED:20250409T005444Z
UID:10000749-1744360200-1744371000@hanwell.nbed.ca
SUMMARY:Parent Teacher Conversations
DESCRIPTION:
URL:https://hanwell.nbed.ca/calendar/parent-teacher-conversations-2/
END:VEVENT
BEGIN:VEVENT
DTSTART;TZID=America/Halifax:20250414T143000
DTEND;TZID=America/Halifax:20250414T160000
DTSTAMP:20260420T042132
CREATED:20250326T162829Z
LAST-MODIFIED:20250326T162831Z
UID:10000734-1744641000-1744646400@hanwell.nbed.ca
SUMMARY:Boys Volleyball Practice
DESCRIPTION:
URL:https://hanwell.nbed.ca/calendar/boys-volleyball-practice-22/2025-04-14/
CATEGORIES:Athletics
END:VEVENT
BEGIN:VEVENT
DTSTART;TZID=America/Halifax:20250414T170000
DTEND;TZID=America/Halifax:20250414T183000
DTSTAMP:20260420T042132
CREATED:20250414T102325Z
LAST-MODIFIED:20250414T102326Z
UID:10000768-1744650000-1744655400@hanwell.nbed.ca
SUMMARY:Basketball Skills and Drills (Grades 5-8)
DESCRIPTION:
URL:https://hanwell.nbed.ca/calendar/basketball-skills-and-drills-grades-5-8/
CATEGORIES:Athletics
END:VEVENT
BEGIN:VEVENT
DTSTART;TZID=America/Halifax:20250415T160000
DTEND;TZID=America/Halifax:20250415T174500
DTSTAMP:20260420T042132
CREATED:20250414T102911Z
LAST-MODIFIED:20250414T102913Z
UID:10000769-1744732800-1744739100@hanwell.nbed.ca
SUMMARY:Girls Volleyball (Black) Practice
DESCRIPTION:
URL:https://hanwell.nbed.ca/calendar/girls-volleyball-black-practice-6/
CATEGORIES:Athletics
END:VEVENT
BEGIN:VEVENT
DTSTART;TZID=America/Halifax:20250415T170000
DTEND;TZID=America/Halifax:20250415T183000
DTSTAMP:20260420T042132
CREATED:20250323T175929Z
LAST-MODIFIED:20250323T175930Z
UID:10000711-1744736400-1744741800@hanwell.nbed.ca
SUMMARY:Girls Volleyball (Green) Match vs CNBA at HPA
DESCRIPTION:
URL:https://hanwell.nbed.ca/calendar/girls-volleyball-green-match-vs-cnba-at-hpa/
CATEGORIES:Athletics
END:VEVENT
BEGIN:VEVENT
DTSTART;TZID=America/Halifax:20250415T183000
DTEND;TZID=America/Halifax:20250415T200000
DTSTAMP:20260420T042132
CREATED:20250323T181240Z
LAST-MODIFIED:20250323T181242Z
UID:10000723-1744741800-1744747200@hanwell.nbed.ca
SUMMARY:Boys Volleyball Match at Stanley
DESCRIPTION:
URL:https://hanwell.nbed.ca/calendar/boys-volleyball-match-at-stanley/
CATEGORIES:Athletics
END:VEVENT
BEGIN:VEVENT
DTSTART;TZID=America/Halifax:20250416T161500
DTEND;TZID=America/Halifax:20250416T174500
DTSTAMP:20260420T042132
CREATED:20250416T140601Z
LAST-MODIFIED:20250416T140603Z
UID:10000772-1744820100-1744825500@hanwell.nbed.ca
SUMMARY:Girls Volleyball (Green) Practice
DESCRIPTION:
URL:https://hanwell.nbed.ca/calendar/girls-volleyball-green-practice-5/
CATEGORIES:Athletics
END:VEVENT
BEGIN:VEVENT
DTSTART;TZID=America/Halifax:20250416T170000
DTEND;TZID=America/Halifax:20250416T183000
DTSTAMP:20260420T042132
CREATED:20250323T180647Z
LAST-MODIFIED:20250323T180648Z
UID:10000717-1744822800-1744828200@hanwell.nbed.ca
SUMMARY:Girls Volleyball (Black) Match vs BCMS at HPA
DESCRIPTION:
URL:https://hanwell.nbed.ca/calendar/girls-volleyball-black-match-vs-bcms-at-hpa/
CATEGORIES:Athletics
END:VEVENT
BEGIN:VEVENT
DTSTART;TZID=America/Halifax:20250417T160000
DTEND;TZID=America/Halifax:20250417T173000
DTSTAMP:20260420T042132
CREATED:20250410T194311Z
LAST-MODIFIED:20250410T194314Z
UID:10000729-1744905600-1744911000@hanwell.nbed.ca
SUMMARY:Boys Volleyball Practice
DESCRIPTION:
URL:https://hanwell.nbed.ca/calendar/boys-volleyball-practice-23/2025-04-17/
CATEGORIES:Athletics
END:VEVENT
BEGIN:VEVENT
DTSTART;TZID=America/Halifax:20250417T160000
DTEND;TZID=America/Halifax:20250417T174500
DTSTAMP:20260420T042132
CREATED:20250414T145412Z
LAST-MODIFIED:20250414T145414Z
UID:10000770-1744905600-1744911900@hanwell.nbed.ca
SUMMARY:Girls Volleyball (Black) Practice
DESCRIPTION:
URL:https://hanwell.nbed.ca/calendar/girls-volleyball-black-practice-7/
CATEGORIES:Athletics
END:VEVENT
END:VCALENDAR