BEGIN:VCALENDAR
VERSION:2.0
PRODID:-//Hanwell Park Academy - ECPv6.15.20//NONSGML v1.0//EN
CALSCALE:GREGORIAN
METHOD:PUBLISH
X-ORIGINAL-URL:https://hanwell.nbed.ca
X-WR-CALDESC:Events for Hanwell Park Academy
REFRESH-INTERVAL;VALUE=DURATION:PT1H
X-Robots-Tag:noindex
X-PUBLISHED-TTL:PT1H
BEGIN:VTIMEZONE
TZID:America/Halifax
BEGIN:DAYLIGHT
TZOFFSETFROM:-0400
TZOFFSETTO:-0300
TZNAME:ADT
DTSTART:20240310T060000
END:DAYLIGHT
BEGIN:STANDARD
TZOFFSETFROM:-0300
TZOFFSETTO:-0400
TZNAME:AST
DTSTART:20241103T050000
END:STANDARD
BEGIN:DAYLIGHT
TZOFFSETFROM:-0400
TZOFFSETTO:-0300
TZNAME:ADT
DTSTART:20250309T060000
END:DAYLIGHT
BEGIN:STANDARD
TZOFFSETFROM:-0300
TZOFFSETTO:-0400
TZNAME:AST
DTSTART:20251102T050000
END:STANDARD
BEGIN:DAYLIGHT
TZOFFSETFROM:-0400
TZOFFSETTO:-0300
TZNAME:ADT
DTSTART:20260308T060000
END:DAYLIGHT
BEGIN:STANDARD
TZOFFSETFROM:-0300
TZOFFSETTO:-0400
TZNAME:AST
DTSTART:20261101T050000
END:STANDARD
BEGIN:DAYLIGHT
TZOFFSETFROM:-0400
TZOFFSETTO:-0300
TZNAME:ADT
DTSTART:20270314T060000
END:DAYLIGHT
BEGIN:STANDARD
TZOFFSETFROM:-0300
TZOFFSETTO:-0400
TZNAME:AST
DTSTART:20271107T050000
END:STANDARD
END:VTIMEZONE
BEGIN:VEVENT
DTSTART;TZID=America/Halifax:20251201T140000
DTEND;TZID=America/Halifax:20251201T143000
DTSTAMP:20260419T153425
CREATED:20250904T201934Z
LAST-MODIFIED:20250904T201936Z
UID:10000822-1764597600-1764599400@hanwell.nbed.ca
SUMMARY:Report Cards Issued Grades K-8
DESCRIPTION:
URL:https://hanwell.nbed.ca/calendar/report-cards-issued-grades-k-8/
END:VEVENT
BEGIN:VEVENT
DTSTART;TZID=America/Halifax:20251201T143000
DTEND;TZID=America/Halifax:20251201T153000
DTSTAMP:20260419T153425
CREATED:20251127T164119Z
LAST-MODIFIED:20251127T164121Z
UID:10000976-1764599400-1764603000@hanwell.nbed.ca
SUMMARY:Boys Badminton Practice
DESCRIPTION:
URL:https://hanwell.nbed.ca/calendar/boys-badminton-practice-20/
END:VEVENT
BEGIN:VEVENT
DTSTART;TZID=America/Halifax:20251201T161500
DTEND;TZID=America/Halifax:20251201T173000
DTSTAMP:20260419T153425
CREATED:20251113T180805Z
LAST-MODIFIED:20251113T180807Z
UID:10000967-1764605700-1764610200@hanwell.nbed.ca
SUMMARY:Girls Badminton Practice
DESCRIPTION:
URL:https://hanwell.nbed.ca/calendar/girls-badminton-practice-23/
END:VEVENT
BEGIN:VEVENT
DTSTART;TZID=America/Halifax:20251202T143000
DTEND;TZID=America/Halifax:20251202T153000
DTSTAMP:20260419T153425
CREATED:20251127T164149Z
LAST-MODIFIED:20251201T153524Z
UID:10000977-1764685800-1764689400@hanwell.nbed.ca
SUMMARY:Cancelled - Boys Badminton Practice
DESCRIPTION:
URL:https://hanwell.nbed.ca/calendar/boys-badminton-practice-21/
END:VEVENT
BEGIN:VEVENT
DTSTART;TZID=America/Halifax:20251204T170000
DTEND;TZID=America/Halifax:20251204T183000
DTSTAMP:20260419T153425
CREATED:20251201T120417Z
LAST-MODIFIED:20251201T120420Z
UID:10000978-1764867600-1764873000@hanwell.nbed.ca
SUMMARY:Boys Basketball Skills and Drills
DESCRIPTION:
URL:https://hanwell.nbed.ca/calendar/boys-basketball-skills-and-drills/
END:VEVENT
BEGIN:VEVENT
DTSTART;TZID=America/Halifax:20251205T083000
DTEND;TZID=America/Halifax:20251205T113000
DTSTAMP:20260419T153425
CREATED:20250904T202033Z
LAST-MODIFIED:20250904T202442Z
UID:10000823-1764923400-1764934200@hanwell.nbed.ca
SUMMARY:Grades K-8 Parent Teacher Conversations (No School for Students)
DESCRIPTION:
URL:https://hanwell.nbed.ca/calendar/grades-k-8-parent-teacher-conversations-am/
END:VEVENT
BEGIN:VEVENT
DTSTART;TZID=America/Halifax:20251205T113000
DTEND;TZID=America/Halifax:20251205T143000
DTSTAMP:20260419T153425
CREATED:20250904T202129Z
LAST-MODIFIED:20250904T202131Z
UID:10000824-1764934200-1764945000@hanwell.nbed.ca
SUMMARY:Professional Learning Day (No School for Students)
DESCRIPTION:
URL:https://hanwell.nbed.ca/calendar/professional-learning-day-no-school-for-students/
END:VEVENT
BEGIN:VEVENT
DTSTART;TZID=America/Halifax:20251208T143000
DTEND;TZID=America/Halifax:20251208T153000
DTSTAMP:20260419T153425
CREATED:20251204T122640Z
LAST-MODIFIED:20251204T122643Z
UID:10000985-1765204200-1765207800@hanwell.nbed.ca
SUMMARY:Boys Badminton Practice
DESCRIPTION:
URL:https://hanwell.nbed.ca/calendar/boys-badminton-practice-22/2025-12-08/
END:VEVENT
BEGIN:VEVENT
DTSTART;TZID=America/Halifax:20251208T161500
DTEND;TZID=America/Halifax:20251208T173000
DTSTAMP:20260419T153425
CREATED:20251113T180837Z
LAST-MODIFIED:20251113T180840Z
UID:10000968-1765210500-1765215000@hanwell.nbed.ca
SUMMARY:Girls Badminton Practice
DESCRIPTION:
URL:https://hanwell.nbed.ca/calendar/girls-badminton-practice-24/
END:VEVENT
BEGIN:VEVENT
DTSTART;TZID=America/Halifax:20251209T143000
DTEND;TZID=America/Halifax:20251209T153000
DTSTAMP:20260419T153425
CREATED:20251204T122640Z
LAST-MODIFIED:20251204T122643Z
UID:10000986-1765290600-1765294200@hanwell.nbed.ca
SUMMARY:Boys Badminton Practice
DESCRIPTION:
URL:https://hanwell.nbed.ca/calendar/boys-badminton-practice-22/2025-12-09/
END:VEVENT
BEGIN:VEVENT
DTSTART;TZID=America/Halifax:20251210T153000
DTEND;TZID=America/Halifax:20251210T163000
DTSTAMP:20260419T153425
CREATED:20251113T180927Z
LAST-MODIFIED:20251201T142330Z
UID:10000969-1765380600-1765384200@hanwell.nbed.ca
SUMMARY:Cancelled - Girls Badminton Practice
DESCRIPTION:
URL:https://hanwell.nbed.ca/calendar/girls-badminton-practice-25/
END:VEVENT
BEGIN:VEVENT
DTSTART;TZID=America/Halifax:20251210T170000
DTEND;TZID=America/Halifax:20251210T183000
DTSTAMP:20260419T153425
CREATED:20251204T213542Z
LAST-MODIFIED:20251210T172541Z
UID:10000987-1765386000-1765391400@hanwell.nbed.ca
SUMMARY:Cancelled - Girls Basketball Skills and Drills
DESCRIPTION:
URL:https://hanwell.nbed.ca/calendar/girls-basketball-skills-and-drills-3/
END:VEVENT
BEGIN:VEVENT
DTSTART;TZID=America/Halifax:20251211T153000
DTEND;TZID=America/Halifax:20251211T164500
DTSTAMP:20260419T153425
CREATED:20251113T181016Z
LAST-MODIFIED:20251211T134607Z
UID:10000970-1765467000-1765471500@hanwell.nbed.ca
SUMMARY:Cancelled - Girls Badminton Practice
DESCRIPTION:
URL:https://hanwell.nbed.ca/calendar/girls-badminton-practice-26/
END:VEVENT
BEGIN:VEVENT
DTSTART;TZID=America/Halifax:20251211T170000
DTEND;TZID=America/Halifax:20251211T183000
DTSTAMP:20260419T153425
CREATED:20251027T163323Z
LAST-MODIFIED:20251027T163325Z
UID:10000889-1765472400-1765477800@hanwell.nbed.ca
SUMMARY:School Dance Grades 3-5
DESCRIPTION:
URL:https://hanwell.nbed.ca/calendar/school-dance-grades-3-5-3/
END:VEVENT
BEGIN:VEVENT
DTSTART;TZID=America/Halifax:20251211T190000
DTEND;TZID=America/Halifax:20251211T203000
DTSTAMP:20260419T153425
CREATED:20251027T164104Z
LAST-MODIFIED:20251027T164105Z
UID:10000892-1765479600-1765485000@hanwell.nbed.ca
SUMMARY:School Dance Grades 6-8
DESCRIPTION:
URL:https://hanwell.nbed.ca/calendar/school-dance-grades-6-8-3/2025-12-11/
END:VEVENT
BEGIN:VEVENT
DTSTART;TZID=America/Halifax:20251215T163000
DTEND;TZID=America/Halifax:20251215T193000
DTSTAMP:20260419T153425
CREATED:20251204T112953Z
LAST-MODIFIED:20251204T112956Z
UID:10000981-1765816200-1765827000@hanwell.nbed.ca
SUMMARY:Boys Badminton Districts at HPA
DESCRIPTION:
URL:https://hanwell.nbed.ca/calendar/boys-badminton-districts-at-hpa/
END:VEVENT
BEGIN:VEVENT
DTSTART;TZID=America/Halifax:20251215T170000
DTEND;TZID=America/Halifax:20251215T183000
DTSTAMP:20260419T153425
CREATED:20251205T114558Z
LAST-MODIFIED:20251212T121922Z
UID:10000990-1765818000-1765823400@hanwell.nbed.ca
SUMMARY:Cancelled - Girls Basketball Skills and Drills
DESCRIPTION:
URL:https://hanwell.nbed.ca/calendar/girls-basketball-skills-and-drills-4/
END:VEVENT
BEGIN:VEVENT
DTSTART;TZID=America/Halifax:20251216T141500
DTEND;TZID=America/Halifax:20251216T154500
DTSTAMP:20260419T153425
CREATED:20251215T122509Z
LAST-MODIFIED:20251215T122512Z
UID:10000993-1765894500-1765899900@hanwell.nbed.ca
SUMMARY:Girls Basketball Skills and Drills
DESCRIPTION:
URL:https://hanwell.nbed.ca/calendar/girls-basketball-skills-and-drills-5/
END:VEVENT
BEGIN:VEVENT
DTSTART;TZID=America/Halifax:20251216T161500
DTEND;TZID=America/Halifax:20251216T173000
DTSTAMP:20260419T153425
CREATED:20251204T112916Z
LAST-MODIFIED:20251204T112918Z
UID:10000979-1765901700-1765906200@hanwell.nbed.ca
SUMMARY:Girls Badminton Practice
DESCRIPTION:
URL:https://hanwell.nbed.ca/calendar/girls-badminton-practice-27/2025-12-16/
END:VEVENT
BEGIN:VEVENT
DTSTART;TZID=America/Halifax:20251216T170000
DTEND;TZID=America/Halifax:20251216T183000
DTSTAMP:20260419T153425
CREATED:20251210T172649Z
LAST-MODIFIED:20251210T172652Z
UID:10000991-1765904400-1765909800@hanwell.nbed.ca
SUMMARY:Boys Basketball Tryout 1
DESCRIPTION:
URL:https://hanwell.nbed.ca/calendar/boys-basketball-tryout-1/
END:VEVENT
BEGIN:VEVENT
DTSTART;TZID=America/Halifax:20251217T161500
DTEND;TZID=America/Halifax:20251217T173000
DTSTAMP:20260419T153425
CREATED:20251204T112916Z
LAST-MODIFIED:20251204T112918Z
UID:10000980-1765988100-1765992600@hanwell.nbed.ca
SUMMARY:Girls Badminton Practice
DESCRIPTION:
URL:https://hanwell.nbed.ca/calendar/girls-badminton-practice-27/2025-12-17/
END:VEVENT
BEGIN:VEVENT
DTSTART;TZID=America/Halifax:20251218T163000
DTEND;TZID=America/Halifax:20251218T193000
DTSTAMP:20260419T153425
CREATED:20251204T113111Z
LAST-MODIFIED:20251211T134519Z
UID:10000982-1766075400-1766086200@hanwell.nbed.ca
SUMMARY:Girls Badminton Districts at CNBA
DESCRIPTION:
URL:https://hanwell.nbed.ca/calendar/girls-badminton-districts-at-cnba-start-time-tbd/
END:VEVENT
BEGIN:VEVENT
DTSTART;TZID=America/Halifax:20251219T080000
DTEND;TZID=America/Halifax:20251219T143000
DTSTAMP:20260419T153425
CREATED:20250904T202159Z
LAST-MODIFIED:20250904T202203Z
UID:10000825-1766131200-1766154600@hanwell.nbed.ca
SUMMARY:Last Day of Classes
DESCRIPTION:
URL:https://hanwell.nbed.ca/calendar/last-day-of-classes-2/
END:VEVENT
BEGIN:VEVENT
DTSTART;TZID=America/Halifax:20251222T080000
DTEND;TZID=America/Halifax:20260102T143000
DTSTAMP:20260419T153425
CREATED:20250904T202249Z
LAST-MODIFIED:20250904T202252Z
UID:10000826-1766390400-1767364200@hanwell.nbed.ca
SUMMARY:Winter Break
DESCRIPTION:
URL:https://hanwell.nbed.ca/calendar/winter-break/
END:VEVENT
END:VCALENDAR